BEGIN:VCALENDAR
VERSION:2.0
PRODID:-//Comox Valley Head Injury Society - ECPv6.15.17.1//NONSGML v1.0//EN
CALSCALE:GREGORIAN
METHOD:PUBLISH
X-WR-CALNAME:Comox Valley Head Injury Society
X-ORIGINAL-URL:https://cvhis.org
X-WR-CALDESC:Events for Comox Valley Head Injury Society
REFRESH-INTERVAL;VALUE=DURATION:PT1H
X-Robots-Tag:noindex
X-PUBLISHED-TTL:PT1H
BEGIN:VTIMEZONE
TZID:America/Vancouver
BEGIN:DAYLIGHT
TZOFFSETFROM:-0800
TZOFFSETTO:-0700
TZNAME:PDT
DTSTART:20250309T100000
END:DAYLIGHT
BEGIN:STANDARD
TZOFFSETFROM:-0700
TZOFFSETTO:-0800
TZNAME:PST
DTSTART:20251102T090000
END:STANDARD
BEGIN:DAYLIGHT
TZOFFSETFROM:-0800
TZOFFSETTO:-0700
TZNAME:PDT
DTSTART:20260308T100000
END:DAYLIGHT
BEGIN:STANDARD
TZOFFSETFROM:-0700
TZOFFSETTO:-0800
TZNAME:PST
DTSTART:20261101T090000
END:STANDARD
BEGIN:DAYLIGHT
TZOFFSETFROM:-0800
TZOFFSETTO:-0700
TZNAME:PDT
DTSTART:20270314T100000
END:DAYLIGHT
BEGIN:STANDARD
TZOFFSETFROM:-0700
TZOFFSETTO:-0800
TZNAME:PST
DTSTART:20271107T090000
END:STANDARD
END:VTIMEZONE
BEGIN:VEVENT
DTSTART;TZID=America/Vancouver:20260421T113000
DTEND;TZID=America/Vancouver:20260421T123000
DTSTAMP:20260421T025912
CREATED:20240326T192956Z
LAST-MODIFIED:20251201T201229Z
UID:10002190-1776771000-1776774600@cvhis.org
SUMMARY:Lunch at the Legion
DESCRIPTION:367 Cliff Ave. \nDoors open 11:30\, lunch served until 12:30.  Eat in or take out options available. Choice of 2 sandwiches\, salad\, fruit\, coffee/tea or water. \nSurvivors $2.00\, friends & family $5.00
URL:https://cvhis.org/event/lunch-at-the-legion/2026-04-21/
END:VEVENT
BEGIN:VEVENT
DTSTART;TZID=America/Vancouver:20260421T124500
DTEND;TZID=America/Vancouver:20260421T133000
DTSTAMP:20260421T025912
CREATED:20250218T213024Z
LAST-MODIFIED:20251201T204729Z
UID:10011288-1776775500-1776778200@cvhis.org
SUMMARY:One on One Counselling
DESCRIPTION:Do you need help?  Would you like to talk to someone?  Make an appointment with one of our certified therapists who work in partnership with our Society.  Liz Radermacher BA\, MA\, RCC from Pacific Therapy Counselling has appointments available on Tuesdays at 12:45.  To book an appointment\, please call 250-334-9225 or email:  info.cvhis@gmail.com
URL:https://cvhis.org/event/one-on-one-counselling-2-2/2026-04-21/
END:VEVENT
BEGIN:VEVENT
DTSTART;TZID=America/Vancouver:20260421T133000
DTEND;TZID=America/Vancouver:20260421T143000
DTSTAMP:20260421T025912
CREATED:20250715T190922Z
LAST-MODIFIED:20251201T203242Z
UID:10012983-1776778200-1776781800@cvhis.org
SUMMARY:Headcases Band Open Jam Session
DESCRIPTION:This is an open jam session with our in house band The Headcases.  Everyone welcome to join in.
URL:https://cvhis.org/event/headcases-band-open-jam-session-2/2026-04-21/
END:VEVENT
END:VCALENDAR