BEGIN:VCALENDAR
VERSION:2.0
PRODID:-//Comox Valley Head Injury Society - ECPv6.15.17.1//NONSGML v1.0//EN
CALSCALE:GREGORIAN
METHOD:PUBLISH
X-WR-CALNAME:Comox Valley Head Injury Society
X-ORIGINAL-URL:https://cvhis.org
X-WR-CALDESC:Events for Comox Valley Head Injury Society
REFRESH-INTERVAL;VALUE=DURATION:PT1H
X-Robots-Tag:noindex
X-PUBLISHED-TTL:PT1H
BEGIN:VTIMEZONE
TZID:America/Vancouver
BEGIN:DAYLIGHT
TZOFFSETFROM:-0800
TZOFFSETTO:-0700
TZNAME:PDT
DTSTART:20220313T100000
END:DAYLIGHT
BEGIN:STANDARD
TZOFFSETFROM:-0700
TZOFFSETTO:-0800
TZNAME:PST
DTSTART:20221106T090000
END:STANDARD
BEGIN:DAYLIGHT
TZOFFSETFROM:-0800
TZOFFSETTO:-0700
TZNAME:PDT
DTSTART:20230312T100000
END:DAYLIGHT
BEGIN:STANDARD
TZOFFSETFROM:-0700
TZOFFSETTO:-0800
TZNAME:PST
DTSTART:20231105T090000
END:STANDARD
BEGIN:DAYLIGHT
TZOFFSETFROM:-0800
TZOFFSETTO:-0700
TZNAME:PDT
DTSTART:20240310T100000
END:DAYLIGHT
BEGIN:STANDARD
TZOFFSETFROM:-0700
TZOFFSETTO:-0800
TZNAME:PST
DTSTART:20241103T090000
END:STANDARD
END:VTIMEZONE
BEGIN:VEVENT
DTSTART;TZID=America/Vancouver:20231026T100000
DTEND;TZID=America/Vancouver:20231026T110000
DTSTAMP:20260423T011118
CREATED:20231020T173808Z
LAST-MODIFIED:20231020T173808Z
UID:10000001-1698314400-1698318000@cvhis.org
SUMMARY:Yoga With Allisyn
DESCRIPTION:Lewis park craft room
URL:https://cvhis.org/event/yoga-with-allisyn/
END:VEVENT
END:VCALENDAR