BEGIN:VCALENDAR
VERSION:2.0
PRODID:-//Comox Valley Head Injury Society - ECPv6.15.17.1//NONSGML v1.0//EN
CALSCALE:GREGORIAN
METHOD:PUBLISH
X-ORIGINAL-URL:https://cvhis.org
X-WR-CALDESC:Events for Comox Valley Head Injury Society
REFRESH-INTERVAL;VALUE=DURATION:PT1H
X-Robots-Tag:noindex
X-PUBLISHED-TTL:PT1H
BEGIN:VTIMEZONE
TZID:America/Vancouver
BEGIN:DAYLIGHT
TZOFFSETFROM:-0800
TZOFFSETTO:-0700
TZNAME:PDT
DTSTART:20230312T100000
END:DAYLIGHT
BEGIN:STANDARD
TZOFFSETFROM:-0700
TZOFFSETTO:-0800
TZNAME:PST
DTSTART:20231105T090000
END:STANDARD
BEGIN:DAYLIGHT
TZOFFSETFROM:-0800
TZOFFSETTO:-0700
TZNAME:PDT
DTSTART:20240310T100000
END:DAYLIGHT
BEGIN:STANDARD
TZOFFSETFROM:-0700
TZOFFSETTO:-0800
TZNAME:PST
DTSTART:20241103T090000
END:STANDARD
BEGIN:DAYLIGHT
TZOFFSETFROM:-0800
TZOFFSETTO:-0700
TZNAME:PDT
DTSTART:20250309T100000
END:DAYLIGHT
BEGIN:STANDARD
TZOFFSETFROM:-0700
TZOFFSETTO:-0800
TZNAME:PST
DTSTART:20251102T090000
END:STANDARD
END:VTIMEZONE
BEGIN:VEVENT
DTSTART;TZID=America/Vancouver:20240402T080000
DTEND;TZID=America/Vancouver:20240402T170000
DTSTAMP:20260422T153741
CREATED:20240516T201237Z
LAST-MODIFIED:20240516T201237Z
UID:10007188-1712044800-1712077200@cvhis.org
SUMMARY:One on One Counselling
DESCRIPTION:Do you need help?  Would you like to talk to someone?  Make an appointment with  one of our certified therapists who work in partnership with our Society.  Josh Boudin\, MSW\, RSW\, from Pacific Therapy Counselling has appointments available on Tuesdays at 11:00.  To book an appointment\, please call 250-334-9225 or email:  info.cvhis@gmail.com
URL:https://cvhis.org/event/one-on-one-counselling/2024-04-02/1/
END:VEVENT
BEGIN:VEVENT
DTSTART;TZID=America/Vancouver:20240402T110000
DTEND;TZID=America/Vancouver:20240402T120000
DTSTAMP:20260422T153741
CREATED:20240516T201237Z
LAST-MODIFIED:20240516T201237Z
UID:10007189-1712055600-1712059200@cvhis.org
SUMMARY:One on One Counselling
DESCRIPTION:Do you need help?  Would you like to talk to someone?  Make an appointment with  one of our certified therapists who work in partnership with our Society.  Josh Boudin\, MSW\, RSW\, from Pacific Therapy Counselling has appointments available on Tuesdays at 11:00.  To book an appointment\, please call 250-334-9225 or email:  info.cvhis@gmail.com
URL:https://cvhis.org/event/one-on-one-counselling/2024-04-02/2/
END:VEVENT
BEGIN:VEVENT
DTSTART;TZID=America/Vancouver:20240402T113000
DTEND;TZID=America/Vancouver:20240402T123000
DTSTAMP:20260422T153741
CREATED:20240326T192956Z
LAST-MODIFIED:20251201T201229Z
UID:10002083-1712057400-1712061000@cvhis.org
SUMMARY:Lunch at the Legion
DESCRIPTION:367 Cliff Ave. \nDoors open 11:30\, lunch served until 12:30.  Eat in or take out options available. Choice of 2 sandwiches\, salad\, fruit\, coffee/tea or water. \nSurvivors $2.00\, friends & family $5.00
URL:https://cvhis.org/event/lunch-at-the-legion/2024-04-02/
END:VEVENT
BEGIN:VEVENT
DTSTART;TZID=America/Vancouver:20240402T121500
DTEND;TZID=America/Vancouver:20240402T130000
DTSTAMP:20260422T153741
CREATED:20240516T201657Z
LAST-MODIFIED:20241219T213017Z
UID:10007457-1712060100-1712062800@cvhis.org
SUMMARY:One on One Counselling
DESCRIPTION:Do you need help?  Would you like to talk to someone?  Make an appointment with one of our certified therapists who work in partnership with our Society.  Josh Boudin\, MSW\, RSW\, from Pacific Therapy Counselling has appointments available on Tuesdays at 12:15.  To book an appointment\, please call 250-334-9225 or email:  info.cvhis@gmail.com
URL:https://cvhis.org/event/one-on-one-counselling-2/2024-04-02/
END:VEVENT
BEGIN:VEVENT
DTSTART;TZID=America/Vancouver:20240402T133000
DTEND;TZID=America/Vancouver:20240402T143000
DTSTAMP:20260422T153741
CREATED:20240411T173022Z
LAST-MODIFIED:20250514T195317Z
UID:10006385-1712064600-1712068200@cvhis.org
SUMMARY:Guided Music Sessions
DESCRIPTION:Come join Veronica from Long & McQuade for some guided music sessions.  You’ll have some fun\, and learn some theory and techniques.  Beginners and experienced musicians are welcome.
URL:https://cvhis.org/event/guided-music-sessions/2024-04-02/
END:VEVENT
BEGIN:VEVENT
DTSTART;TZID=America/Vancouver:20240403T130000
DTEND;TZID=America/Vancouver:20240403T140000
DTSTAMP:20260422T153741
CREATED:20240516T202027Z
LAST-MODIFIED:20241219T212827Z
UID:10007725-1712149200-1712152800@cvhis.org
SUMMARY:One on One Counselling
DESCRIPTION:Do you need help?  Would you like to talk to someone?  Make an appointment with one of our certified therapists who work in partnership with our Society.  Leslie Wells\, BSc\, MEd\, RCC and Liz Radermacher BA\, MA\, RCC from Pacific Therapy Counselling has appointments available on Wednesdays at 1:00.  To book an appointment\, please call 250-334-9225 or email:  info.cvhis@gmail.com
URL:https://cvhis.org/event/one-on-one-counselling-3/2024-04-03/
END:VEVENT
BEGIN:VEVENT
DTSTART;TZID=America/Vancouver:20240408T103000
DTEND;TZID=America/Vancouver:20240408T113000
DTSTAMP:20260422T153741
CREATED:20240312T185816Z
LAST-MODIFIED:20251201T205956Z
UID:10000005-1712572200-1712575800@cvhis.org
SUMMARY:Mindfulness by ZOOM
DESCRIPTION:This is a one-hour session to learn to use mindfulness meditation to help with stress reduction\, improve relationship satisfaction\, decrease levels of anxiety and emotional reactivity\, and help focus attention. \nThis is a ZOOM-only program.  Please call or email to let us know if you will be joining us so we can send you the ZOOM link.
URL:https://cvhis.org/event/mindfulness-zoom/2024-04-08/
END:VEVENT
BEGIN:VEVENT
DTSTART;TZID=America/Vancouver:20240409T110000
DTEND;TZID=America/Vancouver:20240409T120000
DTSTAMP:20260422T153741
CREATED:20240516T201237Z
LAST-MODIFIED:20240516T201237Z
UID:10007190-1712660400-1712664000@cvhis.org
SUMMARY:One on One Counselling
DESCRIPTION:Do you need help?  Would you like to talk to someone?  Make an appointment with  one of our certified therapists who work in partnership with our Society.  Josh Boudin\, MSW\, RSW\, from Pacific Therapy Counselling has appointments available on Tuesdays at 11:00.  To book an appointment\, please call 250-334-9225 or email:  info.cvhis@gmail.com
URL:https://cvhis.org/event/one-on-one-counselling/2024-04-09/
END:VEVENT
BEGIN:VEVENT
DTSTART;TZID=America/Vancouver:20240409T113000
DTEND;TZID=America/Vancouver:20240409T123000
DTSTAMP:20260422T153741
CREATED:20240326T192956Z
LAST-MODIFIED:20251201T201229Z
UID:10002084-1712662200-1712665800@cvhis.org
SUMMARY:Lunch at the Legion
DESCRIPTION:367 Cliff Ave. \nDoors open 11:30\, lunch served until 12:30.  Eat in or take out options available. Choice of 2 sandwiches\, salad\, fruit\, coffee/tea or water. \nSurvivors $2.00\, friends & family $5.00
URL:https://cvhis.org/event/lunch-at-the-legion/2024-04-09/
END:VEVENT
BEGIN:VEVENT
DTSTART;TZID=America/Vancouver:20240409T121500
DTEND;TZID=America/Vancouver:20240409T130000
DTSTAMP:20260422T153741
CREATED:20240516T201657Z
LAST-MODIFIED:20241219T213017Z
UID:10007458-1712664900-1712667600@cvhis.org
SUMMARY:One on One Counselling
DESCRIPTION:Do you need help?  Would you like to talk to someone?  Make an appointment with one of our certified therapists who work in partnership with our Society.  Josh Boudin\, MSW\, RSW\, from Pacific Therapy Counselling has appointments available on Tuesdays at 12:15.  To book an appointment\, please call 250-334-9225 or email:  info.cvhis@gmail.com
URL:https://cvhis.org/event/one-on-one-counselling-2/2024-04-09/
END:VEVENT
BEGIN:VEVENT
DTSTART;TZID=America/Vancouver:20240409T133000
DTEND;TZID=America/Vancouver:20240409T143000
DTSTAMP:20260422T153741
CREATED:20240411T173022Z
LAST-MODIFIED:20250514T195317Z
UID:10006386-1712669400-1712673000@cvhis.org
SUMMARY:Guided Music Sessions
DESCRIPTION:Come join Veronica from Long & McQuade for some guided music sessions.  You’ll have some fun\, and learn some theory and techniques.  Beginners and experienced musicians are welcome.
URL:https://cvhis.org/event/guided-music-sessions/2024-04-09/
END:VEVENT
BEGIN:VEVENT
DTSTART;TZID=America/Vancouver:20240410T103000
DTEND;TZID=America/Vancouver:20240410T120000
DTSTAMP:20260422T153741
CREATED:20240410T205821Z
LAST-MODIFIED:20251201T203134Z
UID:10005334-1712745000-1712750400@cvhis.org
SUMMARY:Peer Led Art Therapy
DESCRIPTION:Come join our peer led Art Therapy classes.  Sarah is a wonderful leader\, and has a lot of first hand knowledge and experience with a variety of mediums that she’s eager to share with you.
URL:https://cvhis.org/event/peer-led-art-therapy/2024-04-10/
END:VEVENT
BEGIN:VEVENT
DTSTART;TZID=America/Vancouver:20240410T130000
DTEND;TZID=America/Vancouver:20240410T130000
DTSTAMP:20260422T153741
CREATED:20240410T210709Z
LAST-MODIFIED:20251201T202924Z
UID:10005856-1712754000-1712754000@cvhis.org
SUMMARY:Survivor Support Group
DESCRIPTION:A safe place for survivors to come together and share what they have in common.  Find support and encouragement from others that understand what it is like to have a brain injury.  A welcoming round table\, led by Linda.
URL:https://cvhis.org/event/survivor-support-group-2/2024-04-10/
END:VEVENT
BEGIN:VEVENT
DTSTART;TZID=America/Vancouver:20240410T130000
DTEND;TZID=America/Vancouver:20240410T140000
DTSTAMP:20260422T153741
CREATED:20240516T202027Z
LAST-MODIFIED:20241219T212827Z
UID:10007726-1712754000-1712757600@cvhis.org
SUMMARY:One on One Counselling
DESCRIPTION:Do you need help?  Would you like to talk to someone?  Make an appointment with one of our certified therapists who work in partnership with our Society.  Leslie Wells\, BSc\, MEd\, RCC and Liz Radermacher BA\, MA\, RCC from Pacific Therapy Counselling has appointments available on Wednesdays at 1:00.  To book an appointment\, please call 250-334-9225 or email:  info.cvhis@gmail.com
URL:https://cvhis.org/event/one-on-one-counselling-3/2024-04-10/
END:VEVENT
BEGIN:VEVENT
DTSTART;TZID=America/Vancouver:20240415T103000
DTEND;TZID=America/Vancouver:20240415T113000
DTSTAMP:20260422T153741
CREATED:20240312T185816Z
LAST-MODIFIED:20251201T205956Z
UID:10000006-1713177000-1713180600@cvhis.org
SUMMARY:Mindfulness by ZOOM
DESCRIPTION:This is a one-hour session to learn to use mindfulness meditation to help with stress reduction\, improve relationship satisfaction\, decrease levels of anxiety and emotional reactivity\, and help focus attention. \nThis is a ZOOM-only program.  Please call or email to let us know if you will be joining us so we can send you the ZOOM link.
URL:https://cvhis.org/event/mindfulness-zoom/2024-04-15/
END:VEVENT
BEGIN:VEVENT
DTSTART;TZID=America/Vancouver:20240416T110000
DTEND;TZID=America/Vancouver:20240416T120000
DTSTAMP:20260422T153741
CREATED:20240516T201237Z
LAST-MODIFIED:20240516T201237Z
UID:10007191-1713265200-1713268800@cvhis.org
SUMMARY:One on One Counselling
DESCRIPTION:Do you need help?  Would you like to talk to someone?  Make an appointment with  one of our certified therapists who work in partnership with our Society.  Josh Boudin\, MSW\, RSW\, from Pacific Therapy Counselling has appointments available on Tuesdays at 11:00.  To book an appointment\, please call 250-334-9225 or email:  info.cvhis@gmail.com
URL:https://cvhis.org/event/one-on-one-counselling/2024-04-16/
END:VEVENT
BEGIN:VEVENT
DTSTART;TZID=America/Vancouver:20240416T113000
DTEND;TZID=America/Vancouver:20240416T123000
DTSTAMP:20260422T153741
CREATED:20240326T192956Z
LAST-MODIFIED:20251201T201229Z
UID:10002085-1713267000-1713270600@cvhis.org
SUMMARY:Lunch at the Legion
DESCRIPTION:367 Cliff Ave. \nDoors open 11:30\, lunch served until 12:30.  Eat in or take out options available. Choice of 2 sandwiches\, salad\, fruit\, coffee/tea or water. \nSurvivors $2.00\, friends & family $5.00
URL:https://cvhis.org/event/lunch-at-the-legion/2024-04-16/
END:VEVENT
BEGIN:VEVENT
DTSTART;TZID=America/Vancouver:20240416T121500
DTEND;TZID=America/Vancouver:20240416T130000
DTSTAMP:20260422T153741
CREATED:20240516T201657Z
LAST-MODIFIED:20241219T213017Z
UID:10007459-1713269700-1713272400@cvhis.org
SUMMARY:One on One Counselling
DESCRIPTION:Do you need help?  Would you like to talk to someone?  Make an appointment with one of our certified therapists who work in partnership with our Society.  Josh Boudin\, MSW\, RSW\, from Pacific Therapy Counselling has appointments available on Tuesdays at 12:15.  To book an appointment\, please call 250-334-9225 or email:  info.cvhis@gmail.com
URL:https://cvhis.org/event/one-on-one-counselling-2/2024-04-16/
END:VEVENT
BEGIN:VEVENT
DTSTART;TZID=America/Vancouver:20240416T133000
DTEND;TZID=America/Vancouver:20240416T143000
DTSTAMP:20260422T153741
CREATED:20240411T173022Z
LAST-MODIFIED:20250514T195317Z
UID:10006387-1713274200-1713277800@cvhis.org
SUMMARY:Guided Music Sessions
DESCRIPTION:Come join Veronica from Long & McQuade for some guided music sessions.  You’ll have some fun\, and learn some theory and techniques.  Beginners and experienced musicians are welcome.
URL:https://cvhis.org/event/guided-music-sessions/2024-04-16/
END:VEVENT
BEGIN:VEVENT
DTSTART;TZID=America/Vancouver:20240417T103000
DTEND;TZID=America/Vancouver:20240417T120000
DTSTAMP:20260422T153741
CREATED:20240410T205821Z
LAST-MODIFIED:20251201T203134Z
UID:10005335-1713349800-1713355200@cvhis.org
SUMMARY:Peer Led Art Therapy
DESCRIPTION:Come join our peer led Art Therapy classes.  Sarah is a wonderful leader\, and has a lot of first hand knowledge and experience with a variety of mediums that she’s eager to share with you.
URL:https://cvhis.org/event/peer-led-art-therapy/2024-04-17/
END:VEVENT
BEGIN:VEVENT
DTSTART;TZID=America/Vancouver:20240417T130000
DTEND;TZID=America/Vancouver:20240417T130000
DTSTAMP:20260422T153741
CREATED:20240410T210709Z
LAST-MODIFIED:20251201T202924Z
UID:10005857-1713358800-1713358800@cvhis.org
SUMMARY:Survivor Support Group
DESCRIPTION:A safe place for survivors to come together and share what they have in common.  Find support and encouragement from others that understand what it is like to have a brain injury.  A welcoming round table\, led by Linda.
URL:https://cvhis.org/event/survivor-support-group-2/2024-04-17/
END:VEVENT
BEGIN:VEVENT
DTSTART;TZID=America/Vancouver:20240417T130000
DTEND;TZID=America/Vancouver:20240417T140000
DTSTAMP:20260422T153741
CREATED:20240516T202027Z
LAST-MODIFIED:20241219T212827Z
UID:10007727-1713358800-1713362400@cvhis.org
SUMMARY:One on One Counselling
DESCRIPTION:Do you need help?  Would you like to talk to someone?  Make an appointment with one of our certified therapists who work in partnership with our Society.  Leslie Wells\, BSc\, MEd\, RCC and Liz Radermacher BA\, MA\, RCC from Pacific Therapy Counselling has appointments available on Wednesdays at 1:00.  To book an appointment\, please call 250-334-9225 or email:  info.cvhis@gmail.com
URL:https://cvhis.org/event/one-on-one-counselling-3/2024-04-17/
END:VEVENT
BEGIN:VEVENT
DTSTART;TZID=America/Vancouver:20240418T100000
DTEND;TZID=America/Vancouver:20240418T100000
DTSTAMP:20260422T153741
CREATED:20240326T211246Z
LAST-MODIFIED:20250915T205112Z
UID:10006118-1713434400-1713434400@cvhis.org
SUMMARY:Yoga with Allisyn
DESCRIPTION:Location: CVHIS Activity Room or on ZOOM\nStretching can lead to greater range of motion\, improved balance\, and increased flexibility. Movements are adaptable\, you can participate with the use of a chair for balance and support.\nYoga mats are available\, but if you have one\, we strongly encourage you to bring your own to class. \nRegistration required
URL:https://cvhis.org/event/yoga-with-allisyn-2/2024-04-18/
END:VEVENT
BEGIN:VEVENT
DTSTART;TZID=America/Vancouver:20240422T103000
DTEND;TZID=America/Vancouver:20240422T113000
DTSTAMP:20260422T153741
CREATED:20240312T185816Z
LAST-MODIFIED:20251201T205956Z
UID:10000007-1713781800-1713785400@cvhis.org
SUMMARY:Mindfulness by ZOOM
DESCRIPTION:This is a one-hour session to learn to use mindfulness meditation to help with stress reduction\, improve relationship satisfaction\, decrease levels of anxiety and emotional reactivity\, and help focus attention. \nThis is a ZOOM-only program.  Please call or email to let us know if you will be joining us so we can send you the ZOOM link.
URL:https://cvhis.org/event/mindfulness-zoom/2024-04-22/
END:VEVENT
BEGIN:VEVENT
DTSTART;TZID=America/Vancouver:20240423T110000
DTEND;TZID=America/Vancouver:20240423T120000
DTSTAMP:20260422T153741
CREATED:20240516T201237Z
LAST-MODIFIED:20240516T201237Z
UID:10007192-1713870000-1713873600@cvhis.org
SUMMARY:One on One Counselling
DESCRIPTION:Do you need help?  Would you like to talk to someone?  Make an appointment with  one of our certified therapists who work in partnership with our Society.  Josh Boudin\, MSW\, RSW\, from Pacific Therapy Counselling has appointments available on Tuesdays at 11:00.  To book an appointment\, please call 250-334-9225 or email:  info.cvhis@gmail.com
URL:https://cvhis.org/event/one-on-one-counselling/2024-04-23/
END:VEVENT
BEGIN:VEVENT
DTSTART;TZID=America/Vancouver:20240423T113000
DTEND;TZID=America/Vancouver:20240423T123000
DTSTAMP:20260422T153741
CREATED:20240326T192956Z
LAST-MODIFIED:20251201T201229Z
UID:10002086-1713871800-1713875400@cvhis.org
SUMMARY:Lunch at the Legion
DESCRIPTION:367 Cliff Ave. \nDoors open 11:30\, lunch served until 12:30.  Eat in or take out options available. Choice of 2 sandwiches\, salad\, fruit\, coffee/tea or water. \nSurvivors $2.00\, friends & family $5.00
URL:https://cvhis.org/event/lunch-at-the-legion/2024-04-23/
END:VEVENT
BEGIN:VEVENT
DTSTART;TZID=America/Vancouver:20240423T121500
DTEND;TZID=America/Vancouver:20240423T130000
DTSTAMP:20260422T153741
CREATED:20240516T201657Z
LAST-MODIFIED:20241219T213017Z
UID:10007460-1713874500-1713877200@cvhis.org
SUMMARY:One on One Counselling
DESCRIPTION:Do you need help?  Would you like to talk to someone?  Make an appointment with one of our certified therapists who work in partnership with our Society.  Josh Boudin\, MSW\, RSW\, from Pacific Therapy Counselling has appointments available on Tuesdays at 12:15.  To book an appointment\, please call 250-334-9225 or email:  info.cvhis@gmail.com
URL:https://cvhis.org/event/one-on-one-counselling-2/2024-04-23/
END:VEVENT
BEGIN:VEVENT
DTSTART;TZID=America/Vancouver:20240423T133000
DTEND;TZID=America/Vancouver:20240423T143000
DTSTAMP:20260422T153741
CREATED:20240411T173022Z
LAST-MODIFIED:20250514T195317Z
UID:10006388-1713879000-1713882600@cvhis.org
SUMMARY:Guided Music Sessions
DESCRIPTION:Come join Veronica from Long & McQuade for some guided music sessions.  You’ll have some fun\, and learn some theory and techniques.  Beginners and experienced musicians are welcome.
URL:https://cvhis.org/event/guided-music-sessions/2024-04-23/
END:VEVENT
BEGIN:VEVENT
DTSTART;TZID=America/Vancouver:20240424T103000
DTEND;TZID=America/Vancouver:20240424T120000
DTSTAMP:20260422T153741
CREATED:20240410T205821Z
LAST-MODIFIED:20251201T203134Z
UID:10005336-1713954600-1713960000@cvhis.org
SUMMARY:Peer Led Art Therapy
DESCRIPTION:Come join our peer led Art Therapy classes.  Sarah is a wonderful leader\, and has a lot of first hand knowledge and experience with a variety of mediums that she’s eager to share with you.
URL:https://cvhis.org/event/peer-led-art-therapy/2024-04-24/
END:VEVENT
BEGIN:VEVENT
DTSTART;TZID=America/Vancouver:20240424T130000
DTEND;TZID=America/Vancouver:20240424T130000
DTSTAMP:20260422T153741
CREATED:20240410T210709Z
LAST-MODIFIED:20251201T202924Z
UID:10005858-1713963600-1713963600@cvhis.org
SUMMARY:Survivor Support Group
DESCRIPTION:A safe place for survivors to come together and share what they have in common.  Find support and encouragement from others that understand what it is like to have a brain injury.  A welcoming round table\, led by Linda.
URL:https://cvhis.org/event/survivor-support-group-2/2024-04-24/
END:VEVENT
END:VCALENDAR