BEGIN:VCALENDAR
VERSION:2.0
PRODID:-//Comox Valley Head Injury Society - ECPv6.15.17.1//NONSGML v1.0//EN
CALSCALE:GREGORIAN
METHOD:PUBLISH
X-WR-CALNAME:Comox Valley Head Injury Society
X-ORIGINAL-URL:https://cvhis.org
X-WR-CALDESC:Events for Comox Valley Head Injury Society
REFRESH-INTERVAL;VALUE=DURATION:PT1H
X-Robots-Tag:noindex
X-PUBLISHED-TTL:PT1H
BEGIN:VTIMEZONE
TZID:America/Vancouver
BEGIN:DAYLIGHT
TZOFFSETFROM:-0800
TZOFFSETTO:-0700
TZNAME:PDT
DTSTART:20230312T100000
END:DAYLIGHT
BEGIN:STANDARD
TZOFFSETFROM:-0700
TZOFFSETTO:-0800
TZNAME:PST
DTSTART:20231105T090000
END:STANDARD
BEGIN:DAYLIGHT
TZOFFSETFROM:-0800
TZOFFSETTO:-0700
TZNAME:PDT
DTSTART:20240310T100000
END:DAYLIGHT
BEGIN:STANDARD
TZOFFSETFROM:-0700
TZOFFSETTO:-0800
TZNAME:PST
DTSTART:20241103T090000
END:STANDARD
BEGIN:DAYLIGHT
TZOFFSETFROM:-0800
TZOFFSETTO:-0700
TZNAME:PDT
DTSTART:20250309T100000
END:DAYLIGHT
BEGIN:STANDARD
TZOFFSETFROM:-0700
TZOFFSETTO:-0800
TZNAME:PST
DTSTART:20251102T090000
END:STANDARD
END:VTIMEZONE
BEGIN:VEVENT
DTSTART;TZID=America/Vancouver:20240501T103000
DTEND;TZID=America/Vancouver:20240501T120000
DTSTAMP:20260422T134434
CREATED:20240410T205821Z
LAST-MODIFIED:20251201T203134Z
UID:10005337-1714559400-1714564800@cvhis.org
SUMMARY:Peer Led Art Therapy
DESCRIPTION:Come join our peer led Art Therapy classes.  Sarah is a wonderful leader\, and has a lot of first hand knowledge and experience with a variety of mediums that she’s eager to share with you.
URL:https://cvhis.org/event/peer-led-art-therapy/2024-05-01/
END:VEVENT
BEGIN:VEVENT
DTSTART;TZID=America/Vancouver:20240501T130000
DTEND;TZID=America/Vancouver:20240501T130000
DTSTAMP:20260422T134434
CREATED:20240410T210709Z
LAST-MODIFIED:20251201T202924Z
UID:10005859-1714568400-1714568400@cvhis.org
SUMMARY:Survivor Support Group
DESCRIPTION:A safe place for survivors to come together and share what they have in common.  Find support and encouragement from others that understand what it is like to have a brain injury.  A welcoming round table\, led by Linda.
URL:https://cvhis.org/event/survivor-support-group-2/2024-05-01/
END:VEVENT
BEGIN:VEVENT
DTSTART;TZID=America/Vancouver:20240501T130000
DTEND;TZID=America/Vancouver:20240501T140000
DTSTAMP:20260422T134434
CREATED:20240516T202027Z
LAST-MODIFIED:20241219T212827Z
UID:10007729-1714568400-1714572000@cvhis.org
SUMMARY:One on One Counselling
DESCRIPTION:Do you need help?  Would you like to talk to someone?  Make an appointment with one of our certified therapists who work in partnership with our Society.  Leslie Wells\, BSc\, MEd\, RCC and Liz Radermacher BA\, MA\, RCC from Pacific Therapy Counselling has appointments available on Wednesdays at 1:00.  To book an appointment\, please call 250-334-9225 or email:  info.cvhis@gmail.com
URL:https://cvhis.org/event/one-on-one-counselling-3/2024-05-01/
END:VEVENT
BEGIN:VEVENT
DTSTART;TZID=America/Vancouver:20240502T100000
DTEND;TZID=America/Vancouver:20240502T100000
DTSTAMP:20260422T134434
CREATED:20240326T211246Z
LAST-MODIFIED:20250915T205112Z
UID:10006120-1714644000-1714644000@cvhis.org
SUMMARY:Yoga with Allisyn
DESCRIPTION:Location: CVHIS Activity Room or on ZOOM\nStretching can lead to greater range of motion\, improved balance\, and increased flexibility. Movements are adaptable\, you can participate with the use of a chair for balance and support.\nYoga mats are available\, but if you have one\, we strongly encourage you to bring your own to class. \nRegistration required
URL:https://cvhis.org/event/yoga-with-allisyn-2/2024-05-02/
END:VEVENT
BEGIN:VEVENT
DTSTART;TZID=America/Vancouver:20240506T103000
DTEND;TZID=America/Vancouver:20240506T113000
DTSTAMP:20260422T134434
CREATED:20240312T185816Z
LAST-MODIFIED:20251201T205956Z
UID:10000009-1714991400-1714995000@cvhis.org
SUMMARY:Mindfulness by ZOOM
DESCRIPTION:This is a one-hour session to learn to use mindfulness meditation to help with stress reduction\, improve relationship satisfaction\, decrease levels of anxiety and emotional reactivity\, and help focus attention. \nThis is a ZOOM-only program.  Please call or email to let us know if you will be joining us so we can send you the ZOOM link.
URL:https://cvhis.org/event/mindfulness-zoom/2024-05-06/
END:VEVENT
BEGIN:VEVENT
DTSTART;TZID=America/Vancouver:20240507T110000
DTEND;TZID=America/Vancouver:20240507T120000
DTSTAMP:20260422T134434
CREATED:20240516T201237Z
LAST-MODIFIED:20240516T201237Z
UID:10007194-1715079600-1715083200@cvhis.org
SUMMARY:One on One Counselling
DESCRIPTION:Do you need help?  Would you like to talk to someone?  Make an appointment with  one of our certified therapists who work in partnership with our Society.  Josh Boudin\, MSW\, RSW\, from Pacific Therapy Counselling has appointments available on Tuesdays at 11:00.  To book an appointment\, please call 250-334-9225 or email:  info.cvhis@gmail.com
URL:https://cvhis.org/event/one-on-one-counselling/2024-05-07/
END:VEVENT
BEGIN:VEVENT
DTSTART;TZID=America/Vancouver:20240507T113000
DTEND;TZID=America/Vancouver:20240507T123000
DTSTAMP:20260422T134434
CREATED:20240326T192956Z
LAST-MODIFIED:20251201T201229Z
UID:10002088-1715081400-1715085000@cvhis.org
SUMMARY:Lunch at the Legion
DESCRIPTION:367 Cliff Ave. \nDoors open 11:30\, lunch served until 12:30.  Eat in or take out options available. Choice of 2 sandwiches\, salad\, fruit\, coffee/tea or water. \nSurvivors $2.00\, friends & family $5.00
URL:https://cvhis.org/event/lunch-at-the-legion/2024-05-07/
END:VEVENT
BEGIN:VEVENT
DTSTART;TZID=America/Vancouver:20240507T121500
DTEND;TZID=America/Vancouver:20240507T130000
DTSTAMP:20260422T134434
CREATED:20240516T201657Z
LAST-MODIFIED:20241219T213017Z
UID:10007462-1715084100-1715086800@cvhis.org
SUMMARY:One on One Counselling
DESCRIPTION:Do you need help?  Would you like to talk to someone?  Make an appointment with one of our certified therapists who work in partnership with our Society.  Josh Boudin\, MSW\, RSW\, from Pacific Therapy Counselling has appointments available on Tuesdays at 12:15.  To book an appointment\, please call 250-334-9225 or email:  info.cvhis@gmail.com
URL:https://cvhis.org/event/one-on-one-counselling-2/2024-05-07/
END:VEVENT
BEGIN:VEVENT
DTSTART;TZID=America/Vancouver:20240507T133000
DTEND;TZID=America/Vancouver:20240507T143000
DTSTAMP:20260422T134434
CREATED:20240411T173022Z
LAST-MODIFIED:20250514T195317Z
UID:10006390-1715088600-1715092200@cvhis.org
SUMMARY:Guided Music Sessions
DESCRIPTION:Come join Veronica from Long & McQuade for some guided music sessions.  You’ll have some fun\, and learn some theory and techniques.  Beginners and experienced musicians are welcome.
URL:https://cvhis.org/event/guided-music-sessions/2024-05-07/
END:VEVENT
BEGIN:VEVENT
DTSTART;TZID=America/Vancouver:20240508T103000
DTEND;TZID=America/Vancouver:20240508T120000
DTSTAMP:20260422T134434
CREATED:20240410T205821Z
LAST-MODIFIED:20251201T203134Z
UID:10005338-1715164200-1715169600@cvhis.org
SUMMARY:Peer Led Art Therapy
DESCRIPTION:Come join our peer led Art Therapy classes.  Sarah is a wonderful leader\, and has a lot of first hand knowledge and experience with a variety of mediums that she’s eager to share with you.
URL:https://cvhis.org/event/peer-led-art-therapy/2024-05-08/
END:VEVENT
BEGIN:VEVENT
DTSTART;TZID=America/Vancouver:20240508T130000
DTEND;TZID=America/Vancouver:20240508T130000
DTSTAMP:20260422T134434
CREATED:20240410T210709Z
LAST-MODIFIED:20251201T202924Z
UID:10005860-1715173200-1715173200@cvhis.org
SUMMARY:Survivor Support Group
DESCRIPTION:A safe place for survivors to come together and share what they have in common.  Find support and encouragement from others that understand what it is like to have a brain injury.  A welcoming round table\, led by Linda.
URL:https://cvhis.org/event/survivor-support-group-2/2024-05-08/
END:VEVENT
BEGIN:VEVENT
DTSTART;TZID=America/Vancouver:20240508T130000
DTEND;TZID=America/Vancouver:20240508T140000
DTSTAMP:20260422T134434
CREATED:20240516T202027Z
LAST-MODIFIED:20241219T212827Z
UID:10007730-1715173200-1715176800@cvhis.org
SUMMARY:One on One Counselling
DESCRIPTION:Do you need help?  Would you like to talk to someone?  Make an appointment with one of our certified therapists who work in partnership with our Society.  Leslie Wells\, BSc\, MEd\, RCC and Liz Radermacher BA\, MA\, RCC from Pacific Therapy Counselling has appointments available on Wednesdays at 1:00.  To book an appointment\, please call 250-334-9225 or email:  info.cvhis@gmail.com
URL:https://cvhis.org/event/one-on-one-counselling-3/2024-05-08/
END:VEVENT
BEGIN:VEVENT
DTSTART;TZID=America/Vancouver:20240509T100000
DTEND;TZID=America/Vancouver:20240509T100000
DTSTAMP:20260422T134434
CREATED:20240326T211246Z
LAST-MODIFIED:20250915T205112Z
UID:10006121-1715248800-1715248800@cvhis.org
SUMMARY:Yoga with Allisyn
DESCRIPTION:Location: CVHIS Activity Room or on ZOOM\nStretching can lead to greater range of motion\, improved balance\, and increased flexibility. Movements are adaptable\, you can participate with the use of a chair for balance and support.\nYoga mats are available\, but if you have one\, we strongly encourage you to bring your own to class. \nRegistration required
URL:https://cvhis.org/event/yoga-with-allisyn-2/2024-05-09/
END:VEVENT
BEGIN:VEVENT
DTSTART;TZID=America/Vancouver:20240513T103000
DTEND;TZID=America/Vancouver:20240513T113000
DTSTAMP:20260422T134434
CREATED:20240312T185816Z
LAST-MODIFIED:20251201T205956Z
UID:10000010-1715596200-1715599800@cvhis.org
SUMMARY:Mindfulness by ZOOM
DESCRIPTION:This is a one-hour session to learn to use mindfulness meditation to help with stress reduction\, improve relationship satisfaction\, decrease levels of anxiety and emotional reactivity\, and help focus attention. \nThis is a ZOOM-only program.  Please call or email to let us know if you will be joining us so we can send you the ZOOM link.
URL:https://cvhis.org/event/mindfulness-zoom/2024-05-13/
END:VEVENT
BEGIN:VEVENT
DTSTART;TZID=America/Vancouver:20240513T130000
DTEND;TZID=America/Vancouver:20240513T150000
DTSTAMP:20260422T134434
CREATED:20240909T172646Z
LAST-MODIFIED:20240909T172646Z
UID:10008386-1715605200-1715612400@cvhis.org
SUMMARY:Reiki with Brad
DESCRIPTION:We will be booking specific times for each person registered\, each session is 30 minutes in length\, and we’ll contact you with a specific time for your session. \nJoin Reiki Master & teacher\, Brad H.\, in this unique event! \nReiki is a Japanese word which translates to Universal Life Force Energy.  Reiki is an ancient practice that can be experienced by either “hands on” or by “distance” (remote) healing.  A Reiki treatment encourages physical\, emotional\, and spiritual growth and transformation. \nThe unique gift of a Reiki treatment allows the body’s energy centers\, commonly known as Chakras\, to be more fully opened\, allowing a person to connect with greater amounts of healing energy. \nReiki energy flows through the practitioner who acts as a conduit\, thus allowing the recipient to receive healing energy to all the parts of the body that require attention.  This universal life force energy enters through the practitioner’s head (crown Chakra) and then flows through the entire body\, finally including internal organs\, where it is most needed.
URL:https://cvhis.org/event/reiki-with-brad-6/2024-05-13/
END:VEVENT
BEGIN:VEVENT
DTSTART;TZID=America/Vancouver:20240514T110000
DTEND;TZID=America/Vancouver:20240514T120000
DTSTAMP:20260422T134434
CREATED:20240516T201237Z
LAST-MODIFIED:20240516T201237Z
UID:10007195-1715684400-1715688000@cvhis.org
SUMMARY:One on One Counselling
DESCRIPTION:Do you need help?  Would you like to talk to someone?  Make an appointment with  one of our certified therapists who work in partnership with our Society.  Josh Boudin\, MSW\, RSW\, from Pacific Therapy Counselling has appointments available on Tuesdays at 11:00.  To book an appointment\, please call 250-334-9225 or email:  info.cvhis@gmail.com
URL:https://cvhis.org/event/one-on-one-counselling/2024-05-14/
END:VEVENT
BEGIN:VEVENT
DTSTART;TZID=America/Vancouver:20240514T113000
DTEND;TZID=America/Vancouver:20240514T123000
DTSTAMP:20260422T134434
CREATED:20240326T192956Z
LAST-MODIFIED:20251201T201229Z
UID:10002089-1715686200-1715689800@cvhis.org
SUMMARY:Lunch at the Legion
DESCRIPTION:367 Cliff Ave. \nDoors open 11:30\, lunch served until 12:30.  Eat in or take out options available. Choice of 2 sandwiches\, salad\, fruit\, coffee/tea or water. \nSurvivors $2.00\, friends & family $5.00
URL:https://cvhis.org/event/lunch-at-the-legion/2024-05-14/
END:VEVENT
BEGIN:VEVENT
DTSTART;TZID=America/Vancouver:20240514T121500
DTEND;TZID=America/Vancouver:20240514T130000
DTSTAMP:20260422T134434
CREATED:20240516T201657Z
LAST-MODIFIED:20241219T213017Z
UID:10007463-1715688900-1715691600@cvhis.org
SUMMARY:One on One Counselling
DESCRIPTION:Do you need help?  Would you like to talk to someone?  Make an appointment with one of our certified therapists who work in partnership with our Society.  Josh Boudin\, MSW\, RSW\, from Pacific Therapy Counselling has appointments available on Tuesdays at 12:15.  To book an appointment\, please call 250-334-9225 or email:  info.cvhis@gmail.com
URL:https://cvhis.org/event/one-on-one-counselling-2/2024-05-14/
END:VEVENT
BEGIN:VEVENT
DTSTART;TZID=America/Vancouver:20240514T133000
DTEND;TZID=America/Vancouver:20240514T143000
DTSTAMP:20260422T134434
CREATED:20240411T173022Z
LAST-MODIFIED:20250514T195317Z
UID:10006391-1715693400-1715697000@cvhis.org
SUMMARY:Guided Music Sessions
DESCRIPTION:Come join Veronica from Long & McQuade for some guided music sessions.  You’ll have some fun\, and learn some theory and techniques.  Beginners and experienced musicians are welcome.
URL:https://cvhis.org/event/guided-music-sessions/2024-05-14/
END:VEVENT
BEGIN:VEVENT
DTSTART;TZID=America/Vancouver:20240515T103000
DTEND;TZID=America/Vancouver:20240515T120000
DTSTAMP:20260422T134434
CREATED:20240410T205821Z
LAST-MODIFIED:20251201T203134Z
UID:10005339-1715769000-1715774400@cvhis.org
SUMMARY:Peer Led Art Therapy
DESCRIPTION:Come join our peer led Art Therapy classes.  Sarah is a wonderful leader\, and has a lot of first hand knowledge and experience with a variety of mediums that she’s eager to share with you.
URL:https://cvhis.org/event/peer-led-art-therapy/2024-05-15/
END:VEVENT
BEGIN:VEVENT
DTSTART;TZID=America/Vancouver:20240515T130000
DTEND;TZID=America/Vancouver:20240515T130000
DTSTAMP:20260422T134434
CREATED:20240410T210709Z
LAST-MODIFIED:20251201T202924Z
UID:10005861-1715778000-1715778000@cvhis.org
SUMMARY:Survivor Support Group
DESCRIPTION:A safe place for survivors to come together and share what they have in common.  Find support and encouragement from others that understand what it is like to have a brain injury.  A welcoming round table\, led by Linda.
URL:https://cvhis.org/event/survivor-support-group-2/2024-05-15/
END:VEVENT
BEGIN:VEVENT
DTSTART;TZID=America/Vancouver:20240515T130000
DTEND;TZID=America/Vancouver:20240515T140000
DTSTAMP:20260422T134434
CREATED:20240516T202027Z
LAST-MODIFIED:20241219T212827Z
UID:10007731-1715778000-1715781600@cvhis.org
SUMMARY:One on One Counselling
DESCRIPTION:Do you need help?  Would you like to talk to someone?  Make an appointment with one of our certified therapists who work in partnership with our Society.  Leslie Wells\, BSc\, MEd\, RCC and Liz Radermacher BA\, MA\, RCC from Pacific Therapy Counselling has appointments available on Wednesdays at 1:00.  To book an appointment\, please call 250-334-9225 or email:  info.cvhis@gmail.com
URL:https://cvhis.org/event/one-on-one-counselling-3/2024-05-15/
END:VEVENT
BEGIN:VEVENT
DTSTART;TZID=America/Vancouver:20240516T100000
DTEND;TZID=America/Vancouver:20240516T100000
DTSTAMP:20260422T134434
CREATED:20240326T211246Z
LAST-MODIFIED:20250915T205112Z
UID:10006122-1715853600-1715853600@cvhis.org
SUMMARY:Yoga with Allisyn
DESCRIPTION:Location: CVHIS Activity Room or on ZOOM\nStretching can lead to greater range of motion\, improved balance\, and increased flexibility. Movements are adaptable\, you can participate with the use of a chair for balance and support.\nYoga mats are available\, but if you have one\, we strongly encourage you to bring your own to class. \nRegistration required
URL:https://cvhis.org/event/yoga-with-allisyn-2/2024-05-16/
END:VEVENT
BEGIN:VEVENT
DTSTART;TZID=America/Vancouver:20240520T103000
DTEND;TZID=America/Vancouver:20240520T113000
DTSTAMP:20260422T134434
CREATED:20240312T185816Z
LAST-MODIFIED:20251201T205956Z
UID:10008065-1716201000-1716204600@cvhis.org
SUMMARY:Mindfulness by ZOOM
DESCRIPTION:This is a one-hour session to learn to use mindfulness meditation to help with stress reduction\, improve relationship satisfaction\, decrease levels of anxiety and emotional reactivity\, and help focus attention. \nThis is a ZOOM-only program.  Please call or email to let us know if you will be joining us so we can send you the ZOOM link.
URL:https://cvhis.org/event/mindfulness-zoom/2024-05-20/
END:VEVENT
BEGIN:VEVENT
DTSTART;TZID=America/Vancouver:20240521T110000
DTEND;TZID=America/Vancouver:20240521T120000
DTSTAMP:20260422T134434
CREATED:20240516T201237Z
LAST-MODIFIED:20240516T201237Z
UID:10007196-1716289200-1716292800@cvhis.org
SUMMARY:One on One Counselling
DESCRIPTION:Do you need help?  Would you like to talk to someone?  Make an appointment with  one of our certified therapists who work in partnership with our Society.  Josh Boudin\, MSW\, RSW\, from Pacific Therapy Counselling has appointments available on Tuesdays at 11:00.  To book an appointment\, please call 250-334-9225 or email:  info.cvhis@gmail.com
URL:https://cvhis.org/event/one-on-one-counselling/2024-05-21/
END:VEVENT
BEGIN:VEVENT
DTSTART;TZID=America/Vancouver:20240521T113000
DTEND;TZID=America/Vancouver:20240521T123000
DTSTAMP:20260422T134434
CREATED:20240326T192956Z
LAST-MODIFIED:20251201T201229Z
UID:10002090-1716291000-1716294600@cvhis.org
SUMMARY:Lunch at the Legion
DESCRIPTION:367 Cliff Ave. \nDoors open 11:30\, lunch served until 12:30.  Eat in or take out options available. Choice of 2 sandwiches\, salad\, fruit\, coffee/tea or water. \nSurvivors $2.00\, friends & family $5.00
URL:https://cvhis.org/event/lunch-at-the-legion/2024-05-21/
END:VEVENT
BEGIN:VEVENT
DTSTART;TZID=America/Vancouver:20240521T121500
DTEND;TZID=America/Vancouver:20240521T130000
DTSTAMP:20260422T134434
CREATED:20240516T201657Z
LAST-MODIFIED:20241219T213017Z
UID:10007464-1716293700-1716296400@cvhis.org
SUMMARY:One on One Counselling
DESCRIPTION:Do you need help?  Would you like to talk to someone?  Make an appointment with one of our certified therapists who work in partnership with our Society.  Josh Boudin\, MSW\, RSW\, from Pacific Therapy Counselling has appointments available on Tuesdays at 12:15.  To book an appointment\, please call 250-334-9225 or email:  info.cvhis@gmail.com
URL:https://cvhis.org/event/one-on-one-counselling-2/2024-05-21/
END:VEVENT
BEGIN:VEVENT
DTSTART;TZID=America/Vancouver:20240521T133000
DTEND;TZID=America/Vancouver:20240521T143000
DTSTAMP:20260422T134435
CREATED:20240411T173022Z
LAST-MODIFIED:20250514T195317Z
UID:10006392-1716298200-1716301800@cvhis.org
SUMMARY:Guided Music Sessions
DESCRIPTION:Come join Veronica from Long & McQuade for some guided music sessions.  You’ll have some fun\, and learn some theory and techniques.  Beginners and experienced musicians are welcome.
URL:https://cvhis.org/event/guided-music-sessions/2024-05-21/
END:VEVENT
BEGIN:VEVENT
DTSTART;TZID=America/Vancouver:20240522T103000
DTEND;TZID=America/Vancouver:20240522T120000
DTSTAMP:20260422T134435
CREATED:20240410T205821Z
LAST-MODIFIED:20251201T203134Z
UID:10005340-1716373800-1716379200@cvhis.org
SUMMARY:Peer Led Art Therapy
DESCRIPTION:Come join our peer led Art Therapy classes.  Sarah is a wonderful leader\, and has a lot of first hand knowledge and experience with a variety of mediums that she’s eager to share with you.
URL:https://cvhis.org/event/peer-led-art-therapy/2024-05-22/
END:VEVENT
BEGIN:VEVENT
DTSTART;TZID=America/Vancouver:20240522T130000
DTEND;TZID=America/Vancouver:20240522T130000
DTSTAMP:20260422T134435
CREATED:20240410T210709Z
LAST-MODIFIED:20251201T202924Z
UID:10005862-1716382800-1716382800@cvhis.org
SUMMARY:Survivor Support Group
DESCRIPTION:A safe place for survivors to come together and share what they have in common.  Find support and encouragement from others that understand what it is like to have a brain injury.  A welcoming round table\, led by Linda.
URL:https://cvhis.org/event/survivor-support-group-2/2024-05-22/
END:VEVENT
END:VCALENDAR