BEGIN:VCALENDAR
VERSION:2.0
PRODID:-//Comox Valley Head Injury Society - ECPv6.15.17.1//NONSGML v1.0//EN
CALSCALE:GREGORIAN
METHOD:PUBLISH
X-ORIGINAL-URL:https://cvhis.org
X-WR-CALDESC:Events for Comox Valley Head Injury Society
REFRESH-INTERVAL;VALUE=DURATION:PT1H
X-Robots-Tag:noindex
X-PUBLISHED-TTL:PT1H
BEGIN:VTIMEZONE
TZID:America/Vancouver
BEGIN:DAYLIGHT
TZOFFSETFROM:-0800
TZOFFSETTO:-0700
TZNAME:PDT
DTSTART:20230312T100000
END:DAYLIGHT
BEGIN:STANDARD
TZOFFSETFROM:-0700
TZOFFSETTO:-0800
TZNAME:PST
DTSTART:20231105T090000
END:STANDARD
BEGIN:DAYLIGHT
TZOFFSETFROM:-0800
TZOFFSETTO:-0700
TZNAME:PDT
DTSTART:20240310T100000
END:DAYLIGHT
BEGIN:STANDARD
TZOFFSETFROM:-0700
TZOFFSETTO:-0800
TZNAME:PST
DTSTART:20241103T090000
END:STANDARD
BEGIN:DAYLIGHT
TZOFFSETFROM:-0800
TZOFFSETTO:-0700
TZNAME:PDT
DTSTART:20250309T100000
END:DAYLIGHT
BEGIN:STANDARD
TZOFFSETFROM:-0700
TZOFFSETTO:-0800
TZNAME:PST
DTSTART:20251102T090000
END:STANDARD
END:VTIMEZONE
BEGIN:VEVENT
DTSTART;TZID=America/Vancouver:20240702T113000
DTEND;TZID=America/Vancouver:20240702T123000
DTSTAMP:20260422T103824
CREATED:20240326T192956Z
LAST-MODIFIED:20251201T201229Z
UID:10002096-1719919800-1719923400@cvhis.org
SUMMARY:Lunch at the Legion
DESCRIPTION:367 Cliff Ave. \nDoors open 11:30\, lunch served until 12:30.  Eat in or take out options available. Choice of 2 sandwiches\, salad\, fruit\, coffee/tea or water. \nSurvivors $2.00\, friends & family $5.00
URL:https://cvhis.org/event/lunch-at-the-legion/2024-07-02/
END:VEVENT
BEGIN:VEVENT
DTSTART;TZID=America/Vancouver:20240702T121500
DTEND;TZID=America/Vancouver:20240702T130000
DTSTAMP:20260422T103824
CREATED:20240516T201657Z
LAST-MODIFIED:20241219T213017Z
UID:10007470-1719922500-1719925200@cvhis.org
SUMMARY:One on One Counselling
DESCRIPTION:Do you need help?  Would you like to talk to someone?  Make an appointment with one of our certified therapists who work in partnership with our Society.  Josh Boudin\, MSW\, RSW\, from Pacific Therapy Counselling has appointments available on Tuesdays at 12:15.  To book an appointment\, please call 250-334-9225 or email:  info.cvhis@gmail.com
URL:https://cvhis.org/event/one-on-one-counselling-2/2024-07-02/
END:VEVENT
BEGIN:VEVENT
DTSTART;TZID=America/Vancouver:20240703T103000
DTEND;TZID=America/Vancouver:20240703T120000
DTSTAMP:20260422T103824
CREATED:20240410T205821Z
LAST-MODIFIED:20251201T203134Z
UID:10005346-1720002600-1720008000@cvhis.org
SUMMARY:Peer Led Art Therapy
DESCRIPTION:Come join our peer led Art Therapy classes.  Sarah is a wonderful leader\, and has a lot of first hand knowledge and experience with a variety of mediums that she’s eager to share with you.
URL:https://cvhis.org/event/peer-led-art-therapy/2024-07-03/
END:VEVENT
BEGIN:VEVENT
DTSTART;TZID=America/Vancouver:20240703T130000
DTEND;TZID=America/Vancouver:20240703T130000
DTSTAMP:20260422T103824
CREATED:20240410T210709Z
LAST-MODIFIED:20251201T202924Z
UID:10005868-1720011600-1720011600@cvhis.org
SUMMARY:Survivor Support Group
DESCRIPTION:A safe place for survivors to come together and share what they have in common.  Find support and encouragement from others that understand what it is like to have a brain injury.  A welcoming round table\, led by Linda.
URL:https://cvhis.org/event/survivor-support-group-2/2024-07-03/
END:VEVENT
BEGIN:VEVENT
DTSTART;TZID=America/Vancouver:20240703T130000
DTEND;TZID=America/Vancouver:20240703T140000
DTSTAMP:20260422T103824
CREATED:20240516T202027Z
LAST-MODIFIED:20241219T212827Z
UID:10007738-1720011600-1720015200@cvhis.org
SUMMARY:One on One Counselling
DESCRIPTION:Do you need help?  Would you like to talk to someone?  Make an appointment with one of our certified therapists who work in partnership with our Society.  Leslie Wells\, BSc\, MEd\, RCC and Liz Radermacher BA\, MA\, RCC from Pacific Therapy Counselling has appointments available on Wednesdays at 1:00.  To book an appointment\, please call 250-334-9225 or email:  info.cvhis@gmail.com
URL:https://cvhis.org/event/one-on-one-counselling-3/2024-07-03/
END:VEVENT
BEGIN:VEVENT
DTSTART;TZID=America/Vancouver:20240708T103000
DTEND;TZID=America/Vancouver:20240708T113000
DTSTAMP:20260422T103824
CREATED:20240312T185816Z
LAST-MODIFIED:20251201T205956Z
UID:10000018-1720434600-1720438200@cvhis.org
SUMMARY:Mindfulness by ZOOM
DESCRIPTION:This is a one-hour session to learn to use mindfulness meditation to help with stress reduction\, improve relationship satisfaction\, decrease levels of anxiety and emotional reactivity\, and help focus attention. \nThis is a ZOOM-only program.  Please call or email to let us know if you will be joining us so we can send you the ZOOM link.
URL:https://cvhis.org/event/mindfulness-zoom/2024-07-08/
END:VEVENT
BEGIN:VEVENT
DTSTART;TZID=America/Vancouver:20240709T113000
DTEND;TZID=America/Vancouver:20240709T123000
DTSTAMP:20260422T103824
CREATED:20240326T192956Z
LAST-MODIFIED:20251201T201229Z
UID:10002097-1720524600-1720528200@cvhis.org
SUMMARY:Lunch at the Legion
DESCRIPTION:367 Cliff Ave. \nDoors open 11:30\, lunch served until 12:30.  Eat in or take out options available. Choice of 2 sandwiches\, salad\, fruit\, coffee/tea or water. \nSurvivors $2.00\, friends & family $5.00
URL:https://cvhis.org/event/lunch-at-the-legion/2024-07-09/
END:VEVENT
BEGIN:VEVENT
DTSTART;TZID=America/Vancouver:20240709T121500
DTEND;TZID=America/Vancouver:20240709T130000
DTSTAMP:20260422T103824
CREATED:20240516T201657Z
LAST-MODIFIED:20241219T213017Z
UID:10007471-1720527300-1720530000@cvhis.org
SUMMARY:One on One Counselling
DESCRIPTION:Do you need help?  Would you like to talk to someone?  Make an appointment with one of our certified therapists who work in partnership with our Society.  Josh Boudin\, MSW\, RSW\, from Pacific Therapy Counselling has appointments available on Tuesdays at 12:15.  To book an appointment\, please call 250-334-9225 or email:  info.cvhis@gmail.com
URL:https://cvhis.org/event/one-on-one-counselling-2/2024-07-09/
END:VEVENT
BEGIN:VEVENT
DTSTART;TZID=America/Vancouver:20240710T103000
DTEND;TZID=America/Vancouver:20240710T120000
DTSTAMP:20260422T103824
CREATED:20240410T205821Z
LAST-MODIFIED:20251201T203134Z
UID:10005347-1720607400-1720612800@cvhis.org
SUMMARY:Peer Led Art Therapy
DESCRIPTION:Come join our peer led Art Therapy classes.  Sarah is a wonderful leader\, and has a lot of first hand knowledge and experience with a variety of mediums that she’s eager to share with you.
URL:https://cvhis.org/event/peer-led-art-therapy/2024-07-10/
END:VEVENT
BEGIN:VEVENT
DTSTART;TZID=America/Vancouver:20240710T130000
DTEND;TZID=America/Vancouver:20240710T130000
DTSTAMP:20260422T103824
CREATED:20240410T210709Z
LAST-MODIFIED:20251201T202924Z
UID:10005869-1720616400-1720616400@cvhis.org
SUMMARY:Survivor Support Group
DESCRIPTION:A safe place for survivors to come together and share what they have in common.  Find support and encouragement from others that understand what it is like to have a brain injury.  A welcoming round table\, led by Linda.
URL:https://cvhis.org/event/survivor-support-group-2/2024-07-10/
END:VEVENT
BEGIN:VEVENT
DTSTART;TZID=America/Vancouver:20240710T130000
DTEND;TZID=America/Vancouver:20240710T140000
DTSTAMP:20260422T103824
CREATED:20240516T202027Z
LAST-MODIFIED:20241219T212827Z
UID:10007739-1720616400-1720620000@cvhis.org
SUMMARY:One on One Counselling
DESCRIPTION:Do you need help?  Would you like to talk to someone?  Make an appointment with one of our certified therapists who work in partnership with our Society.  Leslie Wells\, BSc\, MEd\, RCC and Liz Radermacher BA\, MA\, RCC from Pacific Therapy Counselling has appointments available on Wednesdays at 1:00.  To book an appointment\, please call 250-334-9225 or email:  info.cvhis@gmail.com
URL:https://cvhis.org/event/one-on-one-counselling-3/2024-07-10/
END:VEVENT
BEGIN:VEVENT
DTSTART;TZID=America/Vancouver:20240711T100000
DTEND;TZID=America/Vancouver:20240711T100000
DTSTAMP:20260422T103824
CREATED:20240326T211246Z
LAST-MODIFIED:20250915T205112Z
UID:10006130-1720692000-1720692000@cvhis.org
SUMMARY:Yoga with Allisyn
DESCRIPTION:Location: CVHIS Activity Room or on ZOOM\nStretching can lead to greater range of motion\, improved balance\, and increased flexibility. Movements are adaptable\, you can participate with the use of a chair for balance and support.\nYoga mats are available\, but if you have one\, we strongly encourage you to bring your own to class. \nRegistration required
URL:https://cvhis.org/event/yoga-with-allisyn-2/2024-07-11/
END:VEVENT
BEGIN:VEVENT
DTSTART;TZID=America/Vancouver:20240715T103000
DTEND;TZID=America/Vancouver:20240715T113000
DTSTAMP:20260422T103824
CREATED:20240312T185816Z
LAST-MODIFIED:20251201T205956Z
UID:10000019-1721039400-1721043000@cvhis.org
SUMMARY:Mindfulness by ZOOM
DESCRIPTION:This is a one-hour session to learn to use mindfulness meditation to help with stress reduction\, improve relationship satisfaction\, decrease levels of anxiety and emotional reactivity\, and help focus attention. \nThis is a ZOOM-only program.  Please call or email to let us know if you will be joining us so we can send you the ZOOM link.
URL:https://cvhis.org/event/mindfulness-zoom/2024-07-15/
END:VEVENT
BEGIN:VEVENT
DTSTART;TZID=America/Vancouver:20240716T113000
DTEND;TZID=America/Vancouver:20240716T123000
DTSTAMP:20260422T103824
CREATED:20240326T192956Z
LAST-MODIFIED:20251201T201229Z
UID:10002098-1721129400-1721133000@cvhis.org
SUMMARY:Lunch at the Legion
DESCRIPTION:367 Cliff Ave. \nDoors open 11:30\, lunch served until 12:30.  Eat in or take out options available. Choice of 2 sandwiches\, salad\, fruit\, coffee/tea or water. \nSurvivors $2.00\, friends & family $5.00
URL:https://cvhis.org/event/lunch-at-the-legion/2024-07-16/
END:VEVENT
BEGIN:VEVENT
DTSTART;TZID=America/Vancouver:20240716T121500
DTEND;TZID=America/Vancouver:20240716T130000
DTSTAMP:20260422T103824
CREATED:20240516T201657Z
LAST-MODIFIED:20241219T213017Z
UID:10007472-1721132100-1721134800@cvhis.org
SUMMARY:One on One Counselling
DESCRIPTION:Do you need help?  Would you like to talk to someone?  Make an appointment with one of our certified therapists who work in partnership with our Society.  Josh Boudin\, MSW\, RSW\, from Pacific Therapy Counselling has appointments available on Tuesdays at 12:15.  To book an appointment\, please call 250-334-9225 or email:  info.cvhis@gmail.com
URL:https://cvhis.org/event/one-on-one-counselling-2/2024-07-16/
END:VEVENT
BEGIN:VEVENT
DTSTART;TZID=America/Vancouver:20240716T133000
DTEND;TZID=America/Vancouver:20240716T143000
DTSTAMP:20260422T103824
CREATED:20240411T173022Z
LAST-MODIFIED:20250514T195317Z
UID:10006400-1721136600-1721140200@cvhis.org
SUMMARY:Guided Music Sessions
DESCRIPTION:Come join Veronica from Long & McQuade for some guided music sessions.  You’ll have some fun\, and learn some theory and techniques.  Beginners and experienced musicians are welcome.
URL:https://cvhis.org/event/guided-music-sessions/2024-07-16/
END:VEVENT
BEGIN:VEVENT
DTSTART;TZID=America/Vancouver:20240717T103000
DTEND;TZID=America/Vancouver:20240717T120000
DTSTAMP:20260422T103824
CREATED:20240410T205821Z
LAST-MODIFIED:20251201T203134Z
UID:10005348-1721212200-1721217600@cvhis.org
SUMMARY:Peer Led Art Therapy
DESCRIPTION:Come join our peer led Art Therapy classes.  Sarah is a wonderful leader\, and has a lot of first hand knowledge and experience with a variety of mediums that she’s eager to share with you.
URL:https://cvhis.org/event/peer-led-art-therapy/2024-07-17/
END:VEVENT
BEGIN:VEVENT
DTSTART;TZID=America/Vancouver:20240717T130000
DTEND;TZID=America/Vancouver:20240717T130000
DTSTAMP:20260422T103824
CREATED:20240410T210709Z
LAST-MODIFIED:20251201T202924Z
UID:10005870-1721221200-1721221200@cvhis.org
SUMMARY:Survivor Support Group
DESCRIPTION:A safe place for survivors to come together and share what they have in common.  Find support and encouragement from others that understand what it is like to have a brain injury.  A welcoming round table\, led by Linda.
URL:https://cvhis.org/event/survivor-support-group-2/2024-07-17/
END:VEVENT
BEGIN:VEVENT
DTSTART;TZID=America/Vancouver:20240717T130000
DTEND;TZID=America/Vancouver:20240717T140000
DTSTAMP:20260422T103824
CREATED:20240516T202027Z
LAST-MODIFIED:20241219T212827Z
UID:10007740-1721221200-1721224800@cvhis.org
SUMMARY:One on One Counselling
DESCRIPTION:Do you need help?  Would you like to talk to someone?  Make an appointment with one of our certified therapists who work in partnership with our Society.  Leslie Wells\, BSc\, MEd\, RCC and Liz Radermacher BA\, MA\, RCC from Pacific Therapy Counselling has appointments available on Wednesdays at 1:00.  To book an appointment\, please call 250-334-9225 or email:  info.cvhis@gmail.com
URL:https://cvhis.org/event/one-on-one-counselling-3/2024-07-17/
END:VEVENT
BEGIN:VEVENT
DTSTART;TZID=America/Vancouver:20240718T100000
DTEND;TZID=America/Vancouver:20240718T100000
DTSTAMP:20260422T103824
CREATED:20240326T211246Z
LAST-MODIFIED:20250915T205112Z
UID:10006131-1721296800-1721296800@cvhis.org
SUMMARY:Yoga with Allisyn
DESCRIPTION:Location: CVHIS Activity Room or on ZOOM\nStretching can lead to greater range of motion\, improved balance\, and increased flexibility. Movements are adaptable\, you can participate with the use of a chair for balance and support.\nYoga mats are available\, but if you have one\, we strongly encourage you to bring your own to class. \nRegistration required
URL:https://cvhis.org/event/yoga-with-allisyn-2/2024-07-18/
END:VEVENT
BEGIN:VEVENT
DTSTART;TZID=America/Vancouver:20240722T103000
DTEND;TZID=America/Vancouver:20240722T113000
DTSTAMP:20260422T103824
CREATED:20240312T185816Z
LAST-MODIFIED:20251201T205956Z
UID:10000020-1721644200-1721647800@cvhis.org
SUMMARY:Mindfulness by ZOOM
DESCRIPTION:This is a one-hour session to learn to use mindfulness meditation to help with stress reduction\, improve relationship satisfaction\, decrease levels of anxiety and emotional reactivity\, and help focus attention. \nThis is a ZOOM-only program.  Please call or email to let us know if you will be joining us so we can send you the ZOOM link.
URL:https://cvhis.org/event/mindfulness-zoom/2024-07-22/
END:VEVENT
BEGIN:VEVENT
DTSTART;TZID=America/Vancouver:20240723T113000
DTEND;TZID=America/Vancouver:20240723T123000
DTSTAMP:20260422T103824
CREATED:20240326T192956Z
LAST-MODIFIED:20251201T201229Z
UID:10002099-1721734200-1721737800@cvhis.org
SUMMARY:Lunch at the Legion
DESCRIPTION:367 Cliff Ave. \nDoors open 11:30\, lunch served until 12:30.  Eat in or take out options available. Choice of 2 sandwiches\, salad\, fruit\, coffee/tea or water. \nSurvivors $2.00\, friends & family $5.00
URL:https://cvhis.org/event/lunch-at-the-legion/2024-07-23/
END:VEVENT
BEGIN:VEVENT
DTSTART;TZID=America/Vancouver:20240723T121500
DTEND;TZID=America/Vancouver:20240723T130000
DTSTAMP:20260422T103824
CREATED:20240516T201657Z
LAST-MODIFIED:20241219T213017Z
UID:10007473-1721736900-1721739600@cvhis.org
SUMMARY:One on One Counselling
DESCRIPTION:Do you need help?  Would you like to talk to someone?  Make an appointment with one of our certified therapists who work in partnership with our Society.  Josh Boudin\, MSW\, RSW\, from Pacific Therapy Counselling has appointments available on Tuesdays at 12:15.  To book an appointment\, please call 250-334-9225 or email:  info.cvhis@gmail.com
URL:https://cvhis.org/event/one-on-one-counselling-2/2024-07-23/
END:VEVENT
BEGIN:VEVENT
DTSTART;TZID=America/Vancouver:20240723T133000
DTEND;TZID=America/Vancouver:20240723T143000
DTSTAMP:20260422T103824
CREATED:20240411T173022Z
LAST-MODIFIED:20250514T195317Z
UID:10006401-1721741400-1721745000@cvhis.org
SUMMARY:Guided Music Sessions
DESCRIPTION:Come join Veronica from Long & McQuade for some guided music sessions.  You’ll have some fun\, and learn some theory and techniques.  Beginners and experienced musicians are welcome.
URL:https://cvhis.org/event/guided-music-sessions/2024-07-23/
END:VEVENT
BEGIN:VEVENT
DTSTART;TZID=America/Vancouver:20240724T040000
DTEND;TZID=America/Vancouver:20240724T040000
DTSTAMP:20260422T103824
CREATED:20240619T195248Z
LAST-MODIFIED:20250218T221436Z
UID:10011488-1721793600-1721793600@cvhis.org
SUMMARY:Caregivers Support Group
DESCRIPTION:Location:  CVHIS office\nCVHIS welcomes caregivers\, family members & friends who care for or know a person with an acquired head injury.  Come share your challenges and successes in a supportive setting\, led by Linda\, our Outreach Coordinator.  Registration required. 250-334-9225 or email info.cvhis@gmail.com\nRegistration Appreciated
URL:https://cvhis.org/event/caregivers-support-group/2024-07-24/
END:VEVENT
BEGIN:VEVENT
DTSTART;TZID=America/Vancouver:20240724T103000
DTEND;TZID=America/Vancouver:20240724T120000
DTSTAMP:20260422T103824
CREATED:20240410T205821Z
LAST-MODIFIED:20251201T203134Z
UID:10005349-1721817000-1721822400@cvhis.org
SUMMARY:Peer Led Art Therapy
DESCRIPTION:Come join our peer led Art Therapy classes.  Sarah is a wonderful leader\, and has a lot of first hand knowledge and experience with a variety of mediums that she’s eager to share with you.
URL:https://cvhis.org/event/peer-led-art-therapy/2024-07-24/
END:VEVENT
BEGIN:VEVENT
DTSTART;TZID=America/Vancouver:20240724T130000
DTEND;TZID=America/Vancouver:20240724T130000
DTSTAMP:20260422T103824
CREATED:20240410T210709Z
LAST-MODIFIED:20251201T202924Z
UID:10005871-1721826000-1721826000@cvhis.org
SUMMARY:Survivor Support Group
DESCRIPTION:A safe place for survivors to come together and share what they have in common.  Find support and encouragement from others that understand what it is like to have a brain injury.  A welcoming round table\, led by Linda.
URL:https://cvhis.org/event/survivor-support-group-2/2024-07-24/
END:VEVENT
BEGIN:VEVENT
DTSTART;TZID=America/Vancouver:20240724T130000
DTEND;TZID=America/Vancouver:20240724T140000
DTSTAMP:20260422T103824
CREATED:20240516T202027Z
LAST-MODIFIED:20241219T212827Z
UID:10007741-1721826000-1721829600@cvhis.org
SUMMARY:One on One Counselling
DESCRIPTION:Do you need help?  Would you like to talk to someone?  Make an appointment with one of our certified therapists who work in partnership with our Society.  Leslie Wells\, BSc\, MEd\, RCC and Liz Radermacher BA\, MA\, RCC from Pacific Therapy Counselling has appointments available on Wednesdays at 1:00.  To book an appointment\, please call 250-334-9225 or email:  info.cvhis@gmail.com
URL:https://cvhis.org/event/one-on-one-counselling-3/2024-07-24/
END:VEVENT
BEGIN:VEVENT
DTSTART;TZID=America/Vancouver:20240725T100000
DTEND;TZID=America/Vancouver:20240725T100000
DTSTAMP:20260422T103824
CREATED:20240326T211246Z
LAST-MODIFIED:20250915T205112Z
UID:10006132-1721901600-1721901600@cvhis.org
SUMMARY:Yoga with Allisyn
DESCRIPTION:Location: CVHIS Activity Room or on ZOOM\nStretching can lead to greater range of motion\, improved balance\, and increased flexibility. Movements are adaptable\, you can participate with the use of a chair for balance and support.\nYoga mats are available\, but if you have one\, we strongly encourage you to bring your own to class. \nRegistration required
URL:https://cvhis.org/event/yoga-with-allisyn-2/2024-07-25/
END:VEVENT
BEGIN:VEVENT
DTSTART;TZID=America/Vancouver:20240729T103000
DTEND;TZID=America/Vancouver:20240729T113000
DTSTAMP:20260422T103824
CREATED:20240312T185816Z
LAST-MODIFIED:20251201T205956Z
UID:10000021-1722249000-1722252600@cvhis.org
SUMMARY:Mindfulness by ZOOM
DESCRIPTION:This is a one-hour session to learn to use mindfulness meditation to help with stress reduction\, improve relationship satisfaction\, decrease levels of anxiety and emotional reactivity\, and help focus attention. \nThis is a ZOOM-only program.  Please call or email to let us know if you will be joining us so we can send you the ZOOM link.
URL:https://cvhis.org/event/mindfulness-zoom/2024-07-29/
END:VEVENT
END:VCALENDAR