BEGIN:VCALENDAR
VERSION:2.0
PRODID:-//Comox Valley Head Injury Society - ECPv6.15.17.1//NONSGML v1.0//EN
CALSCALE:GREGORIAN
METHOD:PUBLISH
X-WR-CALNAME:Comox Valley Head Injury Society
X-ORIGINAL-URL:https://cvhis.org
X-WR-CALDESC:Events for Comox Valley Head Injury Society
REFRESH-INTERVAL;VALUE=DURATION:PT1H
X-Robots-Tag:noindex
X-PUBLISHED-TTL:PT1H
BEGIN:VTIMEZONE
TZID:America/Vancouver
BEGIN:DAYLIGHT
TZOFFSETFROM:-0800
TZOFFSETTO:-0700
TZNAME:PDT
DTSTART:20230312T100000
END:DAYLIGHT
BEGIN:STANDARD
TZOFFSETFROM:-0700
TZOFFSETTO:-0800
TZNAME:PST
DTSTART:20231105T090000
END:STANDARD
BEGIN:DAYLIGHT
TZOFFSETFROM:-0800
TZOFFSETTO:-0700
TZNAME:PDT
DTSTART:20240310T100000
END:DAYLIGHT
BEGIN:STANDARD
TZOFFSETFROM:-0700
TZOFFSETTO:-0800
TZNAME:PST
DTSTART:20241103T090000
END:STANDARD
BEGIN:DAYLIGHT
TZOFFSETFROM:-0800
TZOFFSETTO:-0700
TZNAME:PDT
DTSTART:20250309T100000
END:DAYLIGHT
BEGIN:STANDARD
TZOFFSETFROM:-0700
TZOFFSETTO:-0800
TZNAME:PST
DTSTART:20251102T090000
END:STANDARD
END:VTIMEZONE
BEGIN:VEVENT
DTSTART;TZID=America/Vancouver:20240806T113000
DTEND;TZID=America/Vancouver:20240806T123000
DTSTAMP:20260422T090255
CREATED:20240326T192956Z
LAST-MODIFIED:20251201T201229Z
UID:10002101-1722943800-1722947400@cvhis.org
SUMMARY:Lunch at the Legion
DESCRIPTION:367 Cliff Ave. \nDoors open 11:30\, lunch served until 12:30.  Eat in or take out options available. Choice of 2 sandwiches\, salad\, fruit\, coffee/tea or water. \nSurvivors $2.00\, friends & family $5.00
URL:https://cvhis.org/event/lunch-at-the-legion/2024-08-06/
END:VEVENT
BEGIN:VEVENT
DTSTART;TZID=America/Vancouver:20240806T121500
DTEND;TZID=America/Vancouver:20240806T130000
DTSTAMP:20260422T090255
CREATED:20240516T201657Z
LAST-MODIFIED:20241219T213017Z
UID:10007475-1722946500-1722949200@cvhis.org
SUMMARY:One on One Counselling
DESCRIPTION:Do you need help?  Would you like to talk to someone?  Make an appointment with one of our certified therapists who work in partnership with our Society.  Josh Boudin\, MSW\, RSW\, from Pacific Therapy Counselling has appointments available on Tuesdays at 12:15.  To book an appointment\, please call 250-334-9225 or email:  info.cvhis@gmail.com
URL:https://cvhis.org/event/one-on-one-counselling-2/2024-08-06/
END:VEVENT
BEGIN:VEVENT
DTSTART;TZID=America/Vancouver:20240806T133000
DTEND;TZID=America/Vancouver:20240806T143000
DTSTAMP:20260422T090255
CREATED:20240411T173022Z
LAST-MODIFIED:20250514T195317Z
UID:10006403-1722951000-1722954600@cvhis.org
SUMMARY:Guided Music Sessions
DESCRIPTION:Come join Veronica from Long & McQuade for some guided music sessions.  You’ll have some fun\, and learn some theory and techniques.  Beginners and experienced musicians are welcome.
URL:https://cvhis.org/event/guided-music-sessions/2024-08-06/
END:VEVENT
BEGIN:VEVENT
DTSTART;TZID=America/Vancouver:20240807T103000
DTEND;TZID=America/Vancouver:20240807T120000
DTSTAMP:20260422T090255
CREATED:20240410T205821Z
LAST-MODIFIED:20251201T203134Z
UID:10005351-1723026600-1723032000@cvhis.org
SUMMARY:Peer Led Art Therapy
DESCRIPTION:Come join our peer led Art Therapy classes.  Sarah is a wonderful leader\, and has a lot of first hand knowledge and experience with a variety of mediums that she’s eager to share with you.
URL:https://cvhis.org/event/peer-led-art-therapy/2024-08-07/
END:VEVENT
BEGIN:VEVENT
DTSTART;TZID=America/Vancouver:20240807T130000
DTEND;TZID=America/Vancouver:20240807T130000
DTSTAMP:20260422T090255
CREATED:20240410T210709Z
LAST-MODIFIED:20251201T202924Z
UID:10005873-1723035600-1723035600@cvhis.org
SUMMARY:Survivor Support Group
DESCRIPTION:A safe place for survivors to come together and share what they have in common.  Find support and encouragement from others that understand what it is like to have a brain injury.  A welcoming round table\, led by Linda.
URL:https://cvhis.org/event/survivor-support-group-2/2024-08-07/
END:VEVENT
BEGIN:VEVENT
DTSTART;TZID=America/Vancouver:20240807T130000
DTEND;TZID=America/Vancouver:20240807T140000
DTSTAMP:20260422T090255
CREATED:20240516T202027Z
LAST-MODIFIED:20241219T212827Z
UID:10007743-1723035600-1723039200@cvhis.org
SUMMARY:One on One Counselling
DESCRIPTION:Do you need help?  Would you like to talk to someone?  Make an appointment with one of our certified therapists who work in partnership with our Society.  Leslie Wells\, BSc\, MEd\, RCC and Liz Radermacher BA\, MA\, RCC from Pacific Therapy Counselling has appointments available on Wednesdays at 1:00.  To book an appointment\, please call 250-334-9225 or email:  info.cvhis@gmail.com
URL:https://cvhis.org/event/one-on-one-counselling-3/2024-08-07/
END:VEVENT
BEGIN:VEVENT
DTSTART;TZID=America/Vancouver:20240812T103000
DTEND;TZID=America/Vancouver:20240812T113000
DTSTAMP:20260422T090255
CREATED:20240312T185816Z
LAST-MODIFIED:20251201T205956Z
UID:10000023-1723458600-1723462200@cvhis.org
SUMMARY:Mindfulness by ZOOM
DESCRIPTION:This is a one-hour session to learn to use mindfulness meditation to help with stress reduction\, improve relationship satisfaction\, decrease levels of anxiety and emotional reactivity\, and help focus attention. \nThis is a ZOOM-only program.  Please call or email to let us know if you will be joining us so we can send you the ZOOM link.
URL:https://cvhis.org/event/mindfulness-zoom/2024-08-12/
END:VEVENT
BEGIN:VEVENT
DTSTART;TZID=America/Vancouver:20240813T113000
DTEND;TZID=America/Vancouver:20240813T123000
DTSTAMP:20260422T090255
CREATED:20240326T192956Z
LAST-MODIFIED:20251201T201229Z
UID:10002102-1723548600-1723552200@cvhis.org
SUMMARY:Lunch at the Legion
DESCRIPTION:367 Cliff Ave. \nDoors open 11:30\, lunch served until 12:30.  Eat in or take out options available. Choice of 2 sandwiches\, salad\, fruit\, coffee/tea or water. \nSurvivors $2.00\, friends & family $5.00
URL:https://cvhis.org/event/lunch-at-the-legion/2024-08-13/
END:VEVENT
BEGIN:VEVENT
DTSTART;TZID=America/Vancouver:20240813T121500
DTEND;TZID=America/Vancouver:20240813T130000
DTSTAMP:20260422T090255
CREATED:20240516T201657Z
LAST-MODIFIED:20241219T213017Z
UID:10007476-1723551300-1723554000@cvhis.org
SUMMARY:One on One Counselling
DESCRIPTION:Do you need help?  Would you like to talk to someone?  Make an appointment with one of our certified therapists who work in partnership with our Society.  Josh Boudin\, MSW\, RSW\, from Pacific Therapy Counselling has appointments available on Tuesdays at 12:15.  To book an appointment\, please call 250-334-9225 or email:  info.cvhis@gmail.com
URL:https://cvhis.org/event/one-on-one-counselling-2/2024-08-13/
END:VEVENT
BEGIN:VEVENT
DTSTART;TZID=America/Vancouver:20240813T133000
DTEND;TZID=America/Vancouver:20240813T143000
DTSTAMP:20260422T090255
CREATED:20240411T173022Z
LAST-MODIFIED:20250514T195317Z
UID:10006404-1723555800-1723559400@cvhis.org
SUMMARY:Guided Music Sessions
DESCRIPTION:Come join Veronica from Long & McQuade for some guided music sessions.  You’ll have some fun\, and learn some theory and techniques.  Beginners and experienced musicians are welcome.
URL:https://cvhis.org/event/guided-music-sessions/2024-08-13/
END:VEVENT
BEGIN:VEVENT
DTSTART;TZID=America/Vancouver:20240814T103000
DTEND;TZID=America/Vancouver:20240814T120000
DTSTAMP:20260422T090255
CREATED:20240410T205821Z
LAST-MODIFIED:20251201T203134Z
UID:10005352-1723631400-1723636800@cvhis.org
SUMMARY:Peer Led Art Therapy
DESCRIPTION:Come join our peer led Art Therapy classes.  Sarah is a wonderful leader\, and has a lot of first hand knowledge and experience with a variety of mediums that she’s eager to share with you.
URL:https://cvhis.org/event/peer-led-art-therapy/2024-08-14/
END:VEVENT
BEGIN:VEVENT
DTSTART;TZID=America/Vancouver:20240814T130000
DTEND;TZID=America/Vancouver:20240814T130000
DTSTAMP:20260422T090255
CREATED:20240410T210709Z
LAST-MODIFIED:20251201T202924Z
UID:10005874-1723640400-1723640400@cvhis.org
SUMMARY:Survivor Support Group
DESCRIPTION:A safe place for survivors to come together and share what they have in common.  Find support and encouragement from others that understand what it is like to have a brain injury.  A welcoming round table\, led by Linda.
URL:https://cvhis.org/event/survivor-support-group-2/2024-08-14/
END:VEVENT
BEGIN:VEVENT
DTSTART;TZID=America/Vancouver:20240814T130000
DTEND;TZID=America/Vancouver:20240814T140000
DTSTAMP:20260422T090255
CREATED:20240516T202027Z
LAST-MODIFIED:20241219T212827Z
UID:10007744-1723640400-1723644000@cvhis.org
SUMMARY:One on One Counselling
DESCRIPTION:Do you need help?  Would you like to talk to someone?  Make an appointment with one of our certified therapists who work in partnership with our Society.  Leslie Wells\, BSc\, MEd\, RCC and Liz Radermacher BA\, MA\, RCC from Pacific Therapy Counselling has appointments available on Wednesdays at 1:00.  To book an appointment\, please call 250-334-9225 or email:  info.cvhis@gmail.com
URL:https://cvhis.org/event/one-on-one-counselling-3/2024-08-14/
END:VEVENT
BEGIN:VEVENT
DTSTART;TZID=America/Vancouver:20240819T103000
DTEND;TZID=America/Vancouver:20240819T113000
DTSTAMP:20260422T090255
CREATED:20240312T185816Z
LAST-MODIFIED:20251201T205956Z
UID:10000024-1724063400-1724067000@cvhis.org
SUMMARY:Mindfulness by ZOOM
DESCRIPTION:This is a one-hour session to learn to use mindfulness meditation to help with stress reduction\, improve relationship satisfaction\, decrease levels of anxiety and emotional reactivity\, and help focus attention. \nThis is a ZOOM-only program.  Please call or email to let us know if you will be joining us so we can send you the ZOOM link.
URL:https://cvhis.org/event/mindfulness-zoom/2024-08-19/
END:VEVENT
BEGIN:VEVENT
DTSTART;TZID=America/Vancouver:20240820T113000
DTEND;TZID=America/Vancouver:20240820T123000
DTSTAMP:20260422T090255
CREATED:20240326T192956Z
LAST-MODIFIED:20251201T201229Z
UID:10002103-1724153400-1724157000@cvhis.org
SUMMARY:Lunch at the Legion
DESCRIPTION:367 Cliff Ave. \nDoors open 11:30\, lunch served until 12:30.  Eat in or take out options available. Choice of 2 sandwiches\, salad\, fruit\, coffee/tea or water. \nSurvivors $2.00\, friends & family $5.00
URL:https://cvhis.org/event/lunch-at-the-legion/2024-08-20/
END:VEVENT
BEGIN:VEVENT
DTSTART;TZID=America/Vancouver:20240820T121500
DTEND;TZID=America/Vancouver:20240820T130000
DTSTAMP:20260422T090255
CREATED:20240516T201657Z
LAST-MODIFIED:20241219T213017Z
UID:10007477-1724156100-1724158800@cvhis.org
SUMMARY:One on One Counselling
DESCRIPTION:Do you need help?  Would you like to talk to someone?  Make an appointment with one of our certified therapists who work in partnership with our Society.  Josh Boudin\, MSW\, RSW\, from Pacific Therapy Counselling has appointments available on Tuesdays at 12:15.  To book an appointment\, please call 250-334-9225 or email:  info.cvhis@gmail.com
URL:https://cvhis.org/event/one-on-one-counselling-2/2024-08-20/
END:VEVENT
BEGIN:VEVENT
DTSTART;TZID=America/Vancouver:20240820T133000
DTEND;TZID=America/Vancouver:20240820T143000
DTSTAMP:20260422T090255
CREATED:20240411T173022Z
LAST-MODIFIED:20250514T195317Z
UID:10006405-1724160600-1724164200@cvhis.org
SUMMARY:Guided Music Sessions
DESCRIPTION:Come join Veronica from Long & McQuade for some guided music sessions.  You’ll have some fun\, and learn some theory and techniques.  Beginners and experienced musicians are welcome.
URL:https://cvhis.org/event/guided-music-sessions/2024-08-20/
END:VEVENT
BEGIN:VEVENT
DTSTART;TZID=America/Vancouver:20240821T103000
DTEND;TZID=America/Vancouver:20240821T120000
DTSTAMP:20260422T090255
CREATED:20240410T205821Z
LAST-MODIFIED:20251201T203134Z
UID:10005353-1724236200-1724241600@cvhis.org
SUMMARY:Peer Led Art Therapy
DESCRIPTION:Come join our peer led Art Therapy classes.  Sarah is a wonderful leader\, and has a lot of first hand knowledge and experience with a variety of mediums that she’s eager to share with you.
URL:https://cvhis.org/event/peer-led-art-therapy/2024-08-21/
END:VEVENT
BEGIN:VEVENT
DTSTART;TZID=America/Vancouver:20240821T130000
DTEND;TZID=America/Vancouver:20240821T130000
DTSTAMP:20260422T090255
CREATED:20240410T210709Z
LAST-MODIFIED:20251201T202924Z
UID:10005875-1724245200-1724245200@cvhis.org
SUMMARY:Survivor Support Group
DESCRIPTION:A safe place for survivors to come together and share what they have in common.  Find support and encouragement from others that understand what it is like to have a brain injury.  A welcoming round table\, led by Linda.
URL:https://cvhis.org/event/survivor-support-group-2/2024-08-21/
END:VEVENT
BEGIN:VEVENT
DTSTART;TZID=America/Vancouver:20240821T130000
DTEND;TZID=America/Vancouver:20240821T140000
DTSTAMP:20260422T090255
CREATED:20240516T202027Z
LAST-MODIFIED:20241219T212827Z
UID:10007745-1724245200-1724248800@cvhis.org
SUMMARY:One on One Counselling
DESCRIPTION:Do you need help?  Would you like to talk to someone?  Make an appointment with one of our certified therapists who work in partnership with our Society.  Leslie Wells\, BSc\, MEd\, RCC and Liz Radermacher BA\, MA\, RCC from Pacific Therapy Counselling has appointments available on Wednesdays at 1:00.  To book an appointment\, please call 250-334-9225 or email:  info.cvhis@gmail.com
URL:https://cvhis.org/event/one-on-one-counselling-3/2024-08-21/
END:VEVENT
BEGIN:VEVENT
DTSTART;TZID=America/Vancouver:20240822T121500
DTEND;TZID=America/Vancouver:20240822T140000
DTSTAMP:20260422T090255
CREATED:20240813T193535Z
LAST-MODIFIED:20240819T162110Z
UID:10008302-1724328900-1724335200@cvhis.org
SUMMARY:Dragon Boating (weather permitting)
DESCRIPTION:12:15pm SHARP\nLocation:  Comox Marina\nSpring is in the air\, which means it’s time to dust off the dragon boats and hit the water!  Meet us at the Marina (boat launch area) by 12:15\, or at the office by 12:00pm if you need a ride. \nRegistration Required
URL:https://cvhis.org/event/dragon-boating-weather-permitting-3/2024-08-22/
END:VEVENT
BEGIN:VEVENT
DTSTART;TZID=America/Vancouver:20240826T103000
DTEND;TZID=America/Vancouver:20240826T113000
DTSTAMP:20260422T090255
CREATED:20240312T185816Z
LAST-MODIFIED:20251201T205956Z
UID:10000025-1724668200-1724671800@cvhis.org
SUMMARY:Mindfulness by ZOOM
DESCRIPTION:This is a one-hour session to learn to use mindfulness meditation to help with stress reduction\, improve relationship satisfaction\, decrease levels of anxiety and emotional reactivity\, and help focus attention. \nThis is a ZOOM-only program.  Please call or email to let us know if you will be joining us so we can send you the ZOOM link.
URL:https://cvhis.org/event/mindfulness-zoom/2024-08-26/
END:VEVENT
BEGIN:VEVENT
DTSTART;TZID=America/Vancouver:20240827T113000
DTEND;TZID=America/Vancouver:20240827T123000
DTSTAMP:20260422T090255
CREATED:20240326T192956Z
LAST-MODIFIED:20251201T201229Z
UID:10002104-1724758200-1724761800@cvhis.org
SUMMARY:Lunch at the Legion
DESCRIPTION:367 Cliff Ave. \nDoors open 11:30\, lunch served until 12:30.  Eat in or take out options available. Choice of 2 sandwiches\, salad\, fruit\, coffee/tea or water. \nSurvivors $2.00\, friends & family $5.00
URL:https://cvhis.org/event/lunch-at-the-legion/2024-08-27/
END:VEVENT
BEGIN:VEVENT
DTSTART;TZID=America/Vancouver:20240827T121500
DTEND;TZID=America/Vancouver:20240827T130000
DTSTAMP:20260422T090255
CREATED:20240516T201657Z
LAST-MODIFIED:20241219T213017Z
UID:10007478-1724760900-1724763600@cvhis.org
SUMMARY:One on One Counselling
DESCRIPTION:Do you need help?  Would you like to talk to someone?  Make an appointment with one of our certified therapists who work in partnership with our Society.  Josh Boudin\, MSW\, RSW\, from Pacific Therapy Counselling has appointments available on Tuesdays at 12:15.  To book an appointment\, please call 250-334-9225 or email:  info.cvhis@gmail.com
URL:https://cvhis.org/event/one-on-one-counselling-2/2024-08-27/
END:VEVENT
BEGIN:VEVENT
DTSTART;TZID=America/Vancouver:20240827T133000
DTEND;TZID=America/Vancouver:20240827T143000
DTSTAMP:20260422T090255
CREATED:20240411T173022Z
LAST-MODIFIED:20250514T195317Z
UID:10006406-1724765400-1724769000@cvhis.org
SUMMARY:Guided Music Sessions
DESCRIPTION:Come join Veronica from Long & McQuade for some guided music sessions.  You’ll have some fun\, and learn some theory and techniques.  Beginners and experienced musicians are welcome.
URL:https://cvhis.org/event/guided-music-sessions/2024-08-27/
END:VEVENT
BEGIN:VEVENT
DTSTART;TZID=America/Vancouver:20240828T040000
DTEND;TZID=America/Vancouver:20240828T040000
DTSTAMP:20260422T090255
CREATED:20240619T195248Z
LAST-MODIFIED:20250218T221436Z
UID:10011489-1724817600-1724817600@cvhis.org
SUMMARY:Caregivers Support Group
DESCRIPTION:Location:  CVHIS office\nCVHIS welcomes caregivers\, family members & friends who care for or know a person with an acquired head injury.  Come share your challenges and successes in a supportive setting\, led by Linda\, our Outreach Coordinator.  Registration required. 250-334-9225 or email info.cvhis@gmail.com\nRegistration Appreciated
URL:https://cvhis.org/event/caregivers-support-group/2024-08-28/
END:VEVENT
BEGIN:VEVENT
DTSTART;TZID=America/Vancouver:20240828T103000
DTEND;TZID=America/Vancouver:20240828T120000
DTSTAMP:20260422T090255
CREATED:20240410T205821Z
LAST-MODIFIED:20251201T203134Z
UID:10005354-1724841000-1724846400@cvhis.org
SUMMARY:Peer Led Art Therapy
DESCRIPTION:Come join our peer led Art Therapy classes.  Sarah is a wonderful leader\, and has a lot of first hand knowledge and experience with a variety of mediums that she’s eager to share with you.
URL:https://cvhis.org/event/peer-led-art-therapy/2024-08-28/
END:VEVENT
BEGIN:VEVENT
DTSTART;TZID=America/Vancouver:20240828T130000
DTEND;TZID=America/Vancouver:20240828T130000
DTSTAMP:20260422T090255
CREATED:20240410T210709Z
LAST-MODIFIED:20251201T202924Z
UID:10005876-1724850000-1724850000@cvhis.org
SUMMARY:Survivor Support Group
DESCRIPTION:A safe place for survivors to come together and share what they have in common.  Find support and encouragement from others that understand what it is like to have a brain injury.  A welcoming round table\, led by Linda.
URL:https://cvhis.org/event/survivor-support-group-2/2024-08-28/
END:VEVENT
BEGIN:VEVENT
DTSTART;TZID=America/Vancouver:20240828T130000
DTEND;TZID=America/Vancouver:20240828T140000
DTSTAMP:20260422T090255
CREATED:20240516T202027Z
LAST-MODIFIED:20241219T212827Z
UID:10007746-1724850000-1724853600@cvhis.org
SUMMARY:One on One Counselling
DESCRIPTION:Do you need help?  Would you like to talk to someone?  Make an appointment with one of our certified therapists who work in partnership with our Society.  Leslie Wells\, BSc\, MEd\, RCC and Liz Radermacher BA\, MA\, RCC from Pacific Therapy Counselling has appointments available on Wednesdays at 1:00.  To book an appointment\, please call 250-334-9225 or email:  info.cvhis@gmail.com
URL:https://cvhis.org/event/one-on-one-counselling-3/2024-08-28/
END:VEVENT
BEGIN:VEVENT
DTSTART;TZID=America/Vancouver:20240829T100000
DTEND;TZID=America/Vancouver:20240829T100000
DTSTAMP:20260422T090255
CREATED:20240326T211246Z
LAST-MODIFIED:20250915T205112Z
UID:10006137-1724925600-1724925600@cvhis.org
SUMMARY:Yoga with Allisyn
DESCRIPTION:Location: CVHIS Activity Room or on ZOOM\nStretching can lead to greater range of motion\, improved balance\, and increased flexibility. Movements are adaptable\, you can participate with the use of a chair for balance and support.\nYoga mats are available\, but if you have one\, we strongly encourage you to bring your own to class. \nRegistration required
URL:https://cvhis.org/event/yoga-with-allisyn-2/2024-08-29/
END:VEVENT
END:VCALENDAR