BEGIN:VCALENDAR
VERSION:2.0
PRODID:-//Comox Valley Head Injury Society - ECPv6.15.17.1//NONSGML v1.0//EN
CALSCALE:GREGORIAN
METHOD:PUBLISH
X-ORIGINAL-URL:https://cvhis.org
X-WR-CALDESC:Events for Comox Valley Head Injury Society
REFRESH-INTERVAL;VALUE=DURATION:PT1H
X-Robots-Tag:noindex
X-PUBLISHED-TTL:PT1H
BEGIN:VTIMEZONE
TZID:America/Vancouver
BEGIN:DAYLIGHT
TZOFFSETFROM:-0800
TZOFFSETTO:-0700
TZNAME:PDT
DTSTART:20240310T100000
END:DAYLIGHT
BEGIN:STANDARD
TZOFFSETFROM:-0700
TZOFFSETTO:-0800
TZNAME:PST
DTSTART:20241103T090000
END:STANDARD
BEGIN:DAYLIGHT
TZOFFSETFROM:-0800
TZOFFSETTO:-0700
TZNAME:PDT
DTSTART:20250309T100000
END:DAYLIGHT
BEGIN:STANDARD
TZOFFSETFROM:-0700
TZOFFSETTO:-0800
TZNAME:PST
DTSTART:20251102T090000
END:STANDARD
BEGIN:DAYLIGHT
TZOFFSETFROM:-0800
TZOFFSETTO:-0700
TZNAME:PDT
DTSTART:20260308T100000
END:DAYLIGHT
BEGIN:STANDARD
TZOFFSETFROM:-0700
TZOFFSETTO:-0800
TZNAME:PST
DTSTART:20261101T090000
END:STANDARD
END:VTIMEZONE
BEGIN:VEVENT
DTSTART;TZID=America/Vancouver:20250106T103000
DTEND;TZID=America/Vancouver:20250106T113000
DTSTAMP:20260422T011748
CREATED:20240312T185816Z
LAST-MODIFIED:20251201T205956Z
UID:10000044-1736159400-1736163000@cvhis.org
SUMMARY:Mindfulness by ZOOM
DESCRIPTION:This is a one-hour session to learn to use mindfulness meditation to help with stress reduction\, improve relationship satisfaction\, decrease levels of anxiety and emotional reactivity\, and help focus attention. \nThis is a ZOOM-only program.  Please call or email to let us know if you will be joining us so we can send you the ZOOM link.
URL:https://cvhis.org/event/mindfulness-zoom/2025-01-06/
END:VEVENT
BEGIN:VEVENT
DTSTART;TZID=America/Vancouver:20250106T123000
DTEND;TZID=America/Vancouver:20250106T150000
DTSTAMP:20260422T011748
CREATED:20241120T212845Z
LAST-MODIFIED:20250430T171342Z
UID:10011084-1736166600-1736175600@cvhis.org
SUMMARY:Reiki with Brad
DESCRIPTION:We will be booking specific times for each person registered\, each session is 30 minutes in length\, and we’ll contact you with a specific time for your session. \nJoin Reiki Master & teacher\, Brad H.\, in this unique event! \nReiki is a Japanese word which translates to Universal Life Force Energy.  Reiki is an ancient practice that can be experienced by either “hands on” or by “distance” (remote) healing.  A Reiki treatment encourages physical\, emotional\, and spiritual growth and transformation. \nThe unique gift of a Reiki treatment allows the body’s energy centers\, commonly known as Chakras\, to be more fully opened\, allowing a person to connect with greater amounts of healing energy. \nReiki energy flows through the practitioner who acts as a conduit\, thus allowing the recipient to receive healing energy to all the parts of the body that require attention.  This universal life force energy enters through the practitioner’s head (crown Chakra) and then flows through the entire body\, finally including internal organs\, where it is most needed.
URL:https://cvhis.org/event/reiki-with-brad-7/2025-01-06/
END:VEVENT
BEGIN:VEVENT
DTSTART;TZID=America/Vancouver:20250106T123000
DTEND;TZID=America/Vancouver:20250106T150000
DTSTAMP:20260422T011748
CREATED:20250128T220720Z
LAST-MODIFIED:20250224T204447Z
UID:10011191-1736166600-1736175600@cvhis.org
SUMMARY:Reiki with Brad
DESCRIPTION:We will be booking specific times for each person registered\, each session is 30 minutes in length\, and we’ll contact you with a specific time for your session. \nJoin Reiki Master & teacher\, Brad H.\, in this unique event! \nReiki is a Japanese word which translates to Universal Life Force Energy.  Reiki is an ancient practice that can be experienced by either “hands on” or by “distance” (remote) healing.  A Reiki treatment encourages physical\, emotional\, and spiritual growth and transformation. \nThe unique gift of a Reiki treatment allows the body’s energy centers\, commonly known as Chakras\, to be more fully opened\, allowing a person to connect with greater amounts of healing energy. \nReiki energy flows through the practitioner who acts as a conduit\, thus allowing the recipient to receive healing energy to all the parts of the body that require attention.  This universal life force energy enters through the practitioner’s head (crown Chakra) and then flows through the entire body\, finally including internal organs\, where it is most needed.
URL:https://cvhis.org/event/reiki-with-brad/2025-01-06/
END:VEVENT
BEGIN:VEVENT
DTSTART;TZID=America/Vancouver:20250106T123000
DTEND;TZID=America/Vancouver:20250106T150000
DTSTAMP:20260422T011748
CREATED:20250317T202343Z
LAST-MODIFIED:20251224T180737Z
UID:10011797-1736166600-1736175600@cvhis.org
SUMMARY:Reiki with Brad
DESCRIPTION:We will be booking specific times for each person registered\, each session is 30 minutes in length\, and we’ll contact you with a specific time for your session. \nJoin Reiki Master & teacher\, Brad H.\, in this unique event! \nReiki is a Japanese word which translates to Universal Life Force Energy.  Reiki is an ancient practice that can be experienced by either “hands on” or by “distance” (remote) healing.  A Reiki treatment encourages physical\, emotional\, and spiritual growth and transformation. \nThe unique gift of a Reiki treatment allows the body’s energy centers\, commonly known as Chakras\, to be more fully opened\, allowing a person to connect with greater amounts of healing energy. \nReiki energy flows through the practitioner who acts as a conduit\, thus allowing the recipient to receive healing energy to all the parts of the body that require attention.  This universal life force energy enters through the practitioner’s head (crown Chakra) and then flows through the entire body\, finally including internal organs\, where it is most needed.
URL:https://cvhis.org/event/reiki-with-brad-2/2025-01-06/
END:VEVENT
BEGIN:VEVENT
DTSTART;TZID=America/Vancouver:20250107T113000
DTEND;TZID=America/Vancouver:20250107T123000
DTSTAMP:20260422T011748
CREATED:20240326T192956Z
LAST-MODIFIED:20251201T201229Z
UID:10002123-1736249400-1736253000@cvhis.org
SUMMARY:Lunch at the Legion
DESCRIPTION:367 Cliff Ave. \nDoors open 11:30\, lunch served until 12:30.  Eat in or take out options available. Choice of 2 sandwiches\, salad\, fruit\, coffee/tea or water. \nSurvivors $2.00\, friends & family $5.00
URL:https://cvhis.org/event/lunch-at-the-legion/2025-01-07/
END:VEVENT
BEGIN:VEVENT
DTSTART;TZID=America/Vancouver:20250107T121500
DTEND;TZID=America/Vancouver:20250107T130000
DTSTAMP:20260422T011748
CREATED:20240516T201657Z
LAST-MODIFIED:20241219T213017Z
UID:10007497-1736252100-1736254800@cvhis.org
SUMMARY:One on One Counselling
DESCRIPTION:Do you need help?  Would you like to talk to someone?  Make an appointment with one of our certified therapists who work in partnership with our Society.  Josh Boudin\, MSW\, RSW\, from Pacific Therapy Counselling has appointments available on Tuesdays at 12:15.  To book an appointment\, please call 250-334-9225 or email:  info.cvhis@gmail.com
URL:https://cvhis.org/event/one-on-one-counselling-2/2025-01-07/
END:VEVENT
BEGIN:VEVENT
DTSTART;TZID=America/Vancouver:20250107T133000
DTEND;TZID=America/Vancouver:20250107T143000
DTSTAMP:20260422T011748
CREATED:20240411T173022Z
LAST-MODIFIED:20250514T195317Z
UID:10006425-1736256600-1736260200@cvhis.org
SUMMARY:Guided Music Sessions
DESCRIPTION:Come join Veronica from Long & McQuade for some guided music sessions.  You’ll have some fun\, and learn some theory and techniques.  Beginners and experienced musicians are welcome.
URL:https://cvhis.org/event/guided-music-sessions/2025-01-07/
END:VEVENT
BEGIN:VEVENT
DTSTART;TZID=America/Vancouver:20250108T103000
DTEND;TZID=America/Vancouver:20250108T120000
DTSTAMP:20260422T011748
CREATED:20240410T205821Z
LAST-MODIFIED:20251201T203134Z
UID:10005373-1736332200-1736337600@cvhis.org
SUMMARY:Peer Led Art Therapy
DESCRIPTION:Come join our peer led Art Therapy classes.  Sarah is a wonderful leader\, and has a lot of first hand knowledge and experience with a variety of mediums that she’s eager to share with you.
URL:https://cvhis.org/event/peer-led-art-therapy/2025-01-08/
END:VEVENT
BEGIN:VEVENT
DTSTART;TZID=America/Vancouver:20250108T130000
DTEND;TZID=America/Vancouver:20250108T130000
DTSTAMP:20260422T011748
CREATED:20240410T210709Z
LAST-MODIFIED:20251201T202924Z
UID:10005895-1736341200-1736341200@cvhis.org
SUMMARY:Survivor Support Group
DESCRIPTION:A safe place for survivors to come together and share what they have in common.  Find support and encouragement from others that understand what it is like to have a brain injury.  A welcoming round table\, led by Linda.
URL:https://cvhis.org/event/survivor-support-group-2/2025-01-08/
END:VEVENT
BEGIN:VEVENT
DTSTART;TZID=America/Vancouver:20250108T130000
DTEND;TZID=America/Vancouver:20250108T140000
DTSTAMP:20260422T011748
CREATED:20240516T202027Z
LAST-MODIFIED:20241219T212827Z
UID:10007765-1736341200-1736344800@cvhis.org
SUMMARY:One on One Counselling
DESCRIPTION:Do you need help?  Would you like to talk to someone?  Make an appointment with one of our certified therapists who work in partnership with our Society.  Leslie Wells\, BSc\, MEd\, RCC and Liz Radermacher BA\, MA\, RCC from Pacific Therapy Counselling has appointments available on Wednesdays at 1:00.  To book an appointment\, please call 250-334-9225 or email:  info.cvhis@gmail.com
URL:https://cvhis.org/event/one-on-one-counselling-3/2025-01-08/
END:VEVENT
BEGIN:VEVENT
DTSTART;TZID=America/Vancouver:20250109T080000
DTEND;TZID=America/Vancouver:20250109T170000
DTSTAMP:20260422T011748
CREATED:20241219T230747Z
LAST-MODIFIED:20250818T215424Z
UID:10013297-1736409600-1736442000@cvhis.org
SUMMARY:Understanding Brain Injury (UBI) Workshop
DESCRIPTION:Martina Forster\, Occupational Therapist\, is facilitating this informative workshop. Survivors\, family and friends are welcome to attend this workshop to learn more about brain injuries.  Workshop being held at CVHIS. \nRegistration required:  info.cvhis@gmal.com or call 250-334-9225
URL:https://cvhis.org/event/understanding-brain-injury-ubi-workshop/2025-01-09/1/
END:VEVENT
BEGIN:VEVENT
DTSTART;TZID=America/Vancouver:20250109T100000
DTEND;TZID=America/Vancouver:20250109T100000
DTSTAMP:20260422T011748
CREATED:20240326T211246Z
LAST-MODIFIED:20250915T205112Z
UID:10006156-1736416800-1736416800@cvhis.org
SUMMARY:Yoga with Allisyn
DESCRIPTION:Location: CVHIS Activity Room or on ZOOM\nStretching can lead to greater range of motion\, improved balance\, and increased flexibility. Movements are adaptable\, you can participate with the use of a chair for balance and support.\nYoga mats are available\, but if you have one\, we strongly encourage you to bring your own to class. \nRegistration required
URL:https://cvhis.org/event/yoga-with-allisyn-2/2025-01-09/
END:VEVENT
BEGIN:VEVENT
DTSTART;TZID=America/Vancouver:20250109T133000
DTEND;TZID=America/Vancouver:20250109T150000
DTSTAMP:20260422T011748
CREATED:20241219T230747Z
LAST-MODIFIED:20250818T215424Z
UID:10011169-1736429400-1736434800@cvhis.org
SUMMARY:Understanding Brain Injury (UBI) Workshop
DESCRIPTION:Martina Forster\, Occupational Therapist\, is facilitating this informative workshop. Survivors\, family and friends are welcome to attend this workshop to learn more about brain injuries.  Workshop being held at CVHIS. \nRegistration required:  info.cvhis@gmal.com or call 250-334-9225
URL:https://cvhis.org/event/understanding-brain-injury-ubi-workshop/2025-01-09/2/
END:VEVENT
BEGIN:VEVENT
DTSTART;TZID=America/Vancouver:20250113T103000
DTEND;TZID=America/Vancouver:20250113T113000
DTSTAMP:20260422T011748
CREATED:20240312T185816Z
LAST-MODIFIED:20251201T205956Z
UID:10000045-1736764200-1736767800@cvhis.org
SUMMARY:Mindfulness by ZOOM
DESCRIPTION:This is a one-hour session to learn to use mindfulness meditation to help with stress reduction\, improve relationship satisfaction\, decrease levels of anxiety and emotional reactivity\, and help focus attention. \nThis is a ZOOM-only program.  Please call or email to let us know if you will be joining us so we can send you the ZOOM link.
URL:https://cvhis.org/event/mindfulness-zoom/2025-01-13/
END:VEVENT
BEGIN:VEVENT
DTSTART;TZID=America/Vancouver:20250113T133000
DTEND;TZID=America/Vancouver:20250113T143000
DTSTAMP:20260422T011748
CREATED:20241219T214734Z
LAST-MODIFIED:20250128T232526Z
UID:10011168-1736775000-1736778600@cvhis.org
SUMMARY:Curling
DESCRIPTION:Curling is a classic Canadian sport.  Come join us at the Comox Valley Curling Center\, 4835 Headquarters Rd.\, and throw a few rocks.  You might be the next skip at the Briar!  Don’t forget to bring a helmet to protect your noggin. \nRegistration required – maximum 8 people
URL:https://cvhis.org/event/curling/2025-01-13/
END:VEVENT
BEGIN:VEVENT
DTSTART;TZID=America/Vancouver:20250114T113000
DTEND;TZID=America/Vancouver:20250114T123000
DTSTAMP:20260422T011748
CREATED:20240326T192956Z
LAST-MODIFIED:20251201T201229Z
UID:10002124-1736854200-1736857800@cvhis.org
SUMMARY:Lunch at the Legion
DESCRIPTION:367 Cliff Ave. \nDoors open 11:30\, lunch served until 12:30.  Eat in or take out options available. Choice of 2 sandwiches\, salad\, fruit\, coffee/tea or water. \nSurvivors $2.00\, friends & family $5.00
URL:https://cvhis.org/event/lunch-at-the-legion/2025-01-14/
END:VEVENT
BEGIN:VEVENT
DTSTART;TZID=America/Vancouver:20250114T121500
DTEND;TZID=America/Vancouver:20250114T130000
DTSTAMP:20260422T011748
CREATED:20240516T201657Z
LAST-MODIFIED:20241219T213017Z
UID:10007498-1736856900-1736859600@cvhis.org
SUMMARY:One on One Counselling
DESCRIPTION:Do you need help?  Would you like to talk to someone?  Make an appointment with one of our certified therapists who work in partnership with our Society.  Josh Boudin\, MSW\, RSW\, from Pacific Therapy Counselling has appointments available on Tuesdays at 12:15.  To book an appointment\, please call 250-334-9225 or email:  info.cvhis@gmail.com
URL:https://cvhis.org/event/one-on-one-counselling-2/2025-01-14/
END:VEVENT
BEGIN:VEVENT
DTSTART;TZID=America/Vancouver:20250114T133000
DTEND;TZID=America/Vancouver:20250114T143000
DTSTAMP:20260422T011748
CREATED:20240411T173022Z
LAST-MODIFIED:20250514T195317Z
UID:10006426-1736861400-1736865000@cvhis.org
SUMMARY:Guided Music Sessions
DESCRIPTION:Come join Veronica from Long & McQuade for some guided music sessions.  You’ll have some fun\, and learn some theory and techniques.  Beginners and experienced musicians are welcome.
URL:https://cvhis.org/event/guided-music-sessions/2025-01-14/
END:VEVENT
BEGIN:VEVENT
DTSTART;TZID=America/Vancouver:20250115T103000
DTEND;TZID=America/Vancouver:20250115T120000
DTSTAMP:20260422T011748
CREATED:20240410T205821Z
LAST-MODIFIED:20251201T203134Z
UID:10005374-1736937000-1736942400@cvhis.org
SUMMARY:Peer Led Art Therapy
DESCRIPTION:Come join our peer led Art Therapy classes.  Sarah is a wonderful leader\, and has a lot of first hand knowledge and experience with a variety of mediums that she’s eager to share with you.
URL:https://cvhis.org/event/peer-led-art-therapy/2025-01-15/
END:VEVENT
BEGIN:VEVENT
DTSTART;TZID=America/Vancouver:20250115T130000
DTEND;TZID=America/Vancouver:20250115T130000
DTSTAMP:20260422T011748
CREATED:20240410T210709Z
LAST-MODIFIED:20251201T202924Z
UID:10005896-1736946000-1736946000@cvhis.org
SUMMARY:Survivor Support Group
DESCRIPTION:A safe place for survivors to come together and share what they have in common.  Find support and encouragement from others that understand what it is like to have a brain injury.  A welcoming round table\, led by Linda.
URL:https://cvhis.org/event/survivor-support-group-2/2025-01-15/
END:VEVENT
BEGIN:VEVENT
DTSTART;TZID=America/Vancouver:20250115T130000
DTEND;TZID=America/Vancouver:20250115T140000
DTSTAMP:20260422T011748
CREATED:20240516T202027Z
LAST-MODIFIED:20241219T212827Z
UID:10007766-1736946000-1736949600@cvhis.org
SUMMARY:One on One Counselling
DESCRIPTION:Do you need help?  Would you like to talk to someone?  Make an appointment with one of our certified therapists who work in partnership with our Society.  Leslie Wells\, BSc\, MEd\, RCC and Liz Radermacher BA\, MA\, RCC from Pacific Therapy Counselling has appointments available on Wednesdays at 1:00.  To book an appointment\, please call 250-334-9225 or email:  info.cvhis@gmail.com
URL:https://cvhis.org/event/one-on-one-counselling-3/2025-01-15/
END:VEVENT
BEGIN:VEVENT
DTSTART;TZID=America/Vancouver:20250116T100000
DTEND;TZID=America/Vancouver:20250116T100000
DTSTAMP:20260422T011748
CREATED:20240326T211246Z
LAST-MODIFIED:20250915T205112Z
UID:10006157-1737021600-1737021600@cvhis.org
SUMMARY:Yoga with Allisyn
DESCRIPTION:Location: CVHIS Activity Room or on ZOOM\nStretching can lead to greater range of motion\, improved balance\, and increased flexibility. Movements are adaptable\, you can participate with the use of a chair for balance and support.\nYoga mats are available\, but if you have one\, we strongly encourage you to bring your own to class. \nRegistration required
URL:https://cvhis.org/event/yoga-with-allisyn-2/2025-01-16/
END:VEVENT
BEGIN:VEVENT
DTSTART;TZID=America/Vancouver:20250116T133000
DTEND;TZID=America/Vancouver:20250116T150000
DTSTAMP:20260422T011748
CREATED:20241219T231842Z
LAST-MODIFIED:20241219T235138Z
UID:10011170-1737034200-1737039600@cvhis.org
SUMMARY:Healthy Brain Habits - 2 part workshop
DESCRIPTION:Join Occupational therapist Martina Forster for this two part series on how to start the year right with Healthy Brain Habits. Focusing on ways that we can help our brains to be at our best through proper sleep\, exercise\, nutrition and managing stress.  Open to Survivors\, family\, friends and caregivers.  Workshop being held at CVHIS. \nRegistration Required:  info.cvhis@gmail.com or call 250-334-9225
URL:https://cvhis.org/event/healthy-brain-habits-2-part-workshop/2025-01-16/
END:VEVENT
BEGIN:VEVENT
DTSTART;TZID=America/Vancouver:20250120T103000
DTEND;TZID=America/Vancouver:20250120T113000
DTSTAMP:20260422T011748
CREATED:20240312T185816Z
LAST-MODIFIED:20251201T205956Z
UID:10000046-1737369000-1737372600@cvhis.org
SUMMARY:Mindfulness by ZOOM
DESCRIPTION:This is a one-hour session to learn to use mindfulness meditation to help with stress reduction\, improve relationship satisfaction\, decrease levels of anxiety and emotional reactivity\, and help focus attention. \nThis is a ZOOM-only program.  Please call or email to let us know if you will be joining us so we can send you the ZOOM link.
URL:https://cvhis.org/event/mindfulness-zoom/2025-01-20/
END:VEVENT
BEGIN:VEVENT
DTSTART;TZID=America/Vancouver:20250120T123000
DTEND;TZID=America/Vancouver:20250120T150000
DTSTAMP:20260422T011748
CREATED:20241120T212845Z
LAST-MODIFIED:20250430T171342Z
UID:10011085-1737376200-1737385200@cvhis.org
SUMMARY:Reiki with Brad
DESCRIPTION:We will be booking specific times for each person registered\, each session is 30 minutes in length\, and we’ll contact you with a specific time for your session. \nJoin Reiki Master & teacher\, Brad H.\, in this unique event! \nReiki is a Japanese word which translates to Universal Life Force Energy.  Reiki is an ancient practice that can be experienced by either “hands on” or by “distance” (remote) healing.  A Reiki treatment encourages physical\, emotional\, and spiritual growth and transformation. \nThe unique gift of a Reiki treatment allows the body’s energy centers\, commonly known as Chakras\, to be more fully opened\, allowing a person to connect with greater amounts of healing energy. \nReiki energy flows through the practitioner who acts as a conduit\, thus allowing the recipient to receive healing energy to all the parts of the body that require attention.  This universal life force energy enters through the practitioner’s head (crown Chakra) and then flows through the entire body\, finally including internal organs\, where it is most needed.
URL:https://cvhis.org/event/reiki-with-brad-7/2025-01-20/
END:VEVENT
BEGIN:VEVENT
DTSTART;TZID=America/Vancouver:20250120T123000
DTEND;TZID=America/Vancouver:20250120T150000
DTSTAMP:20260422T011748
CREATED:20250128T220720Z
LAST-MODIFIED:20250224T204447Z
UID:10011192-1737376200-1737385200@cvhis.org
SUMMARY:Reiki with Brad
DESCRIPTION:We will be booking specific times for each person registered\, each session is 30 minutes in length\, and we’ll contact you with a specific time for your session. \nJoin Reiki Master & teacher\, Brad H.\, in this unique event! \nReiki is a Japanese word which translates to Universal Life Force Energy.  Reiki is an ancient practice that can be experienced by either “hands on” or by “distance” (remote) healing.  A Reiki treatment encourages physical\, emotional\, and spiritual growth and transformation. \nThe unique gift of a Reiki treatment allows the body’s energy centers\, commonly known as Chakras\, to be more fully opened\, allowing a person to connect with greater amounts of healing energy. \nReiki energy flows through the practitioner who acts as a conduit\, thus allowing the recipient to receive healing energy to all the parts of the body that require attention.  This universal life force energy enters through the practitioner’s head (crown Chakra) and then flows through the entire body\, finally including internal organs\, where it is most needed.
URL:https://cvhis.org/event/reiki-with-brad/2025-01-20/
END:VEVENT
BEGIN:VEVENT
DTSTART;TZID=America/Vancouver:20250120T123000
DTEND;TZID=America/Vancouver:20250120T150000
DTSTAMP:20260422T011748
CREATED:20250317T202343Z
LAST-MODIFIED:20251224T180737Z
UID:10011798-1737376200-1737385200@cvhis.org
SUMMARY:Reiki with Brad
DESCRIPTION:We will be booking specific times for each person registered\, each session is 30 minutes in length\, and we’ll contact you with a specific time for your session. \nJoin Reiki Master & teacher\, Brad H.\, in this unique event! \nReiki is a Japanese word which translates to Universal Life Force Energy.  Reiki is an ancient practice that can be experienced by either “hands on” or by “distance” (remote) healing.  A Reiki treatment encourages physical\, emotional\, and spiritual growth and transformation. \nThe unique gift of a Reiki treatment allows the body’s energy centers\, commonly known as Chakras\, to be more fully opened\, allowing a person to connect with greater amounts of healing energy. \nReiki energy flows through the practitioner who acts as a conduit\, thus allowing the recipient to receive healing energy to all the parts of the body that require attention.  This universal life force energy enters through the practitioner’s head (crown Chakra) and then flows through the entire body\, finally including internal organs\, where it is most needed.
URL:https://cvhis.org/event/reiki-with-brad-2/2025-01-20/
END:VEVENT
BEGIN:VEVENT
DTSTART;TZID=America/Vancouver:20250121T113000
DTEND;TZID=America/Vancouver:20250121T123000
DTSTAMP:20260422T011748
CREATED:20240326T192956Z
LAST-MODIFIED:20251201T201229Z
UID:10002125-1737459000-1737462600@cvhis.org
SUMMARY:Lunch at the Legion
DESCRIPTION:367 Cliff Ave. \nDoors open 11:30\, lunch served until 12:30.  Eat in or take out options available. Choice of 2 sandwiches\, salad\, fruit\, coffee/tea or water. \nSurvivors $2.00\, friends & family $5.00
URL:https://cvhis.org/event/lunch-at-the-legion/2025-01-21/
END:VEVENT
BEGIN:VEVENT
DTSTART;TZID=America/Vancouver:20250121T121500
DTEND;TZID=America/Vancouver:20250121T130000
DTSTAMP:20260422T011748
CREATED:20240516T201657Z
LAST-MODIFIED:20241219T213017Z
UID:10007499-1737461700-1737464400@cvhis.org
SUMMARY:One on One Counselling
DESCRIPTION:Do you need help?  Would you like to talk to someone?  Make an appointment with one of our certified therapists who work in partnership with our Society.  Josh Boudin\, MSW\, RSW\, from Pacific Therapy Counselling has appointments available on Tuesdays at 12:15.  To book an appointment\, please call 250-334-9225 or email:  info.cvhis@gmail.com
URL:https://cvhis.org/event/one-on-one-counselling-2/2025-01-21/
END:VEVENT
BEGIN:VEVENT
DTSTART;TZID=America/Vancouver:20250121T133000
DTEND;TZID=America/Vancouver:20250121T143000
DTSTAMP:20260422T011748
CREATED:20240411T173022Z
LAST-MODIFIED:20250514T195317Z
UID:10006427-1737466200-1737469800@cvhis.org
SUMMARY:Guided Music Sessions
DESCRIPTION:Come join Veronica from Long & McQuade for some guided music sessions.  You’ll have some fun\, and learn some theory and techniques.  Beginners and experienced musicians are welcome.
URL:https://cvhis.org/event/guided-music-sessions/2025-01-21/
END:VEVENT
END:VCALENDAR