BEGIN:VCALENDAR
VERSION:2.0
PRODID:-//Comox Valley Head Injury Society - ECPv6.15.17.1//NONSGML v1.0//EN
CALSCALE:GREGORIAN
METHOD:PUBLISH
X-WR-CALNAME:Comox Valley Head Injury Society
X-ORIGINAL-URL:https://cvhis.org
X-WR-CALDESC:Events for Comox Valley Head Injury Society
REFRESH-INTERVAL;VALUE=DURATION:PT1H
X-Robots-Tag:noindex
X-PUBLISHED-TTL:PT1H
BEGIN:VTIMEZONE
TZID:America/Vancouver
BEGIN:DAYLIGHT
TZOFFSETFROM:-0800
TZOFFSETTO:-0700
TZNAME:PDT
DTSTART:20240310T100000
END:DAYLIGHT
BEGIN:STANDARD
TZOFFSETFROM:-0700
TZOFFSETTO:-0800
TZNAME:PST
DTSTART:20241103T090000
END:STANDARD
BEGIN:DAYLIGHT
TZOFFSETFROM:-0800
TZOFFSETTO:-0700
TZNAME:PDT
DTSTART:20250309T100000
END:DAYLIGHT
BEGIN:STANDARD
TZOFFSETFROM:-0700
TZOFFSETTO:-0800
TZNAME:PST
DTSTART:20251102T090000
END:STANDARD
BEGIN:DAYLIGHT
TZOFFSETFROM:-0800
TZOFFSETTO:-0700
TZNAME:PDT
DTSTART:20260308T100000
END:DAYLIGHT
BEGIN:STANDARD
TZOFFSETFROM:-0700
TZOFFSETTO:-0800
TZNAME:PST
DTSTART:20261101T090000
END:STANDARD
END:VTIMEZONE
BEGIN:VEVENT
DTSTART;TZID=America/Vancouver:20250303T103000
DTEND;TZID=America/Vancouver:20250303T113000
DTSTAMP:20260421T215016
CREATED:20240312T185816Z
LAST-MODIFIED:20251201T205956Z
UID:10000052-1740997800-1741001400@cvhis.org
SUMMARY:Mindfulness by ZOOM
DESCRIPTION:This is a one-hour session to learn to use mindfulness meditation to help with stress reduction\, improve relationship satisfaction\, decrease levels of anxiety and emotional reactivity\, and help focus attention. \nThis is a ZOOM-only program.  Please call or email to let us know if you will be joining us so we can send you the ZOOM link.
URL:https://cvhis.org/event/mindfulness-zoom/2025-03-03/
END:VEVENT
BEGIN:VEVENT
DTSTART;TZID=America/Vancouver:20250304T113000
DTEND;TZID=America/Vancouver:20250304T123000
DTSTAMP:20260421T215016
CREATED:20240326T192956Z
LAST-MODIFIED:20251201T201229Z
UID:10002131-1741087800-1741091400@cvhis.org
SUMMARY:Lunch at the Legion
DESCRIPTION:367 Cliff Ave. \nDoors open 11:30\, lunch served until 12:30.  Eat in or take out options available. Choice of 2 sandwiches\, salad\, fruit\, coffee/tea or water. \nSurvivors $2.00\, friends & family $5.00
URL:https://cvhis.org/event/lunch-at-the-legion/2025-03-04/
END:VEVENT
BEGIN:VEVENT
DTSTART;TZID=America/Vancouver:20250304T124500
DTEND;TZID=America/Vancouver:20250304T133000
DTSTAMP:20260421T215016
CREATED:20250218T213024Z
LAST-MODIFIED:20251201T204729Z
UID:10011229-1741092300-1741095000@cvhis.org
SUMMARY:One on One Counselling
DESCRIPTION:Do you need help?  Would you like to talk to someone?  Make an appointment with one of our certified therapists who work in partnership with our Society.  Liz Radermacher BA\, MA\, RCC from Pacific Therapy Counselling has appointments available on Tuesdays at 12:45.  To book an appointment\, please call 250-334-9225 or email:  info.cvhis@gmail.com
URL:https://cvhis.org/event/one-on-one-counselling-2-2/2025-03-04/
END:VEVENT
BEGIN:VEVENT
DTSTART;TZID=America/Vancouver:20250304T133000
DTEND;TZID=America/Vancouver:20250304T143000
DTSTAMP:20260421T215016
CREATED:20240411T173022Z
LAST-MODIFIED:20250514T195317Z
UID:10006433-1741095000-1741098600@cvhis.org
SUMMARY:Guided Music Sessions
DESCRIPTION:Come join Veronica from Long & McQuade for some guided music sessions.  You’ll have some fun\, and learn some theory and techniques.  Beginners and experienced musicians are welcome.
URL:https://cvhis.org/event/guided-music-sessions/2025-03-04/
END:VEVENT
BEGIN:VEVENT
DTSTART;TZID=America/Vancouver:20250305T103000
DTEND;TZID=America/Vancouver:20250305T120000
DTSTAMP:20260421T215016
CREATED:20240410T205821Z
LAST-MODIFIED:20251201T203134Z
UID:10005381-1741170600-1741176000@cvhis.org
SUMMARY:Peer Led Art Therapy
DESCRIPTION:Come join our peer led Art Therapy classes.  Sarah is a wonderful leader\, and has a lot of first hand knowledge and experience with a variety of mediums that she’s eager to share with you.
URL:https://cvhis.org/event/peer-led-art-therapy/2025-03-05/
END:VEVENT
BEGIN:VEVENT
DTSTART;TZID=America/Vancouver:20250305T130000
DTEND;TZID=America/Vancouver:20250305T130000
DTSTAMP:20260421T215016
CREATED:20240410T210709Z
LAST-MODIFIED:20251201T202924Z
UID:10005903-1741179600-1741179600@cvhis.org
SUMMARY:Survivor Support Group
DESCRIPTION:A safe place for survivors to come together and share what they have in common.  Find support and encouragement from others that understand what it is like to have a brain injury.  A welcoming round table\, led by Linda.
URL:https://cvhis.org/event/survivor-support-group-2/2025-03-05/
END:VEVENT
BEGIN:VEVENT
DTSTART;TZID=America/Vancouver:20250305T130000
DTEND;TZID=America/Vancouver:20250305T140000
DTSTAMP:20260421T215016
CREATED:20250218T212831Z
LAST-MODIFIED:20251201T202805Z
UID:10007773-1741179600-1741183200@cvhis.org
SUMMARY:One on One Counselling
DESCRIPTION:Do you need help?  Would you like to talk to someone?  Make an appointment with one of our certified therapists who work in partnership with our Society.  Liz Radermacher BA\, MA\, RCC from Pacific Therapy Counselling has appointments available on Wednesdays at 1:00.  To book an appointment\, please call 250-334-9225 or email:  info.cvhis@gmail.com
URL:https://cvhis.org/event/one-on-one-counselling-3-2/2025-03-05/
END:VEVENT
BEGIN:VEVENT
DTSTART;TZID=America/Vancouver:20250306T100000
DTEND;TZID=America/Vancouver:20250306T100000
DTSTAMP:20260421T215016
CREATED:20240326T211246Z
LAST-MODIFIED:20250915T205112Z
UID:10006164-1741255200-1741255200@cvhis.org
SUMMARY:Yoga with Allisyn
DESCRIPTION:Location: CVHIS Activity Room or on ZOOM\nStretching can lead to greater range of motion\, improved balance\, and increased flexibility. Movements are adaptable\, you can participate with the use of a chair for balance and support.\nYoga mats are available\, but if you have one\, we strongly encourage you to bring your own to class. \nRegistration required
URL:https://cvhis.org/event/yoga-with-allisyn-2/2025-03-06/
END:VEVENT
BEGIN:VEVENT
DTSTART;TZID=America/Vancouver:20250306T130000
DTEND;TZID=America/Vancouver:20250306T140000
DTSTAMP:20260421T215016
CREATED:20250224T203901Z
LAST-MODIFIED:20250224T203901Z
UID:10011493-1741266000-1741269600@cvhis.org
SUMMARY:Snowshoeing at Mt. Washington
DESCRIPTION:Chris will be guiding us on a great snowshoeing experience at Mt. Washington.  If you don’t have snowshoes\, we’ve got you covered\, but you can bring your own if you have them.  This is a weather dependant outing.  If you need a ride\, be at the office no later than 12:00\, or you can meet us at Raven’s Lodge at 12:45.  Maximum number is 8 people\, so you need to register!
URL:https://cvhis.org/event/snowshoeing-at-mt-washington/
END:VEVENT
BEGIN:VEVENT
DTSTART;TZID=America/Vancouver:20250310T103000
DTEND;TZID=America/Vancouver:20250310T113000
DTSTAMP:20260421T215016
CREATED:20240312T185816Z
LAST-MODIFIED:20251201T205956Z
UID:10000053-1741602600-1741606200@cvhis.org
SUMMARY:Mindfulness by ZOOM
DESCRIPTION:This is a one-hour session to learn to use mindfulness meditation to help with stress reduction\, improve relationship satisfaction\, decrease levels of anxiety and emotional reactivity\, and help focus attention. \nThis is a ZOOM-only program.  Please call or email to let us know if you will be joining us so we can send you the ZOOM link.
URL:https://cvhis.org/event/mindfulness-zoom/2025-03-10/
END:VEVENT
BEGIN:VEVENT
DTSTART;TZID=America/Vancouver:20250311T113000
DTEND;TZID=America/Vancouver:20250311T123000
DTSTAMP:20260421T215016
CREATED:20240326T192956Z
LAST-MODIFIED:20251201T201229Z
UID:10002132-1741692600-1741696200@cvhis.org
SUMMARY:Lunch at the Legion
DESCRIPTION:367 Cliff Ave. \nDoors open 11:30\, lunch served until 12:30.  Eat in or take out options available. Choice of 2 sandwiches\, salad\, fruit\, coffee/tea or water. \nSurvivors $2.00\, friends & family $5.00
URL:https://cvhis.org/event/lunch-at-the-legion/2025-03-11/
END:VEVENT
BEGIN:VEVENT
DTSTART;TZID=America/Vancouver:20250311T124500
DTEND;TZID=America/Vancouver:20250311T133000
DTSTAMP:20260421T215016
CREATED:20250218T213024Z
LAST-MODIFIED:20251201T204729Z
UID:10011230-1741697100-1741699800@cvhis.org
SUMMARY:One on One Counselling
DESCRIPTION:Do you need help?  Would you like to talk to someone?  Make an appointment with one of our certified therapists who work in partnership with our Society.  Liz Radermacher BA\, MA\, RCC from Pacific Therapy Counselling has appointments available on Tuesdays at 12:45.  To book an appointment\, please call 250-334-9225 or email:  info.cvhis@gmail.com
URL:https://cvhis.org/event/one-on-one-counselling-2-2/2025-03-11/
END:VEVENT
BEGIN:VEVENT
DTSTART;TZID=America/Vancouver:20250311T133000
DTEND;TZID=America/Vancouver:20250311T143000
DTSTAMP:20260421T215016
CREATED:20240411T173022Z
LAST-MODIFIED:20250514T195317Z
UID:10006434-1741699800-1741703400@cvhis.org
SUMMARY:Guided Music Sessions
DESCRIPTION:Come join Veronica from Long & McQuade for some guided music sessions.  You’ll have some fun\, and learn some theory and techniques.  Beginners and experienced musicians are welcome.
URL:https://cvhis.org/event/guided-music-sessions/2025-03-11/
END:VEVENT
BEGIN:VEVENT
DTSTART;TZID=America/Vancouver:20250312T103000
DTEND;TZID=America/Vancouver:20250312T120000
DTSTAMP:20260421T215016
CREATED:20240410T205821Z
LAST-MODIFIED:20251201T203134Z
UID:10005382-1741775400-1741780800@cvhis.org
SUMMARY:Peer Led Art Therapy
DESCRIPTION:Come join our peer led Art Therapy classes.  Sarah is a wonderful leader\, and has a lot of first hand knowledge and experience with a variety of mediums that she’s eager to share with you.
URL:https://cvhis.org/event/peer-led-art-therapy/2025-03-12/
END:VEVENT
BEGIN:VEVENT
DTSTART;TZID=America/Vancouver:20250312T130000
DTEND;TZID=America/Vancouver:20250312T130000
DTSTAMP:20260421T215016
CREATED:20240410T210709Z
LAST-MODIFIED:20251201T202924Z
UID:10005904-1741784400-1741784400@cvhis.org
SUMMARY:Survivor Support Group
DESCRIPTION:A safe place for survivors to come together and share what they have in common.  Find support and encouragement from others that understand what it is like to have a brain injury.  A welcoming round table\, led by Linda.
URL:https://cvhis.org/event/survivor-support-group-2/2025-03-12/
END:VEVENT
BEGIN:VEVENT
DTSTART;TZID=America/Vancouver:20250312T130000
DTEND;TZID=America/Vancouver:20250312T140000
DTSTAMP:20260421T215016
CREATED:20250218T212831Z
LAST-MODIFIED:20251201T202805Z
UID:10007774-1741784400-1741788000@cvhis.org
SUMMARY:One on One Counselling
DESCRIPTION:Do you need help?  Would you like to talk to someone?  Make an appointment with one of our certified therapists who work in partnership with our Society.  Liz Radermacher BA\, MA\, RCC from Pacific Therapy Counselling has appointments available on Wednesdays at 1:00.  To book an appointment\, please call 250-334-9225 or email:  info.cvhis@gmail.com
URL:https://cvhis.org/event/one-on-one-counselling-3-2/2025-03-12/
END:VEVENT
BEGIN:VEVENT
DTSTART;TZID=America/Vancouver:20250313T100000
DTEND;TZID=America/Vancouver:20250313T100000
DTSTAMP:20260421T215016
CREATED:20240326T211246Z
LAST-MODIFIED:20250915T205112Z
UID:10006165-1741860000-1741860000@cvhis.org
SUMMARY:Yoga with Allisyn
DESCRIPTION:Location: CVHIS Activity Room or on ZOOM\nStretching can lead to greater range of motion\, improved balance\, and increased flexibility. Movements are adaptable\, you can participate with the use of a chair for balance and support.\nYoga mats are available\, but if you have one\, we strongly encourage you to bring your own to class. \nRegistration required
URL:https://cvhis.org/event/yoga-with-allisyn-2/2025-03-13/
END:VEVENT
BEGIN:VEVENT
DTSTART;TZID=America/Vancouver:20250317T103000
DTEND;TZID=America/Vancouver:20250317T113000
DTSTAMP:20260421T215016
CREATED:20240312T185816Z
LAST-MODIFIED:20251201T205956Z
UID:10000054-1742207400-1742211000@cvhis.org
SUMMARY:Mindfulness by ZOOM
DESCRIPTION:This is a one-hour session to learn to use mindfulness meditation to help with stress reduction\, improve relationship satisfaction\, decrease levels of anxiety and emotional reactivity\, and help focus attention. \nThis is a ZOOM-only program.  Please call or email to let us know if you will be joining us so we can send you the ZOOM link.
URL:https://cvhis.org/event/mindfulness-zoom/2025-03-17/
END:VEVENT
BEGIN:VEVENT
DTSTART;TZID=America/Vancouver:20250317T123000
DTEND;TZID=America/Vancouver:20250317T150000
DTSTAMP:20260421T215016
CREATED:20250128T220720Z
LAST-MODIFIED:20250224T204447Z
UID:10011496-1742214600-1742223600@cvhis.org
SUMMARY:Reiki with Brad
DESCRIPTION:We will be booking specific times for each person registered\, each session is 30 minutes in length\, and we’ll contact you with a specific time for your session. \nJoin Reiki Master & teacher\, Brad H.\, in this unique event! \nReiki is a Japanese word which translates to Universal Life Force Energy.  Reiki is an ancient practice that can be experienced by either “hands on” or by “distance” (remote) healing.  A Reiki treatment encourages physical\, emotional\, and spiritual growth and transformation. \nThe unique gift of a Reiki treatment allows the body’s energy centers\, commonly known as Chakras\, to be more fully opened\, allowing a person to connect with greater amounts of healing energy. \nReiki energy flows through the practitioner who acts as a conduit\, thus allowing the recipient to receive healing energy to all the parts of the body that require attention.  This universal life force energy enters through the practitioner’s head (crown Chakra) and then flows through the entire body\, finally including internal organs\, where it is most needed.
URL:https://cvhis.org/event/reiki-with-brad/2025-03-17/
END:VEVENT
BEGIN:VEVENT
DTSTART;TZID=America/Vancouver:20250317T123000
DTEND;TZID=America/Vancouver:20250317T150000
DTSTAMP:20260421T215016
CREATED:20250317T202343Z
LAST-MODIFIED:20251224T180737Z
UID:10011801-1742214600-1742223600@cvhis.org
SUMMARY:Reiki with Brad
DESCRIPTION:We will be booking specific times for each person registered\, each session is 30 minutes in length\, and we’ll contact you with a specific time for your session. \nJoin Reiki Master & teacher\, Brad H.\, in this unique event! \nReiki is a Japanese word which translates to Universal Life Force Energy.  Reiki is an ancient practice that can be experienced by either “hands on” or by “distance” (remote) healing.  A Reiki treatment encourages physical\, emotional\, and spiritual growth and transformation. \nThe unique gift of a Reiki treatment allows the body’s energy centers\, commonly known as Chakras\, to be more fully opened\, allowing a person to connect with greater amounts of healing energy. \nReiki energy flows through the practitioner who acts as a conduit\, thus allowing the recipient to receive healing energy to all the parts of the body that require attention.  This universal life force energy enters through the practitioner’s head (crown Chakra) and then flows through the entire body\, finally including internal organs\, where it is most needed.
URL:https://cvhis.org/event/reiki-with-brad-2/2025-03-17/
END:VEVENT
BEGIN:VEVENT
DTSTART;TZID=America/Vancouver:20250318T113000
DTEND;TZID=America/Vancouver:20250318T123000
DTSTAMP:20260421T215016
CREATED:20240326T192956Z
LAST-MODIFIED:20251201T201229Z
UID:10002133-1742297400-1742301000@cvhis.org
SUMMARY:Lunch at the Legion
DESCRIPTION:367 Cliff Ave. \nDoors open 11:30\, lunch served until 12:30.  Eat in or take out options available. Choice of 2 sandwiches\, salad\, fruit\, coffee/tea or water. \nSurvivors $2.00\, friends & family $5.00
URL:https://cvhis.org/event/lunch-at-the-legion/2025-03-18/
END:VEVENT
BEGIN:VEVENT
DTSTART;TZID=America/Vancouver:20250318T124500
DTEND;TZID=America/Vancouver:20250318T133000
DTSTAMP:20260421T215016
CREATED:20250218T213024Z
LAST-MODIFIED:20251201T204729Z
UID:10011231-1742301900-1742304600@cvhis.org
SUMMARY:One on One Counselling
DESCRIPTION:Do you need help?  Would you like to talk to someone?  Make an appointment with one of our certified therapists who work in partnership with our Society.  Liz Radermacher BA\, MA\, RCC from Pacific Therapy Counselling has appointments available on Tuesdays at 12:45.  To book an appointment\, please call 250-334-9225 or email:  info.cvhis@gmail.com
URL:https://cvhis.org/event/one-on-one-counselling-2-2/2025-03-18/
END:VEVENT
BEGIN:VEVENT
DTSTART;TZID=America/Vancouver:20250319T103000
DTEND;TZID=America/Vancouver:20250319T120000
DTSTAMP:20260421T215016
CREATED:20240410T205821Z
LAST-MODIFIED:20251201T203134Z
UID:10005383-1742380200-1742385600@cvhis.org
SUMMARY:Peer Led Art Therapy
DESCRIPTION:Come join our peer led Art Therapy classes.  Sarah is a wonderful leader\, and has a lot of first hand knowledge and experience with a variety of mediums that she’s eager to share with you.
URL:https://cvhis.org/event/peer-led-art-therapy/2025-03-19/
END:VEVENT
BEGIN:VEVENT
DTSTART;TZID=America/Vancouver:20250319T130000
DTEND;TZID=America/Vancouver:20250319T130000
DTSTAMP:20260421T215016
CREATED:20240410T210709Z
LAST-MODIFIED:20251201T202924Z
UID:10005905-1742389200-1742389200@cvhis.org
SUMMARY:Survivor Support Group
DESCRIPTION:A safe place for survivors to come together and share what they have in common.  Find support and encouragement from others that understand what it is like to have a brain injury.  A welcoming round table\, led by Linda.
URL:https://cvhis.org/event/survivor-support-group-2/2025-03-19/
END:VEVENT
BEGIN:VEVENT
DTSTART;TZID=America/Vancouver:20250319T130000
DTEND;TZID=America/Vancouver:20250319T140000
DTSTAMP:20260421T215016
CREATED:20250218T212831Z
LAST-MODIFIED:20251201T202805Z
UID:10007775-1742389200-1742392800@cvhis.org
SUMMARY:One on One Counselling
DESCRIPTION:Do you need help?  Would you like to talk to someone?  Make an appointment with one of our certified therapists who work in partnership with our Society.  Liz Radermacher BA\, MA\, RCC from Pacific Therapy Counselling has appointments available on Wednesdays at 1:00.  To book an appointment\, please call 250-334-9225 or email:  info.cvhis@gmail.com
URL:https://cvhis.org/event/one-on-one-counselling-3-2/2025-03-19/
END:VEVENT
BEGIN:VEVENT
DTSTART;TZID=America/Vancouver:20250320T100000
DTEND;TZID=America/Vancouver:20250320T100000
DTSTAMP:20260421T215016
CREATED:20240326T211246Z
LAST-MODIFIED:20250915T205112Z
UID:10006166-1742464800-1742464800@cvhis.org
SUMMARY:Yoga with Allisyn
DESCRIPTION:Location: CVHIS Activity Room or on ZOOM\nStretching can lead to greater range of motion\, improved balance\, and increased flexibility. Movements are adaptable\, you can participate with the use of a chair for balance and support.\nYoga mats are available\, but if you have one\, we strongly encourage you to bring your own to class. \nRegistration required
URL:https://cvhis.org/event/yoga-with-allisyn-2/2025-03-20/
END:VEVENT
BEGIN:VEVENT
DTSTART;TZID=America/Vancouver:20250320T133000
DTEND;TZID=America/Vancouver:20250320T150000
DTSTAMP:20260421T215016
CREATED:20250224T205010Z
LAST-MODIFIED:20250224T212326Z
UID:10011509-1742477400-1742482800@cvhis.org
SUMMARY:Workshop with Martina - Sleep 101
DESCRIPTION:Join Martina Forster\, Occupational Therapist\, for a workshop to learn the science behind sleep and strategies to improve sleep patterns and habits. \nLocation:  CVHIS \n 
URL:https://cvhis.org/event/workshop-with-martina/
END:VEVENT
BEGIN:VEVENT
DTSTART;TZID=America/Vancouver:20250324T103000
DTEND;TZID=America/Vancouver:20250324T113000
DTSTAMP:20260421T215016
CREATED:20240312T185816Z
LAST-MODIFIED:20251201T205956Z
UID:10000055-1742812200-1742815800@cvhis.org
SUMMARY:Mindfulness by ZOOM
DESCRIPTION:This is a one-hour session to learn to use mindfulness meditation to help with stress reduction\, improve relationship satisfaction\, decrease levels of anxiety and emotional reactivity\, and help focus attention. \nThis is a ZOOM-only program.  Please call or email to let us know if you will be joining us so we can send you the ZOOM link.
URL:https://cvhis.org/event/mindfulness-zoom/2025-03-24/
END:VEVENT
BEGIN:VEVENT
DTSTART;TZID=America/Vancouver:20250325T113000
DTEND;TZID=America/Vancouver:20250325T123000
DTSTAMP:20260421T215016
CREATED:20240326T192956Z
LAST-MODIFIED:20251201T201229Z
UID:10002134-1742902200-1742905800@cvhis.org
SUMMARY:Lunch at the Legion
DESCRIPTION:367 Cliff Ave. \nDoors open 11:30\, lunch served until 12:30.  Eat in or take out options available. Choice of 2 sandwiches\, salad\, fruit\, coffee/tea or water. \nSurvivors $2.00\, friends & family $5.00
URL:https://cvhis.org/event/lunch-at-the-legion/2025-03-25/
END:VEVENT
BEGIN:VEVENT
DTSTART;TZID=America/Vancouver:20250325T124500
DTEND;TZID=America/Vancouver:20250325T133000
DTSTAMP:20260421T215016
CREATED:20250218T213024Z
LAST-MODIFIED:20251201T204729Z
UID:10011232-1742906700-1742909400@cvhis.org
SUMMARY:One on One Counselling
DESCRIPTION:Do you need help?  Would you like to talk to someone?  Make an appointment with one of our certified therapists who work in partnership with our Society.  Liz Radermacher BA\, MA\, RCC from Pacific Therapy Counselling has appointments available on Tuesdays at 12:45.  To book an appointment\, please call 250-334-9225 or email:  info.cvhis@gmail.com
URL:https://cvhis.org/event/one-on-one-counselling-2-2/2025-03-25/
END:VEVENT
END:VCALENDAR