BEGIN:VCALENDAR
VERSION:2.0
PRODID:-//Comox Valley Head Injury Society - ECPv6.15.17.1//NONSGML v1.0//EN
CALSCALE:GREGORIAN
METHOD:PUBLISH
X-ORIGINAL-URL:https://cvhis.org
X-WR-CALDESC:Events for Comox Valley Head Injury Society
REFRESH-INTERVAL;VALUE=DURATION:PT1H
X-Robots-Tag:noindex
X-PUBLISHED-TTL:PT1H
BEGIN:VTIMEZONE
TZID:America/Vancouver
BEGIN:DAYLIGHT
TZOFFSETFROM:-0800
TZOFFSETTO:-0700
TZNAME:PDT
DTSTART:20240310T100000
END:DAYLIGHT
BEGIN:STANDARD
TZOFFSETFROM:-0700
TZOFFSETTO:-0800
TZNAME:PST
DTSTART:20241103T090000
END:STANDARD
BEGIN:DAYLIGHT
TZOFFSETFROM:-0800
TZOFFSETTO:-0700
TZNAME:PDT
DTSTART:20250309T100000
END:DAYLIGHT
BEGIN:STANDARD
TZOFFSETFROM:-0700
TZOFFSETTO:-0800
TZNAME:PST
DTSTART:20251102T090000
END:STANDARD
BEGIN:DAYLIGHT
TZOFFSETFROM:-0800
TZOFFSETTO:-0700
TZNAME:PDT
DTSTART:20260308T100000
END:DAYLIGHT
BEGIN:STANDARD
TZOFFSETFROM:-0700
TZOFFSETTO:-0800
TZNAME:PST
DTSTART:20261101T090000
END:STANDARD
END:VTIMEZONE
BEGIN:VEVENT
DTSTART;TZID=America/Vancouver:20250602T103000
DTEND;TZID=America/Vancouver:20250602T113000
DTSTAMP:20260421T164721
CREATED:20240312T185816Z
LAST-MODIFIED:20251201T205956Z
UID:10000065-1748860200-1748863800@cvhis.org
SUMMARY:Mindfulness by ZOOM
DESCRIPTION:This is a one-hour session to learn to use mindfulness meditation to help with stress reduction\, improve relationship satisfaction\, decrease levels of anxiety and emotional reactivity\, and help focus attention. \nThis is a ZOOM-only program.  Please call or email to let us know if you will be joining us so we can send you the ZOOM link.
URL:https://cvhis.org/event/mindfulness-zoom/2025-06-02/
END:VEVENT
BEGIN:VEVENT
DTSTART;TZID=America/Vancouver:20250603T113000
DTEND;TZID=America/Vancouver:20250603T123000
DTSTAMP:20260421T164721
CREATED:20240326T192956Z
LAST-MODIFIED:20251201T201229Z
UID:10002144-1748950200-1748953800@cvhis.org
SUMMARY:Lunch at the Legion
DESCRIPTION:367 Cliff Ave. \nDoors open 11:30\, lunch served until 12:30.  Eat in or take out options available. Choice of 2 sandwiches\, salad\, fruit\, coffee/tea or water. \nSurvivors $2.00\, friends & family $5.00
URL:https://cvhis.org/event/lunch-at-the-legion/2025-06-03/
END:VEVENT
BEGIN:VEVENT
DTSTART;TZID=America/Vancouver:20250603T124500
DTEND;TZID=America/Vancouver:20250603T133000
DTSTAMP:20260421T164721
CREATED:20250218T213024Z
LAST-MODIFIED:20251201T204729Z
UID:10011242-1748954700-1748957400@cvhis.org
SUMMARY:One on One Counselling
DESCRIPTION:Do you need help?  Would you like to talk to someone?  Make an appointment with one of our certified therapists who work in partnership with our Society.  Liz Radermacher BA\, MA\, RCC from Pacific Therapy Counselling has appointments available on Tuesdays at 12:45.  To book an appointment\, please call 250-334-9225 or email:  info.cvhis@gmail.com
URL:https://cvhis.org/event/one-on-one-counselling-2-2/2025-06-03/
END:VEVENT
BEGIN:VEVENT
DTSTART;TZID=America/Vancouver:20250603T133000
DTEND;TZID=America/Vancouver:20250603T170000
DTSTAMP:20260421T164721
CREATED:20250514T195734Z
LAST-MODIFIED:20251201T201953Z
UID:10012902-1748957400-1748970000@cvhis.org
SUMMARY:Headcases Band Open Jam Session
DESCRIPTION:This is an open jam session with our in house band The Headcases.  Everyone welcome to join in.
URL:https://cvhis.org/event/headcases-band-open-jam-session/2025-06-03/
END:VEVENT
BEGIN:VEVENT
DTSTART;TZID=America/Vancouver:20250604T103000
DTEND;TZID=America/Vancouver:20250604T113000
DTSTAMP:20260421T164721
CREATED:20250430T180601Z
LAST-MODIFIED:20250915T204517Z
UID:10012359-1749033000-1749036600@cvhis.org
SUMMARY:Walk & Talk
DESCRIPTION:Spring is here\, and now it’s time to get on your walking shoes!  Join Mike W. and head out to see the sights of Courtenay.  This is a great way to get some exercise and develop some friendships.
URL:https://cvhis.org/event/walk-talk/2025-06-04/
END:VEVENT
BEGIN:VEVENT
DTSTART;TZID=America/Vancouver:20250604T103000
DTEND;TZID=America/Vancouver:20250604T120000
DTSTAMP:20260421T164721
CREATED:20240410T205821Z
LAST-MODIFIED:20251201T203134Z
UID:10005394-1749033000-1749038400@cvhis.org
SUMMARY:Peer Led Art Therapy
DESCRIPTION:Come join our peer led Art Therapy classes.  Sarah is a wonderful leader\, and has a lot of first hand knowledge and experience with a variety of mediums that she’s eager to share with you.
URL:https://cvhis.org/event/peer-led-art-therapy/2025-06-04/
END:VEVENT
BEGIN:VEVENT
DTSTART;TZID=America/Vancouver:20250604T130000
DTEND;TZID=America/Vancouver:20250604T130000
DTSTAMP:20260421T164721
CREATED:20240410T210709Z
LAST-MODIFIED:20251201T202924Z
UID:10005916-1749042000-1749042000@cvhis.org
SUMMARY:Survivor Support Group
DESCRIPTION:A safe place for survivors to come together and share what they have in common.  Find support and encouragement from others that understand what it is like to have a brain injury.  A welcoming round table\, led by Linda.
URL:https://cvhis.org/event/survivor-support-group-2/2025-06-04/
END:VEVENT
BEGIN:VEVENT
DTSTART;TZID=America/Vancouver:20250604T130000
DTEND;TZID=America/Vancouver:20250604T140000
DTSTAMP:20260421T164721
CREATED:20250218T212831Z
LAST-MODIFIED:20251201T202805Z
UID:10007786-1749042000-1749045600@cvhis.org
SUMMARY:One on One Counselling
DESCRIPTION:Do you need help?  Would you like to talk to someone?  Make an appointment with one of our certified therapists who work in partnership with our Society.  Liz Radermacher BA\, MA\, RCC from Pacific Therapy Counselling has appointments available on Wednesdays at 1:00.  To book an appointment\, please call 250-334-9225 or email:  info.cvhis@gmail.com
URL:https://cvhis.org/event/one-on-one-counselling-3-2/2025-06-04/
END:VEVENT
BEGIN:VEVENT
DTSTART;TZID=America/Vancouver:20250605T100000
DTEND;TZID=America/Vancouver:20250605T100000
DTSTAMP:20260421T164721
CREATED:20240326T211246Z
LAST-MODIFIED:20250915T205112Z
UID:10006177-1749117600-1749117600@cvhis.org
SUMMARY:Yoga with Allisyn
DESCRIPTION:Location: CVHIS Activity Room or on ZOOM\nStretching can lead to greater range of motion\, improved balance\, and increased flexibility. Movements are adaptable\, you can participate with the use of a chair for balance and support.\nYoga mats are available\, but if you have one\, we strongly encourage you to bring your own to class. \nRegistration required
URL:https://cvhis.org/event/yoga-with-allisyn-2/2025-06-05/
END:VEVENT
BEGIN:VEVENT
DTSTART;TZID=America/Vancouver:20250605T123000
DTEND;TZID=America/Vancouver:20250605T140000
DTSTAMP:20260421T164721
CREATED:20250430T171722Z
LAST-MODIFIED:20250818T215051Z
UID:10012098-1749126600-1749132000@cvhis.org
SUMMARY:Dragon Boating - weather dependant
DESCRIPTION:Dragon Boating is back!  Join the amazing volunteers of Blazing Paddles for some Dragon Boating.  As always\, this is a weather dependent activity\, but lets cross our fingers we can get on the water.\nNeed a ride?  Meet at CVHIS for a 11:45 departure.  Meeting us there?  Meet at Comox Marina by boat launch at 12:15pm sharp \nBlazing Paddles is generously donating their time to take us out on their boat\, and they need to arrange for sufficient volunteers to help us.  We need a minimum of 4 people to be able to enjoy their dragon boat. \nRegistration required.  email:  info.cvhis@gmail.com or call 250-334-9225
URL:https://cvhis.org/event/dragon-boating-weather-dependant-2/2025-06-05/
END:VEVENT
BEGIN:VEVENT
DTSTART;TZID=America/Vancouver:20250609T100000
DTEND;TZID=America/Vancouver:20250609T140000
DTSTAMP:20260421T164721
CREATED:20250514T192006Z
LAST-MODIFIED:20250514T192006Z
UID:10012890-1749463200-1749477600@cvhis.org
SUMMARY:Fishing Forever
DESCRIPTION:Location:  Courtenay Fish & Game Club\, 3780 Comox Logging Road\, Courtenay\nThis is a really popular event\, for good reason!  Even if you’re not an experienced fisherman\, being on the water with a fishing pole is a great experience and the scenery is second to none.  The water will be stocked with trout\, and if you catch a couple\, you get to keep them!  Not sure if you want to bait your own hook?  Novice?  No worries\, volunteers on site to help us out. \nLight lunch and beverages will be provided. \nIf you need a ride\, be at the office for a 9:30am departure\, or meet us there for a 10:00am start. \nMaximum 12 people – registration required:  info.cvhis@gmail.com or call 250-334-9225.
URL:https://cvhis.org/event/fishing-forever/
END:VEVENT
BEGIN:VEVENT
DTSTART;TZID=America/Vancouver:20250609T103000
DTEND;TZID=America/Vancouver:20250609T113000
DTSTAMP:20260421T164721
CREATED:20240312T185816Z
LAST-MODIFIED:20251201T205956Z
UID:10000066-1749465000-1749468600@cvhis.org
SUMMARY:Mindfulness by ZOOM
DESCRIPTION:This is a one-hour session to learn to use mindfulness meditation to help with stress reduction\, improve relationship satisfaction\, decrease levels of anxiety and emotional reactivity\, and help focus attention. \nThis is a ZOOM-only program.  Please call or email to let us know if you will be joining us so we can send you the ZOOM link.
URL:https://cvhis.org/event/mindfulness-zoom/2025-06-09/
END:VEVENT
BEGIN:VEVENT
DTSTART;TZID=America/Vancouver:20250609T123000
DTEND;TZID=America/Vancouver:20250609T150000
DTSTAMP:20260421T164721
CREATED:20250317T202343Z
LAST-MODIFIED:20251224T180737Z
UID:10012886-1749472200-1749481200@cvhis.org
SUMMARY:Reiki with Brad
DESCRIPTION:We will be booking specific times for each person registered\, each session is 30 minutes in length\, and we’ll contact you with a specific time for your session. \nJoin Reiki Master & teacher\, Brad H.\, in this unique event! \nReiki is a Japanese word which translates to Universal Life Force Energy.  Reiki is an ancient practice that can be experienced by either “hands on” or by “distance” (remote) healing.  A Reiki treatment encourages physical\, emotional\, and spiritual growth and transformation. \nThe unique gift of a Reiki treatment allows the body’s energy centers\, commonly known as Chakras\, to be more fully opened\, allowing a person to connect with greater amounts of healing energy. \nReiki energy flows through the practitioner who acts as a conduit\, thus allowing the recipient to receive healing energy to all the parts of the body that require attention.  This universal life force energy enters through the practitioner’s head (crown Chakra) and then flows through the entire body\, finally including internal organs\, where it is most needed.
URL:https://cvhis.org/event/reiki-with-brad-2/2025-06-09/
END:VEVENT
BEGIN:VEVENT
DTSTART;TZID=America/Vancouver:20250610T113000
DTEND;TZID=America/Vancouver:20250610T123000
DTSTAMP:20260421T164721
CREATED:20240326T192956Z
LAST-MODIFIED:20251201T201229Z
UID:10002145-1749555000-1749558600@cvhis.org
SUMMARY:Lunch at the Legion
DESCRIPTION:367 Cliff Ave. \nDoors open 11:30\, lunch served until 12:30.  Eat in or take out options available. Choice of 2 sandwiches\, salad\, fruit\, coffee/tea or water. \nSurvivors $2.00\, friends & family $5.00
URL:https://cvhis.org/event/lunch-at-the-legion/2025-06-10/
END:VEVENT
BEGIN:VEVENT
DTSTART;TZID=America/Vancouver:20250610T124500
DTEND;TZID=America/Vancouver:20250610T133000
DTSTAMP:20260421T164721
CREATED:20250218T213024Z
LAST-MODIFIED:20251201T204729Z
UID:10011243-1749559500-1749562200@cvhis.org
SUMMARY:One on One Counselling
DESCRIPTION:Do you need help?  Would you like to talk to someone?  Make an appointment with one of our certified therapists who work in partnership with our Society.  Liz Radermacher BA\, MA\, RCC from Pacific Therapy Counselling has appointments available on Tuesdays at 12:45.  To book an appointment\, please call 250-334-9225 or email:  info.cvhis@gmail.com
URL:https://cvhis.org/event/one-on-one-counselling-2-2/2025-06-10/
END:VEVENT
BEGIN:VEVENT
DTSTART;TZID=America/Vancouver:20250611T103000
DTEND;TZID=America/Vancouver:20250611T113000
DTSTAMP:20260421T164721
CREATED:20250430T180601Z
LAST-MODIFIED:20250915T204517Z
UID:10012360-1749637800-1749641400@cvhis.org
SUMMARY:Walk & Talk
DESCRIPTION:Spring is here\, and now it’s time to get on your walking shoes!  Join Mike W. and head out to see the sights of Courtenay.  This is a great way to get some exercise and develop some friendships.
URL:https://cvhis.org/event/walk-talk/2025-06-11/
END:VEVENT
BEGIN:VEVENT
DTSTART;TZID=America/Vancouver:20250611T103000
DTEND;TZID=America/Vancouver:20250611T120000
DTSTAMP:20260421T164721
CREATED:20240410T205821Z
LAST-MODIFIED:20251201T203134Z
UID:10005395-1749637800-1749643200@cvhis.org
SUMMARY:Peer Led Art Therapy
DESCRIPTION:Come join our peer led Art Therapy classes.  Sarah is a wonderful leader\, and has a lot of first hand knowledge and experience with a variety of mediums that she’s eager to share with you.
URL:https://cvhis.org/event/peer-led-art-therapy/2025-06-11/
END:VEVENT
BEGIN:VEVENT
DTSTART;TZID=America/Vancouver:20250611T130000
DTEND;TZID=America/Vancouver:20250611T130000
DTSTAMP:20260421T164721
CREATED:20240410T210709Z
LAST-MODIFIED:20251201T202924Z
UID:10005917-1749646800-1749646800@cvhis.org
SUMMARY:Survivor Support Group
DESCRIPTION:A safe place for survivors to come together and share what they have in common.  Find support and encouragement from others that understand what it is like to have a brain injury.  A welcoming round table\, led by Linda.
URL:https://cvhis.org/event/survivor-support-group-2/2025-06-11/
END:VEVENT
BEGIN:VEVENT
DTSTART;TZID=America/Vancouver:20250611T130000
DTEND;TZID=America/Vancouver:20250611T140000
DTSTAMP:20260421T164721
CREATED:20250218T212831Z
LAST-MODIFIED:20251201T202805Z
UID:10007787-1749646800-1749650400@cvhis.org
SUMMARY:One on One Counselling
DESCRIPTION:Do you need help?  Would you like to talk to someone?  Make an appointment with one of our certified therapists who work in partnership with our Society.  Liz Radermacher BA\, MA\, RCC from Pacific Therapy Counselling has appointments available on Wednesdays at 1:00.  To book an appointment\, please call 250-334-9225 or email:  info.cvhis@gmail.com
URL:https://cvhis.org/event/one-on-one-counselling-3-2/2025-06-11/
END:VEVENT
BEGIN:VEVENT
DTSTART;TZID=America/Vancouver:20250612T100000
DTEND;TZID=America/Vancouver:20250612T100000
DTSTAMP:20260421T164721
CREATED:20240326T211246Z
LAST-MODIFIED:20250915T205112Z
UID:10006178-1749722400-1749722400@cvhis.org
SUMMARY:Yoga with Allisyn
DESCRIPTION:Location: CVHIS Activity Room or on ZOOM\nStretching can lead to greater range of motion\, improved balance\, and increased flexibility. Movements are adaptable\, you can participate with the use of a chair for balance and support.\nYoga mats are available\, but if you have one\, we strongly encourage you to bring your own to class. \nRegistration required
URL:https://cvhis.org/event/yoga-with-allisyn-2/2025-06-12/
END:VEVENT
BEGIN:VEVENT
DTSTART;TZID=America/Vancouver:20250612T123000
DTEND;TZID=America/Vancouver:20250612T140000
DTSTAMP:20260421T164721
CREATED:20250430T171722Z
LAST-MODIFIED:20250818T215051Z
UID:10012099-1749731400-1749736800@cvhis.org
SUMMARY:Dragon Boating - weather dependant
DESCRIPTION:Dragon Boating is back!  Join the amazing volunteers of Blazing Paddles for some Dragon Boating.  As always\, this is a weather dependent activity\, but lets cross our fingers we can get on the water.\nNeed a ride?  Meet at CVHIS for a 11:45 departure.  Meeting us there?  Meet at Comox Marina by boat launch at 12:15pm sharp \nBlazing Paddles is generously donating their time to take us out on their boat\, and they need to arrange for sufficient volunteers to help us.  We need a minimum of 4 people to be able to enjoy their dragon boat. \nRegistration required.  email:  info.cvhis@gmail.com or call 250-334-9225
URL:https://cvhis.org/event/dragon-boating-weather-dependant-2/2025-06-12/
END:VEVENT
BEGIN:VEVENT
DTSTART;TZID=America/Vancouver:20250612T133000
DTEND;TZID=America/Vancouver:20250612T150000
DTSTAMP:20260421T164721
CREATED:20241219T230747Z
LAST-MODIFIED:20250818T215424Z
UID:10012893-1749735000-1749740400@cvhis.org
SUMMARY:Understanding Brain Injury (UBI) Workshop
DESCRIPTION:Martina Forster\, Occupational Therapist\, is facilitating this informative workshop. Survivors\, family and friends are welcome to attend this workshop to learn more about brain injuries.  Workshop being held at CVHIS. \nRegistration required:  info.cvhis@gmal.com or call 250-334-9225
URL:https://cvhis.org/event/understanding-brain-injury-ubi-workshop/2025-06-12/
END:VEVENT
BEGIN:VEVENT
DTSTART;TZID=America/Vancouver:20250616T103000
DTEND;TZID=America/Vancouver:20250616T113000
DTSTAMP:20260421T164721
CREATED:20240312T185816Z
LAST-MODIFIED:20251201T205956Z
UID:10000067-1750069800-1750073400@cvhis.org
SUMMARY:Mindfulness by ZOOM
DESCRIPTION:This is a one-hour session to learn to use mindfulness meditation to help with stress reduction\, improve relationship satisfaction\, decrease levels of anxiety and emotional reactivity\, and help focus attention. \nThis is a ZOOM-only program.  Please call or email to let us know if you will be joining us so we can send you the ZOOM link.
URL:https://cvhis.org/event/mindfulness-zoom/2025-06-16/
END:VEVENT
BEGIN:VEVENT
DTSTART;TZID=America/Vancouver:20250617T113000
DTEND;TZID=America/Vancouver:20250617T123000
DTSTAMP:20260421T164721
CREATED:20240326T192956Z
LAST-MODIFIED:20251201T201229Z
UID:10002146-1750159800-1750163400@cvhis.org
SUMMARY:Lunch at the Legion
DESCRIPTION:367 Cliff Ave. \nDoors open 11:30\, lunch served until 12:30.  Eat in or take out options available. Choice of 2 sandwiches\, salad\, fruit\, coffee/tea or water. \nSurvivors $2.00\, friends & family $5.00
URL:https://cvhis.org/event/lunch-at-the-legion/2025-06-17/
END:VEVENT
BEGIN:VEVENT
DTSTART;TZID=America/Vancouver:20250617T124500
DTEND;TZID=America/Vancouver:20250617T133000
DTSTAMP:20260421T164721
CREATED:20250218T213024Z
LAST-MODIFIED:20251201T204729Z
UID:10011244-1750164300-1750167000@cvhis.org
SUMMARY:One on One Counselling
DESCRIPTION:Do you need help?  Would you like to talk to someone?  Make an appointment with one of our certified therapists who work in partnership with our Society.  Liz Radermacher BA\, MA\, RCC from Pacific Therapy Counselling has appointments available on Tuesdays at 12:45.  To book an appointment\, please call 250-334-9225 or email:  info.cvhis@gmail.com
URL:https://cvhis.org/event/one-on-one-counselling-2-2/2025-06-17/
END:VEVENT
BEGIN:VEVENT
DTSTART;TZID=America/Vancouver:20250618T103000
DTEND;TZID=America/Vancouver:20250618T113000
DTSTAMP:20260421T164721
CREATED:20250430T180601Z
LAST-MODIFIED:20250915T204517Z
UID:10012361-1750242600-1750246200@cvhis.org
SUMMARY:Walk & Talk
DESCRIPTION:Spring is here\, and now it’s time to get on your walking shoes!  Join Mike W. and head out to see the sights of Courtenay.  This is a great way to get some exercise and develop some friendships.
URL:https://cvhis.org/event/walk-talk/2025-06-18/
END:VEVENT
BEGIN:VEVENT
DTSTART;TZID=America/Vancouver:20250618T103000
DTEND;TZID=America/Vancouver:20250618T120000
DTSTAMP:20260421T164721
CREATED:20240410T205821Z
LAST-MODIFIED:20251201T203134Z
UID:10005396-1750242600-1750248000@cvhis.org
SUMMARY:Peer Led Art Therapy
DESCRIPTION:Come join our peer led Art Therapy classes.  Sarah is a wonderful leader\, and has a lot of first hand knowledge and experience with a variety of mediums that she’s eager to share with you.
URL:https://cvhis.org/event/peer-led-art-therapy/2025-06-18/
END:VEVENT
BEGIN:VEVENT
DTSTART;TZID=America/Vancouver:20250618T130000
DTEND;TZID=America/Vancouver:20250618T130000
DTSTAMP:20260421T164721
CREATED:20240410T210709Z
LAST-MODIFIED:20251201T202924Z
UID:10005918-1750251600-1750251600@cvhis.org
SUMMARY:Survivor Support Group
DESCRIPTION:A safe place for survivors to come together and share what they have in common.  Find support and encouragement from others that understand what it is like to have a brain injury.  A welcoming round table\, led by Linda.
URL:https://cvhis.org/event/survivor-support-group-2/2025-06-18/
END:VEVENT
BEGIN:VEVENT
DTSTART;TZID=America/Vancouver:20250618T130000
DTEND;TZID=America/Vancouver:20250618T140000
DTSTAMP:20260421T164721
CREATED:20250218T212831Z
LAST-MODIFIED:20251201T202805Z
UID:10007788-1750251600-1750255200@cvhis.org
SUMMARY:One on One Counselling
DESCRIPTION:Do you need help?  Would you like to talk to someone?  Make an appointment with one of our certified therapists who work in partnership with our Society.  Liz Radermacher BA\, MA\, RCC from Pacific Therapy Counselling has appointments available on Wednesdays at 1:00.  To book an appointment\, please call 250-334-9225 or email:  info.cvhis@gmail.com
URL:https://cvhis.org/event/one-on-one-counselling-3-2/2025-06-18/
END:VEVENT
BEGIN:VEVENT
DTSTART;TZID=America/Vancouver:20250619T100000
DTEND;TZID=America/Vancouver:20250619T100000
DTSTAMP:20260421T164721
CREATED:20240326T211246Z
LAST-MODIFIED:20250915T205112Z
UID:10006179-1750327200-1750327200@cvhis.org
SUMMARY:Yoga with Allisyn
DESCRIPTION:Location: CVHIS Activity Room or on ZOOM\nStretching can lead to greater range of motion\, improved balance\, and increased flexibility. Movements are adaptable\, you can participate with the use of a chair for balance and support.\nYoga mats are available\, but if you have one\, we strongly encourage you to bring your own to class. \nRegistration required
URL:https://cvhis.org/event/yoga-with-allisyn-2/2025-06-19/
END:VEVENT
END:VCALENDAR