BEGIN:VCALENDAR
VERSION:2.0
PRODID:-//Comox Valley Head Injury Society - ECPv6.15.17.1//NONSGML v1.0//EN
CALSCALE:GREGORIAN
METHOD:PUBLISH
X-ORIGINAL-URL:https://cvhis.org
X-WR-CALDESC:Events for Comox Valley Head Injury Society
REFRESH-INTERVAL;VALUE=DURATION:PT1H
X-Robots-Tag:noindex
X-PUBLISHED-TTL:PT1H
BEGIN:VTIMEZONE
TZID:America/Vancouver
BEGIN:DAYLIGHT
TZOFFSETFROM:-0800
TZOFFSETTO:-0700
TZNAME:PDT
DTSTART:20240310T100000
END:DAYLIGHT
BEGIN:STANDARD
TZOFFSETFROM:-0700
TZOFFSETTO:-0800
TZNAME:PST
DTSTART:20241103T090000
END:STANDARD
BEGIN:DAYLIGHT
TZOFFSETFROM:-0800
TZOFFSETTO:-0700
TZNAME:PDT
DTSTART:20250309T100000
END:DAYLIGHT
BEGIN:STANDARD
TZOFFSETFROM:-0700
TZOFFSETTO:-0800
TZNAME:PST
DTSTART:20251102T090000
END:STANDARD
BEGIN:DAYLIGHT
TZOFFSETFROM:-0800
TZOFFSETTO:-0700
TZNAME:PDT
DTSTART:20260308T100000
END:DAYLIGHT
BEGIN:STANDARD
TZOFFSETFROM:-0700
TZOFFSETTO:-0800
TZNAME:PST
DTSTART:20261101T090000
END:STANDARD
END:VTIMEZONE
BEGIN:VEVENT
DTSTART;TZID=America/Vancouver:20250701T113000
DTEND;TZID=America/Vancouver:20250701T123000
DTSTAMP:20260421T150025
CREATED:20240326T192956Z
LAST-MODIFIED:20251201T201229Z
UID:10002148-1751369400-1751373000@cvhis.org
SUMMARY:Lunch at the Legion
DESCRIPTION:367 Cliff Ave. \nDoors open 11:30\, lunch served until 12:30.  Eat in or take out options available. Choice of 2 sandwiches\, salad\, fruit\, coffee/tea or water. \nSurvivors $2.00\, friends & family $5.00
URL:https://cvhis.org/event/lunch-at-the-legion/2025-07-01/
END:VEVENT
BEGIN:VEVENT
DTSTART;TZID=America/Vancouver:20250701T124500
DTEND;TZID=America/Vancouver:20250701T133000
DTSTAMP:20260421T150025
CREATED:20250218T213024Z
LAST-MODIFIED:20251201T204729Z
UID:10011246-1751373900-1751376600@cvhis.org
SUMMARY:One on One Counselling
DESCRIPTION:Do you need help?  Would you like to talk to someone?  Make an appointment with one of our certified therapists who work in partnership with our Society.  Liz Radermacher BA\, MA\, RCC from Pacific Therapy Counselling has appointments available on Tuesdays at 12:45.  To book an appointment\, please call 250-334-9225 or email:  info.cvhis@gmail.com
URL:https://cvhis.org/event/one-on-one-counselling-2-2/2025-07-01/
END:VEVENT
BEGIN:VEVENT
DTSTART;TZID=America/Vancouver:20250701T133000
DTEND;TZID=America/Vancouver:20250701T143000
DTSTAMP:20260421T150025
CREATED:20250715T190922Z
LAST-MODIFIED:20251201T203242Z
UID:10012941-1751376600-1751380200@cvhis.org
SUMMARY:Headcases Band Open Jam Session
DESCRIPTION:This is an open jam session with our in house band The Headcases.  Everyone welcome to join in.
URL:https://cvhis.org/event/headcases-band-open-jam-session-2/2025-07-01/
END:VEVENT
BEGIN:VEVENT
DTSTART;TZID=America/Vancouver:20250702T103000
DTEND;TZID=America/Vancouver:20250702T113000
DTSTAMP:20260421T150025
CREATED:20250430T180601Z
LAST-MODIFIED:20250915T204517Z
UID:10012363-1751452200-1751455800@cvhis.org
SUMMARY:Walk & Talk
DESCRIPTION:Spring is here\, and now it’s time to get on your walking shoes!  Join Mike W. and head out to see the sights of Courtenay.  This is a great way to get some exercise and develop some friendships.
URL:https://cvhis.org/event/walk-talk/2025-07-02/
END:VEVENT
BEGIN:VEVENT
DTSTART;TZID=America/Vancouver:20250702T103000
DTEND;TZID=America/Vancouver:20250702T120000
DTSTAMP:20260421T150025
CREATED:20240410T205821Z
LAST-MODIFIED:20251201T203134Z
UID:10005398-1751452200-1751457600@cvhis.org
SUMMARY:Peer Led Art Therapy
DESCRIPTION:Come join our peer led Art Therapy classes.  Sarah is a wonderful leader\, and has a lot of first hand knowledge and experience with a variety of mediums that she’s eager to share with you.
URL:https://cvhis.org/event/peer-led-art-therapy/2025-07-02/
END:VEVENT
BEGIN:VEVENT
DTSTART;TZID=America/Vancouver:20250702T130000
DTEND;TZID=America/Vancouver:20250702T130000
DTSTAMP:20260421T150025
CREATED:20240410T210709Z
LAST-MODIFIED:20251201T202924Z
UID:10005920-1751461200-1751461200@cvhis.org
SUMMARY:Survivor Support Group
DESCRIPTION:A safe place for survivors to come together and share what they have in common.  Find support and encouragement from others that understand what it is like to have a brain injury.  A welcoming round table\, led by Linda.
URL:https://cvhis.org/event/survivor-support-group-2/2025-07-02/
END:VEVENT
BEGIN:VEVENT
DTSTART;TZID=America/Vancouver:20250702T130000
DTEND;TZID=America/Vancouver:20250702T140000
DTSTAMP:20260421T150025
CREATED:20250218T212831Z
LAST-MODIFIED:20251201T202805Z
UID:10007790-1751461200-1751464800@cvhis.org
SUMMARY:One on One Counselling
DESCRIPTION:Do you need help?  Would you like to talk to someone?  Make an appointment with one of our certified therapists who work in partnership with our Society.  Liz Radermacher BA\, MA\, RCC from Pacific Therapy Counselling has appointments available on Wednesdays at 1:00.  To book an appointment\, please call 250-334-9225 or email:  info.cvhis@gmail.com
URL:https://cvhis.org/event/one-on-one-counselling-3-2/2025-07-02/
END:VEVENT
BEGIN:VEVENT
DTSTART;TZID=America/Vancouver:20250703T100000
DTEND;TZID=America/Vancouver:20250703T100000
DTSTAMP:20260421T150025
CREATED:20240326T211246Z
LAST-MODIFIED:20250915T205112Z
UID:10006181-1751536800-1751536800@cvhis.org
SUMMARY:Yoga with Allisyn
DESCRIPTION:Location: CVHIS Activity Room or on ZOOM\nStretching can lead to greater range of motion\, improved balance\, and increased flexibility. Movements are adaptable\, you can participate with the use of a chair for balance and support.\nYoga mats are available\, but if you have one\, we strongly encourage you to bring your own to class. \nRegistration required
URL:https://cvhis.org/event/yoga-with-allisyn-2/2025-07-03/
END:VEVENT
BEGIN:VEVENT
DTSTART;TZID=America/Vancouver:20250703T123000
DTEND;TZID=America/Vancouver:20250703T140000
DTSTAMP:20260421T150025
CREATED:20250430T171722Z
LAST-MODIFIED:20250818T215051Z
UID:10012102-1751545800-1751551200@cvhis.org
SUMMARY:Dragon Boating - weather dependant
DESCRIPTION:Dragon Boating is back!  Join the amazing volunteers of Blazing Paddles for some Dragon Boating.  As always\, this is a weather dependent activity\, but lets cross our fingers we can get on the water.\nNeed a ride?  Meet at CVHIS for a 11:45 departure.  Meeting us there?  Meet at Comox Marina by boat launch at 12:15pm sharp \nBlazing Paddles is generously donating their time to take us out on their boat\, and they need to arrange for sufficient volunteers to help us.  We need a minimum of 4 people to be able to enjoy their dragon boat. \nRegistration required.  email:  info.cvhis@gmail.com or call 250-334-9225
URL:https://cvhis.org/event/dragon-boating-weather-dependant-2/2025-07-03/
END:VEVENT
BEGIN:VEVENT
DTSTART;TZID=America/Vancouver:20250707T103000
DTEND;TZID=America/Vancouver:20250707T113000
DTSTAMP:20260421T150025
CREATED:20240312T185816Z
LAST-MODIFIED:20251201T205956Z
UID:10000070-1751884200-1751887800@cvhis.org
SUMMARY:Mindfulness by ZOOM
DESCRIPTION:This is a one-hour session to learn to use mindfulness meditation to help with stress reduction\, improve relationship satisfaction\, decrease levels of anxiety and emotional reactivity\, and help focus attention. \nThis is a ZOOM-only program.  Please call or email to let us know if you will be joining us so we can send you the ZOOM link.
URL:https://cvhis.org/event/mindfulness-zoom/2025-07-07/
END:VEVENT
BEGIN:VEVENT
DTSTART;TZID=America/Vancouver:20250708T113000
DTEND;TZID=America/Vancouver:20250708T123000
DTSTAMP:20260421T150025
CREATED:20240326T192956Z
LAST-MODIFIED:20251201T201229Z
UID:10002149-1751974200-1751977800@cvhis.org
SUMMARY:Lunch at the Legion
DESCRIPTION:367 Cliff Ave. \nDoors open 11:30\, lunch served until 12:30.  Eat in or take out options available. Choice of 2 sandwiches\, salad\, fruit\, coffee/tea or water. \nSurvivors $2.00\, friends & family $5.00
URL:https://cvhis.org/event/lunch-at-the-legion/2025-07-08/
END:VEVENT
BEGIN:VEVENT
DTSTART;TZID=America/Vancouver:20250708T124500
DTEND;TZID=America/Vancouver:20250708T133000
DTSTAMP:20260421T150025
CREATED:20250218T213024Z
LAST-MODIFIED:20251201T204729Z
UID:10011247-1751978700-1751981400@cvhis.org
SUMMARY:One on One Counselling
DESCRIPTION:Do you need help?  Would you like to talk to someone?  Make an appointment with one of our certified therapists who work in partnership with our Society.  Liz Radermacher BA\, MA\, RCC from Pacific Therapy Counselling has appointments available on Tuesdays at 12:45.  To book an appointment\, please call 250-334-9225 or email:  info.cvhis@gmail.com
URL:https://cvhis.org/event/one-on-one-counselling-2-2/2025-07-08/
END:VEVENT
BEGIN:VEVENT
DTSTART;TZID=America/Vancouver:20250708T133000
DTEND;TZID=America/Vancouver:20250708T143000
DTSTAMP:20260421T150025
CREATED:20250715T190922Z
LAST-MODIFIED:20251201T203242Z
UID:10012942-1751981400-1751985000@cvhis.org
SUMMARY:Headcases Band Open Jam Session
DESCRIPTION:This is an open jam session with our in house band The Headcases.  Everyone welcome to join in.
URL:https://cvhis.org/event/headcases-band-open-jam-session-2/2025-07-08/
END:VEVENT
BEGIN:VEVENT
DTSTART;TZID=America/Vancouver:20250709T103000
DTEND;TZID=America/Vancouver:20250709T113000
DTSTAMP:20260421T150025
CREATED:20250430T180601Z
LAST-MODIFIED:20250915T204517Z
UID:10012364-1752057000-1752060600@cvhis.org
SUMMARY:Walk & Talk
DESCRIPTION:Spring is here\, and now it’s time to get on your walking shoes!  Join Mike W. and head out to see the sights of Courtenay.  This is a great way to get some exercise and develop some friendships.
URL:https://cvhis.org/event/walk-talk/2025-07-09/
END:VEVENT
BEGIN:VEVENT
DTSTART;TZID=America/Vancouver:20250709T103000
DTEND;TZID=America/Vancouver:20250709T120000
DTSTAMP:20260421T150025
CREATED:20240410T205821Z
LAST-MODIFIED:20251201T203134Z
UID:10005399-1752057000-1752062400@cvhis.org
SUMMARY:Peer Led Art Therapy
DESCRIPTION:Come join our peer led Art Therapy classes.  Sarah is a wonderful leader\, and has a lot of first hand knowledge and experience with a variety of mediums that she’s eager to share with you.
URL:https://cvhis.org/event/peer-led-art-therapy/2025-07-09/
END:VEVENT
BEGIN:VEVENT
DTSTART;TZID=America/Vancouver:20250709T130000
DTEND;TZID=America/Vancouver:20250709T130000
DTSTAMP:20260421T150025
CREATED:20240410T210709Z
LAST-MODIFIED:20251201T202924Z
UID:10005921-1752066000-1752066000@cvhis.org
SUMMARY:Survivor Support Group
DESCRIPTION:A safe place for survivors to come together and share what they have in common.  Find support and encouragement from others that understand what it is like to have a brain injury.  A welcoming round table\, led by Linda.
URL:https://cvhis.org/event/survivor-support-group-2/2025-07-09/
END:VEVENT
BEGIN:VEVENT
DTSTART;TZID=America/Vancouver:20250709T130000
DTEND;TZID=America/Vancouver:20250709T140000
DTSTAMP:20260421T150025
CREATED:20250218T212831Z
LAST-MODIFIED:20251201T202805Z
UID:10007791-1752066000-1752069600@cvhis.org
SUMMARY:One on One Counselling
DESCRIPTION:Do you need help?  Would you like to talk to someone?  Make an appointment with one of our certified therapists who work in partnership with our Society.  Liz Radermacher BA\, MA\, RCC from Pacific Therapy Counselling has appointments available on Wednesdays at 1:00.  To book an appointment\, please call 250-334-9225 or email:  info.cvhis@gmail.com
URL:https://cvhis.org/event/one-on-one-counselling-3-2/2025-07-09/
END:VEVENT
BEGIN:VEVENT
DTSTART;TZID=America/Vancouver:20250710T100000
DTEND;TZID=America/Vancouver:20250710T100000
DTSTAMP:20260421T150025
CREATED:20240326T211246Z
LAST-MODIFIED:20250915T205112Z
UID:10006182-1752141600-1752141600@cvhis.org
SUMMARY:Yoga with Allisyn
DESCRIPTION:Location: CVHIS Activity Room or on ZOOM\nStretching can lead to greater range of motion\, improved balance\, and increased flexibility. Movements are adaptable\, you can participate with the use of a chair for balance and support.\nYoga mats are available\, but if you have one\, we strongly encourage you to bring your own to class. \nRegistration required
URL:https://cvhis.org/event/yoga-with-allisyn-2/2025-07-10/
END:VEVENT
BEGIN:VEVENT
DTSTART;TZID=America/Vancouver:20250710T123000
DTEND;TZID=America/Vancouver:20250710T140000
DTSTAMP:20260421T150025
CREATED:20250430T171722Z
LAST-MODIFIED:20250818T215051Z
UID:10012103-1752150600-1752156000@cvhis.org
SUMMARY:Dragon Boating - weather dependant
DESCRIPTION:Dragon Boating is back!  Join the amazing volunteers of Blazing Paddles for some Dragon Boating.  As always\, this is a weather dependent activity\, but lets cross our fingers we can get on the water.\nNeed a ride?  Meet at CVHIS for a 11:45 departure.  Meeting us there?  Meet at Comox Marina by boat launch at 12:15pm sharp \nBlazing Paddles is generously donating their time to take us out on their boat\, and they need to arrange for sufficient volunteers to help us.  We need a minimum of 4 people to be able to enjoy their dragon boat. \nRegistration required.  email:  info.cvhis@gmail.com or call 250-334-9225
URL:https://cvhis.org/event/dragon-boating-weather-dependant-2/2025-07-10/
END:VEVENT
BEGIN:VEVENT
DTSTART;TZID=America/Vancouver:20250714T103000
DTEND;TZID=America/Vancouver:20250714T113000
DTSTAMP:20260421T150025
CREATED:20240312T185816Z
LAST-MODIFIED:20251201T205956Z
UID:10000071-1752489000-1752492600@cvhis.org
SUMMARY:Mindfulness by ZOOM
DESCRIPTION:This is a one-hour session to learn to use mindfulness meditation to help with stress reduction\, improve relationship satisfaction\, decrease levels of anxiety and emotional reactivity\, and help focus attention. \nThis is a ZOOM-only program.  Please call or email to let us know if you will be joining us so we can send you the ZOOM link.
URL:https://cvhis.org/event/mindfulness-zoom/2025-07-14/
END:VEVENT
BEGIN:VEVENT
DTSTART;TZID=America/Vancouver:20250715T113000
DTEND;TZID=America/Vancouver:20250715T123000
DTSTAMP:20260421T150025
CREATED:20240326T192956Z
LAST-MODIFIED:20251201T201229Z
UID:10002150-1752579000-1752582600@cvhis.org
SUMMARY:Lunch at the Legion
DESCRIPTION:367 Cliff Ave. \nDoors open 11:30\, lunch served until 12:30.  Eat in or take out options available. Choice of 2 sandwiches\, salad\, fruit\, coffee/tea or water. \nSurvivors $2.00\, friends & family $5.00
URL:https://cvhis.org/event/lunch-at-the-legion/2025-07-15/
END:VEVENT
BEGIN:VEVENT
DTSTART;TZID=America/Vancouver:20250715T124500
DTEND;TZID=America/Vancouver:20250715T133000
DTSTAMP:20260421T150025
CREATED:20250218T213024Z
LAST-MODIFIED:20251201T204729Z
UID:10011248-1752583500-1752586200@cvhis.org
SUMMARY:One on One Counselling
DESCRIPTION:Do you need help?  Would you like to talk to someone?  Make an appointment with one of our certified therapists who work in partnership with our Society.  Liz Radermacher BA\, MA\, RCC from Pacific Therapy Counselling has appointments available on Tuesdays at 12:45.  To book an appointment\, please call 250-334-9225 or email:  info.cvhis@gmail.com
URL:https://cvhis.org/event/one-on-one-counselling-2-2/2025-07-15/
END:VEVENT
BEGIN:VEVENT
DTSTART;TZID=America/Vancouver:20250715T133000
DTEND;TZID=America/Vancouver:20250715T143000
DTSTAMP:20260421T150025
CREATED:20250715T190922Z
LAST-MODIFIED:20251201T203242Z
UID:10012943-1752586200-1752589800@cvhis.org
SUMMARY:Headcases Band Open Jam Session
DESCRIPTION:This is an open jam session with our in house band The Headcases.  Everyone welcome to join in.
URL:https://cvhis.org/event/headcases-band-open-jam-session-2/2025-07-15/
END:VEVENT
BEGIN:VEVENT
DTSTART;TZID=America/Vancouver:20250716T103000
DTEND;TZID=America/Vancouver:20250716T113000
DTSTAMP:20260421T150025
CREATED:20250430T180601Z
LAST-MODIFIED:20250915T204517Z
UID:10012365-1752661800-1752665400@cvhis.org
SUMMARY:Walk & Talk
DESCRIPTION:Spring is here\, and now it’s time to get on your walking shoes!  Join Mike W. and head out to see the sights of Courtenay.  This is a great way to get some exercise and develop some friendships.
URL:https://cvhis.org/event/walk-talk/2025-07-16/
END:VEVENT
BEGIN:VEVENT
DTSTART;TZID=America/Vancouver:20250716T103000
DTEND;TZID=America/Vancouver:20250716T120000
DTSTAMP:20260421T150025
CREATED:20240410T205821Z
LAST-MODIFIED:20251201T203134Z
UID:10005400-1752661800-1752667200@cvhis.org
SUMMARY:Peer Led Art Therapy
DESCRIPTION:Come join our peer led Art Therapy classes.  Sarah is a wonderful leader\, and has a lot of first hand knowledge and experience with a variety of mediums that she’s eager to share with you.
URL:https://cvhis.org/event/peer-led-art-therapy/2025-07-16/
END:VEVENT
BEGIN:VEVENT
DTSTART;TZID=America/Vancouver:20250716T130000
DTEND;TZID=America/Vancouver:20250716T130000
DTSTAMP:20260421T150025
CREATED:20240410T210709Z
LAST-MODIFIED:20251201T202924Z
UID:10005922-1752670800-1752670800@cvhis.org
SUMMARY:Survivor Support Group
DESCRIPTION:A safe place for survivors to come together and share what they have in common.  Find support and encouragement from others that understand what it is like to have a brain injury.  A welcoming round table\, led by Linda.
URL:https://cvhis.org/event/survivor-support-group-2/2025-07-16/
END:VEVENT
BEGIN:VEVENT
DTSTART;TZID=America/Vancouver:20250716T130000
DTEND;TZID=America/Vancouver:20250716T140000
DTSTAMP:20260421T150025
CREATED:20250218T212831Z
LAST-MODIFIED:20251201T202805Z
UID:10007792-1752670800-1752674400@cvhis.org
SUMMARY:One on One Counselling
DESCRIPTION:Do you need help?  Would you like to talk to someone?  Make an appointment with one of our certified therapists who work in partnership with our Society.  Liz Radermacher BA\, MA\, RCC from Pacific Therapy Counselling has appointments available on Wednesdays at 1:00.  To book an appointment\, please call 250-334-9225 or email:  info.cvhis@gmail.com
URL:https://cvhis.org/event/one-on-one-counselling-3-2/2025-07-16/
END:VEVENT
BEGIN:VEVENT
DTSTART;TZID=America/Vancouver:20250717T100000
DTEND;TZID=America/Vancouver:20250717T100000
DTSTAMP:20260421T150025
CREATED:20240326T211246Z
LAST-MODIFIED:20250915T205112Z
UID:10006183-1752746400-1752746400@cvhis.org
SUMMARY:Yoga with Allisyn
DESCRIPTION:Location: CVHIS Activity Room or on ZOOM\nStretching can lead to greater range of motion\, improved balance\, and increased flexibility. Movements are adaptable\, you can participate with the use of a chair for balance and support.\nYoga mats are available\, but if you have one\, we strongly encourage you to bring your own to class. \nRegistration required
URL:https://cvhis.org/event/yoga-with-allisyn-2/2025-07-17/
END:VEVENT
BEGIN:VEVENT
DTSTART;TZID=America/Vancouver:20250717T123000
DTEND;TZID=America/Vancouver:20250717T140000
DTSTAMP:20260421T150025
CREATED:20250430T171722Z
LAST-MODIFIED:20250818T215051Z
UID:10012104-1752755400-1752760800@cvhis.org
SUMMARY:Dragon Boating - weather dependant
DESCRIPTION:Dragon Boating is back!  Join the amazing volunteers of Blazing Paddles for some Dragon Boating.  As always\, this is a weather dependent activity\, but lets cross our fingers we can get on the water.\nNeed a ride?  Meet at CVHIS for a 11:45 departure.  Meeting us there?  Meet at Comox Marina by boat launch at 12:15pm sharp \nBlazing Paddles is generously donating their time to take us out on their boat\, and they need to arrange for sufficient volunteers to help us.  We need a minimum of 4 people to be able to enjoy their dragon boat. \nRegistration required.  email:  info.cvhis@gmail.com or call 250-334-9225
URL:https://cvhis.org/event/dragon-boating-weather-dependant-2/2025-07-17/
END:VEVENT
BEGIN:VEVENT
DTSTART;TZID=America/Vancouver:20250721T103000
DTEND;TZID=America/Vancouver:20250721T113000
DTSTAMP:20260421T150025
CREATED:20240312T185816Z
LAST-MODIFIED:20251201T205956Z
UID:10000072-1753093800-1753097400@cvhis.org
SUMMARY:Mindfulness by ZOOM
DESCRIPTION:This is a one-hour session to learn to use mindfulness meditation to help with stress reduction\, improve relationship satisfaction\, decrease levels of anxiety and emotional reactivity\, and help focus attention. \nThis is a ZOOM-only program.  Please call or email to let us know if you will be joining us so we can send you the ZOOM link.
URL:https://cvhis.org/event/mindfulness-zoom/2025-07-21/
END:VEVENT
END:VCALENDAR