BEGIN:VCALENDAR
VERSION:2.0
PRODID:-//Comox Valley Head Injury Society - ECPv6.15.17.1//NONSGML v1.0//EN
CALSCALE:GREGORIAN
METHOD:PUBLISH
X-ORIGINAL-URL:https://cvhis.org
X-WR-CALDESC:Events for Comox Valley Head Injury Society
REFRESH-INTERVAL;VALUE=DURATION:PT1H
X-Robots-Tag:noindex
X-PUBLISHED-TTL:PT1H
BEGIN:VTIMEZONE
TZID:America/Vancouver
BEGIN:DAYLIGHT
TZOFFSETFROM:-0800
TZOFFSETTO:-0700
TZNAME:PDT
DTSTART:20240310T100000
END:DAYLIGHT
BEGIN:STANDARD
TZOFFSETFROM:-0700
TZOFFSETTO:-0800
TZNAME:PST
DTSTART:20241103T090000
END:STANDARD
BEGIN:DAYLIGHT
TZOFFSETFROM:-0800
TZOFFSETTO:-0700
TZNAME:PDT
DTSTART:20250309T100000
END:DAYLIGHT
BEGIN:STANDARD
TZOFFSETFROM:-0700
TZOFFSETTO:-0800
TZNAME:PST
DTSTART:20251102T090000
END:STANDARD
BEGIN:DAYLIGHT
TZOFFSETFROM:-0800
TZOFFSETTO:-0700
TZNAME:PDT
DTSTART:20260308T100000
END:DAYLIGHT
BEGIN:STANDARD
TZOFFSETFROM:-0700
TZOFFSETTO:-0800
TZNAME:PST
DTSTART:20261101T090000
END:STANDARD
END:VTIMEZONE
BEGIN:VEVENT
DTSTART;VALUE=DATE:20250901
DTEND;VALUE=DATE:20250902
DTSTAMP:20260421T102612
CREATED:20250819T182507Z
LAST-MODIFIED:20250819T182507Z
UID:10013397-1756684800-1756771199@cvhis.org
SUMMARY:Office Closed for Labour Day
DESCRIPTION:
URL:https://cvhis.org/event/office-closed-for-labour-day/
END:VEVENT
BEGIN:VEVENT
DTSTART;TZID=America/Vancouver:20250902T113000
DTEND;TZID=America/Vancouver:20250902T123000
DTSTAMP:20260421T102612
CREATED:20240326T192956Z
LAST-MODIFIED:20251201T201229Z
UID:10002157-1756812600-1756816200@cvhis.org
SUMMARY:Lunch at the Legion
DESCRIPTION:367 Cliff Ave. \nDoors open 11:30\, lunch served until 12:30.  Eat in or take out options available. Choice of 2 sandwiches\, salad\, fruit\, coffee/tea or water. \nSurvivors $2.00\, friends & family $5.00
URL:https://cvhis.org/event/lunch-at-the-legion/2025-09-02/
END:VEVENT
BEGIN:VEVENT
DTSTART;TZID=America/Vancouver:20250902T124500
DTEND;TZID=America/Vancouver:20250902T133000
DTSTAMP:20260421T102612
CREATED:20250218T213024Z
LAST-MODIFIED:20251201T204729Z
UID:10011255-1756817100-1756819800@cvhis.org
SUMMARY:One on One Counselling
DESCRIPTION:Do you need help?  Would you like to talk to someone?  Make an appointment with one of our certified therapists who work in partnership with our Society.  Liz Radermacher BA\, MA\, RCC from Pacific Therapy Counselling has appointments available on Tuesdays at 12:45.  To book an appointment\, please call 250-334-9225 or email:  info.cvhis@gmail.com
URL:https://cvhis.org/event/one-on-one-counselling-2-2/2025-09-02/
END:VEVENT
BEGIN:VEVENT
DTSTART;TZID=America/Vancouver:20250902T133000
DTEND;TZID=America/Vancouver:20250902T143000
DTSTAMP:20260421T102612
CREATED:20250715T190922Z
LAST-MODIFIED:20251201T203242Z
UID:10012950-1756819800-1756823400@cvhis.org
SUMMARY:Headcases Band Open Jam Session
DESCRIPTION:This is an open jam session with our in house band The Headcases.  Everyone welcome to join in.
URL:https://cvhis.org/event/headcases-band-open-jam-session-2/2025-09-02/
END:VEVENT
BEGIN:VEVENT
DTSTART;TZID=America/Vancouver:20250903T103000
DTEND;TZID=America/Vancouver:20250903T113000
DTSTAMP:20260421T102612
CREATED:20250430T180601Z
LAST-MODIFIED:20250915T204517Z
UID:10012372-1756895400-1756899000@cvhis.org
SUMMARY:Walk & Talk
DESCRIPTION:Spring is here\, and now it’s time to get on your walking shoes!  Join Mike W. and head out to see the sights of Courtenay.  This is a great way to get some exercise and develop some friendships.
URL:https://cvhis.org/event/walk-talk/2025-09-03/
END:VEVENT
BEGIN:VEVENT
DTSTART;TZID=America/Vancouver:20250903T103000
DTEND;TZID=America/Vancouver:20250903T120000
DTSTAMP:20260421T102612
CREATED:20240410T205821Z
LAST-MODIFIED:20251201T203134Z
UID:10005407-1756895400-1756900800@cvhis.org
SUMMARY:Peer Led Art Therapy
DESCRIPTION:Come join our peer led Art Therapy classes.  Sarah is a wonderful leader\, and has a lot of first hand knowledge and experience with a variety of mediums that she’s eager to share with you.
URL:https://cvhis.org/event/peer-led-art-therapy/2025-09-03/
END:VEVENT
BEGIN:VEVENT
DTSTART;TZID=America/Vancouver:20250903T130000
DTEND;TZID=America/Vancouver:20250903T130000
DTSTAMP:20260421T102612
CREATED:20240410T210709Z
LAST-MODIFIED:20251201T202924Z
UID:10005929-1756904400-1756904400@cvhis.org
SUMMARY:Survivor Support Group
DESCRIPTION:A safe place for survivors to come together and share what they have in common.  Find support and encouragement from others that understand what it is like to have a brain injury.  A welcoming round table\, led by Linda.
URL:https://cvhis.org/event/survivor-support-group-2/2025-09-03/
END:VEVENT
BEGIN:VEVENT
DTSTART;TZID=America/Vancouver:20250903T130000
DTEND;TZID=America/Vancouver:20250903T140000
DTSTAMP:20260421T102612
CREATED:20250218T212831Z
LAST-MODIFIED:20251201T202805Z
UID:10007799-1756904400-1756908000@cvhis.org
SUMMARY:One on One Counselling
DESCRIPTION:Do you need help?  Would you like to talk to someone?  Make an appointment with one of our certified therapists who work in partnership with our Society.  Liz Radermacher BA\, MA\, RCC from Pacific Therapy Counselling has appointments available on Wednesdays at 1:00.  To book an appointment\, please call 250-334-9225 or email:  info.cvhis@gmail.com
URL:https://cvhis.org/event/one-on-one-counselling-3-2/2025-09-03/
END:VEVENT
BEGIN:VEVENT
DTSTART;TZID=America/Vancouver:20250904T100000
DTEND;TZID=America/Vancouver:20250904T100000
DTSTAMP:20260421T102612
CREATED:20240326T211246Z
LAST-MODIFIED:20250915T205112Z
UID:10006190-1756980000-1756980000@cvhis.org
SUMMARY:Yoga with Allisyn
DESCRIPTION:Location: CVHIS Activity Room or on ZOOM\nStretching can lead to greater range of motion\, improved balance\, and increased flexibility. Movements are adaptable\, you can participate with the use of a chair for balance and support.\nYoga mats are available\, but if you have one\, we strongly encourage you to bring your own to class. \nRegistration required
URL:https://cvhis.org/event/yoga-with-allisyn-2/2025-09-04/
END:VEVENT
BEGIN:VEVENT
DTSTART;TZID=America/Vancouver:20250904T123000
DTEND;TZID=America/Vancouver:20250904T140000
DTSTAMP:20260421T102612
CREATED:20250430T171722Z
LAST-MODIFIED:20250818T215051Z
UID:10012111-1756989000-1756994400@cvhis.org
SUMMARY:Dragon Boating - weather dependant
DESCRIPTION:Dragon Boating is back!  Join the amazing volunteers of Blazing Paddles for some Dragon Boating.  As always\, this is a weather dependent activity\, but lets cross our fingers we can get on the water.\nNeed a ride?  Meet at CVHIS for a 11:45 departure.  Meeting us there?  Meet at Comox Marina by boat launch at 12:15pm sharp \nBlazing Paddles is generously donating their time to take us out on their boat\, and they need to arrange for sufficient volunteers to help us.  We need a minimum of 4 people to be able to enjoy their dragon boat. \nRegistration required.  email:  info.cvhis@gmail.com or call 250-334-9225
URL:https://cvhis.org/event/dragon-boating-weather-dependant-2/2025-09-04/
END:VEVENT
BEGIN:VEVENT
DTSTART;TZID=America/Vancouver:20250908T103000
DTEND;TZID=America/Vancouver:20250908T113000
DTSTAMP:20260421T102612
CREATED:20240312T185816Z
LAST-MODIFIED:20251201T205956Z
UID:10000079-1757327400-1757331000@cvhis.org
SUMMARY:Mindfulness by ZOOM
DESCRIPTION:This is a one-hour session to learn to use mindfulness meditation to help with stress reduction\, improve relationship satisfaction\, decrease levels of anxiety and emotional reactivity\, and help focus attention. \nThis is a ZOOM-only program.  Please call or email to let us know if you will be joining us so we can send you the ZOOM link.
URL:https://cvhis.org/event/mindfulness-zoom/2025-09-08/
END:VEVENT
BEGIN:VEVENT
DTSTART;TZID=America/Vancouver:20250908T123000
DTEND;TZID=America/Vancouver:20250908T150000
DTSTAMP:20260421T102612
CREATED:20250317T202343Z
LAST-MODIFIED:20251224T180737Z
UID:10013271-1757334600-1757343600@cvhis.org
SUMMARY:Reiki with Brad
DESCRIPTION:We will be booking specific times for each person registered\, each session is 30 minutes in length\, and we’ll contact you with a specific time for your session. \nJoin Reiki Master & teacher\, Brad H.\, in this unique event! \nReiki is a Japanese word which translates to Universal Life Force Energy.  Reiki is an ancient practice that can be experienced by either “hands on” or by “distance” (remote) healing.  A Reiki treatment encourages physical\, emotional\, and spiritual growth and transformation. \nThe unique gift of a Reiki treatment allows the body’s energy centers\, commonly known as Chakras\, to be more fully opened\, allowing a person to connect with greater amounts of healing energy. \nReiki energy flows through the practitioner who acts as a conduit\, thus allowing the recipient to receive healing energy to all the parts of the body that require attention.  This universal life force energy enters through the practitioner’s head (crown Chakra) and then flows through the entire body\, finally including internal organs\, where it is most needed.
URL:https://cvhis.org/event/reiki-with-brad-2/2025-09-08/
END:VEVENT
BEGIN:VEVENT
DTSTART;TZID=America/Vancouver:20250909T113000
DTEND;TZID=America/Vancouver:20250909T123000
DTSTAMP:20260421T102612
CREATED:20240326T192956Z
LAST-MODIFIED:20251201T201229Z
UID:10002158-1757417400-1757421000@cvhis.org
SUMMARY:Lunch at the Legion
DESCRIPTION:367 Cliff Ave. \nDoors open 11:30\, lunch served until 12:30.  Eat in or take out options available. Choice of 2 sandwiches\, salad\, fruit\, coffee/tea or water. \nSurvivors $2.00\, friends & family $5.00
URL:https://cvhis.org/event/lunch-at-the-legion/2025-09-09/
END:VEVENT
BEGIN:VEVENT
DTSTART;TZID=America/Vancouver:20250909T124500
DTEND;TZID=America/Vancouver:20250909T133000
DTSTAMP:20260421T102612
CREATED:20250218T213024Z
LAST-MODIFIED:20251201T204729Z
UID:10011256-1757421900-1757424600@cvhis.org
SUMMARY:One on One Counselling
DESCRIPTION:Do you need help?  Would you like to talk to someone?  Make an appointment with one of our certified therapists who work in partnership with our Society.  Liz Radermacher BA\, MA\, RCC from Pacific Therapy Counselling has appointments available on Tuesdays at 12:45.  To book an appointment\, please call 250-334-9225 or email:  info.cvhis@gmail.com
URL:https://cvhis.org/event/one-on-one-counselling-2-2/2025-09-09/
END:VEVENT
BEGIN:VEVENT
DTSTART;TZID=America/Vancouver:20250909T133000
DTEND;TZID=America/Vancouver:20250909T143000
DTSTAMP:20260421T102612
CREATED:20250715T190922Z
LAST-MODIFIED:20251201T203242Z
UID:10012951-1757424600-1757428200@cvhis.org
SUMMARY:Headcases Band Open Jam Session
DESCRIPTION:This is an open jam session with our in house band The Headcases.  Everyone welcome to join in.
URL:https://cvhis.org/event/headcases-band-open-jam-session-2/2025-09-09/
END:VEVENT
BEGIN:VEVENT
DTSTART;TZID=America/Vancouver:20250910T103000
DTEND;TZID=America/Vancouver:20250910T113000
DTSTAMP:20260421T102612
CREATED:20250430T180601Z
LAST-MODIFIED:20250915T204517Z
UID:10012373-1757500200-1757503800@cvhis.org
SUMMARY:Walk & Talk
DESCRIPTION:Spring is here\, and now it’s time to get on your walking shoes!  Join Mike W. and head out to see the sights of Courtenay.  This is a great way to get some exercise and develop some friendships.
URL:https://cvhis.org/event/walk-talk/2025-09-10/
END:VEVENT
BEGIN:VEVENT
DTSTART;TZID=America/Vancouver:20250910T103000
DTEND;TZID=America/Vancouver:20250910T120000
DTSTAMP:20260421T102612
CREATED:20240410T205821Z
LAST-MODIFIED:20251201T203134Z
UID:10005408-1757500200-1757505600@cvhis.org
SUMMARY:Peer Led Art Therapy
DESCRIPTION:Come join our peer led Art Therapy classes.  Sarah is a wonderful leader\, and has a lot of first hand knowledge and experience with a variety of mediums that she’s eager to share with you.
URL:https://cvhis.org/event/peer-led-art-therapy/2025-09-10/
END:VEVENT
BEGIN:VEVENT
DTSTART;TZID=America/Vancouver:20250910T130000
DTEND;TZID=America/Vancouver:20250910T130000
DTSTAMP:20260421T102612
CREATED:20240410T210709Z
LAST-MODIFIED:20251201T202924Z
UID:10005930-1757509200-1757509200@cvhis.org
SUMMARY:Survivor Support Group
DESCRIPTION:A safe place for survivors to come together and share what they have in common.  Find support and encouragement from others that understand what it is like to have a brain injury.  A welcoming round table\, led by Linda.
URL:https://cvhis.org/event/survivor-support-group-2/2025-09-10/
END:VEVENT
BEGIN:VEVENT
DTSTART;TZID=America/Vancouver:20250910T130000
DTEND;TZID=America/Vancouver:20250910T140000
DTSTAMP:20260421T102612
CREATED:20250218T212831Z
LAST-MODIFIED:20251201T202805Z
UID:10007800-1757509200-1757512800@cvhis.org
SUMMARY:One on One Counselling
DESCRIPTION:Do you need help?  Would you like to talk to someone?  Make an appointment with one of our certified therapists who work in partnership with our Society.  Liz Radermacher BA\, MA\, RCC from Pacific Therapy Counselling has appointments available on Wednesdays at 1:00.  To book an appointment\, please call 250-334-9225 or email:  info.cvhis@gmail.com
URL:https://cvhis.org/event/one-on-one-counselling-3-2/2025-09-10/
END:VEVENT
BEGIN:VEVENT
DTSTART;TZID=America/Vancouver:20250910T130000
DTEND;TZID=America/Vancouver:20250910T140000
DTSTAMP:20260421T102612
CREATED:20250430T180946Z
LAST-MODIFIED:20251224T175607Z
UID:10013288-1757509200-1757512800@cvhis.org
SUMMARY:Aqua Fit
DESCRIPTION:These classes are being led by a teacher from the Aquatic Center.  AquaFit is great to build your endurance\, strength and flexibility.  This great cardio workout tones muscles while avoiding impact.  Participants have the option of being in the deep water\, floatation belts provided.   Meet at the Aquatic Center at 12:45\, or if you need a ride\, meet at the office at 12:15. \nRegistration appreciated:  info.cvhis@gmail.com or call 250-334-9225
URL:https://cvhis.org/event/aquafit/2025-09-10/
END:VEVENT
BEGIN:VEVENT
DTSTART;TZID=America/Vancouver:20250910T180000
DTEND;TZID=America/Vancouver:20250910T190000
DTSTAMP:20260421T102612
CREATED:20250818T214753Z
LAST-MODIFIED:20251224T181353Z
UID:10013296-1757527200-1757530800@cvhis.org
SUMMARY:Caregivers Support Group
DESCRIPTION:Join Linda\, our Outreach Coordinator\, at CVHIS to share the highs and lows of being a Caregiver/Family of a Survivor. \nRegistration required:  info.cvhis@gmail.com or call 250-334-9225
URL:https://cvhis.org/event/caregivers-support-group-5/2025-09-10/
END:VEVENT
BEGIN:VEVENT
DTSTART;TZID=America/Vancouver:20250911T100000
DTEND;TZID=America/Vancouver:20250911T100000
DTSTAMP:20260421T102612
CREATED:20240326T211246Z
LAST-MODIFIED:20250915T205112Z
UID:10006191-1757584800-1757584800@cvhis.org
SUMMARY:Yoga with Allisyn
DESCRIPTION:Location: CVHIS Activity Room or on ZOOM\nStretching can lead to greater range of motion\, improved balance\, and increased flexibility. Movements are adaptable\, you can participate with the use of a chair for balance and support.\nYoga mats are available\, but if you have one\, we strongly encourage you to bring your own to class. \nRegistration required
URL:https://cvhis.org/event/yoga-with-allisyn-2/2025-09-11/
END:VEVENT
BEGIN:VEVENT
DTSTART;TZID=America/Vancouver:20250911T123000
DTEND;TZID=America/Vancouver:20250911T140000
DTSTAMP:20260421T102612
CREATED:20250430T171722Z
LAST-MODIFIED:20250818T215051Z
UID:10012112-1757593800-1757599200@cvhis.org
SUMMARY:Dragon Boating - weather dependant
DESCRIPTION:Dragon Boating is back!  Join the amazing volunteers of Blazing Paddles for some Dragon Boating.  As always\, this is a weather dependent activity\, but lets cross our fingers we can get on the water.\nNeed a ride?  Meet at CVHIS for a 11:45 departure.  Meeting us there?  Meet at Comox Marina by boat launch at 12:15pm sharp \nBlazing Paddles is generously donating their time to take us out on their boat\, and they need to arrange for sufficient volunteers to help us.  We need a minimum of 4 people to be able to enjoy their dragon boat. \nRegistration required.  email:  info.cvhis@gmail.com or call 250-334-9225
URL:https://cvhis.org/event/dragon-boating-weather-dependant-2/2025-09-11/
END:VEVENT
BEGIN:VEVENT
DTSTART;TZID=America/Vancouver:20250915T103000
DTEND;TZID=America/Vancouver:20250915T113000
DTSTAMP:20260421T102612
CREATED:20240312T185816Z
LAST-MODIFIED:20251201T205956Z
UID:10000080-1757932200-1757935800@cvhis.org
SUMMARY:Mindfulness by ZOOM
DESCRIPTION:This is a one-hour session to learn to use mindfulness meditation to help with stress reduction\, improve relationship satisfaction\, decrease levels of anxiety and emotional reactivity\, and help focus attention. \nThis is a ZOOM-only program.  Please call or email to let us know if you will be joining us so we can send you the ZOOM link.
URL:https://cvhis.org/event/mindfulness-zoom/2025-09-15/
END:VEVENT
BEGIN:VEVENT
DTSTART;TZID=America/Vancouver:20250916T113000
DTEND;TZID=America/Vancouver:20250916T123000
DTSTAMP:20260421T102612
CREATED:20240326T192956Z
LAST-MODIFIED:20251201T201229Z
UID:10002159-1758022200-1758025800@cvhis.org
SUMMARY:Lunch at the Legion
DESCRIPTION:367 Cliff Ave. \nDoors open 11:30\, lunch served until 12:30.  Eat in or take out options available. Choice of 2 sandwiches\, salad\, fruit\, coffee/tea or water. \nSurvivors $2.00\, friends & family $5.00
URL:https://cvhis.org/event/lunch-at-the-legion/2025-09-16/
END:VEVENT
BEGIN:VEVENT
DTSTART;TZID=America/Vancouver:20250916T124500
DTEND;TZID=America/Vancouver:20250916T133000
DTSTAMP:20260421T102612
CREATED:20250218T213024Z
LAST-MODIFIED:20251201T204729Z
UID:10011257-1758026700-1758029400@cvhis.org
SUMMARY:One on One Counselling
DESCRIPTION:Do you need help?  Would you like to talk to someone?  Make an appointment with one of our certified therapists who work in partnership with our Society.  Liz Radermacher BA\, MA\, RCC from Pacific Therapy Counselling has appointments available on Tuesdays at 12:45.  To book an appointment\, please call 250-334-9225 or email:  info.cvhis@gmail.com
URL:https://cvhis.org/event/one-on-one-counselling-2-2/2025-09-16/
END:VEVENT
BEGIN:VEVENT
DTSTART;TZID=America/Vancouver:20250916T133000
DTEND;TZID=America/Vancouver:20250916T143000
DTSTAMP:20260421T102612
CREATED:20250715T190922Z
LAST-MODIFIED:20251201T203242Z
UID:10012952-1758029400-1758033000@cvhis.org
SUMMARY:Headcases Band Open Jam Session
DESCRIPTION:This is an open jam session with our in house band The Headcases.  Everyone welcome to join in.
URL:https://cvhis.org/event/headcases-band-open-jam-session-2/2025-09-16/
END:VEVENT
BEGIN:VEVENT
DTSTART;TZID=America/Vancouver:20250917T103000
DTEND;TZID=America/Vancouver:20250917T113000
DTSTAMP:20260421T102612
CREATED:20250430T180601Z
LAST-MODIFIED:20250915T204517Z
UID:10012374-1758105000-1758108600@cvhis.org
SUMMARY:Walk & Talk
DESCRIPTION:Spring is here\, and now it’s time to get on your walking shoes!  Join Mike W. and head out to see the sights of Courtenay.  This is a great way to get some exercise and develop some friendships.
URL:https://cvhis.org/event/walk-talk/2025-09-17/
END:VEVENT
BEGIN:VEVENT
DTSTART;TZID=America/Vancouver:20250917T103000
DTEND;TZID=America/Vancouver:20250917T120000
DTSTAMP:20260421T102612
CREATED:20240410T205821Z
LAST-MODIFIED:20251201T203134Z
UID:10005409-1758105000-1758110400@cvhis.org
SUMMARY:Peer Led Art Therapy
DESCRIPTION:Come join our peer led Art Therapy classes.  Sarah is a wonderful leader\, and has a lot of first hand knowledge and experience with a variety of mediums that she’s eager to share with you.
URL:https://cvhis.org/event/peer-led-art-therapy/2025-09-17/
END:VEVENT
BEGIN:VEVENT
DTSTART;TZID=America/Vancouver:20250917T130000
DTEND;TZID=America/Vancouver:20250917T130000
DTSTAMP:20260421T102612
CREATED:20240410T210709Z
LAST-MODIFIED:20251201T202924Z
UID:10005931-1758114000-1758114000@cvhis.org
SUMMARY:Survivor Support Group
DESCRIPTION:A safe place for survivors to come together and share what they have in common.  Find support and encouragement from others that understand what it is like to have a brain injury.  A welcoming round table\, led by Linda.
URL:https://cvhis.org/event/survivor-support-group-2/2025-09-17/
END:VEVENT
END:VCALENDAR