BEGIN:VCALENDAR
VERSION:2.0
PRODID:-//Comox Valley Head Injury Society - ECPv6.15.17.1//NONSGML v1.0//EN
CALSCALE:GREGORIAN
METHOD:PUBLISH
X-ORIGINAL-URL:https://cvhis.org
X-WR-CALDESC:Events for Comox Valley Head Injury Society
REFRESH-INTERVAL;VALUE=DURATION:PT1H
X-Robots-Tag:noindex
X-PUBLISHED-TTL:PT1H
BEGIN:VTIMEZONE
TZID:America/Vancouver
BEGIN:DAYLIGHT
TZOFFSETFROM:-0800
TZOFFSETTO:-0700
TZNAME:PDT
DTSTART:20240310T100000
END:DAYLIGHT
BEGIN:STANDARD
TZOFFSETFROM:-0700
TZOFFSETTO:-0800
TZNAME:PST
DTSTART:20241103T090000
END:STANDARD
BEGIN:DAYLIGHT
TZOFFSETFROM:-0800
TZOFFSETTO:-0700
TZNAME:PDT
DTSTART:20250309T100000
END:DAYLIGHT
BEGIN:STANDARD
TZOFFSETFROM:-0700
TZOFFSETTO:-0800
TZNAME:PST
DTSTART:20251102T090000
END:STANDARD
BEGIN:DAYLIGHT
TZOFFSETFROM:-0800
TZOFFSETTO:-0700
TZNAME:PDT
DTSTART:20260308T100000
END:DAYLIGHT
BEGIN:STANDARD
TZOFFSETFROM:-0700
TZOFFSETTO:-0800
TZNAME:PST
DTSTART:20261101T090000
END:STANDARD
END:VTIMEZONE
BEGIN:VEVENT
DTSTART;TZID=America/Vancouver:20251103T103000
DTEND;TZID=America/Vancouver:20251103T113000
DTSTAMP:20260421T072540
CREATED:20240312T185816Z
LAST-MODIFIED:20251201T205956Z
UID:10000087-1762165800-1762169400@cvhis.org
SUMMARY:Mindfulness by ZOOM
DESCRIPTION:This is a one-hour session to learn to use mindfulness meditation to help with stress reduction\, improve relationship satisfaction\, decrease levels of anxiety and emotional reactivity\, and help focus attention. \nThis is a ZOOM-only program.  Please call or email to let us know if you will be joining us so we can send you the ZOOM link.
URL:https://cvhis.org/event/mindfulness-zoom/2025-11-03/
END:VEVENT
BEGIN:VEVENT
DTSTART;TZID=America/Vancouver:20251104T113000
DTEND;TZID=America/Vancouver:20251104T123000
DTSTAMP:20260421T072540
CREATED:20240326T192956Z
LAST-MODIFIED:20251201T201229Z
UID:10002166-1762255800-1762259400@cvhis.org
SUMMARY:Lunch at the Legion
DESCRIPTION:367 Cliff Ave. \nDoors open 11:30\, lunch served until 12:30.  Eat in or take out options available. Choice of 2 sandwiches\, salad\, fruit\, coffee/tea or water. \nSurvivors $2.00\, friends & family $5.00
URL:https://cvhis.org/event/lunch-at-the-legion/2025-11-04/
END:VEVENT
BEGIN:VEVENT
DTSTART;TZID=America/Vancouver:20251104T124500
DTEND;TZID=America/Vancouver:20251104T133000
DTSTAMP:20260421T072540
CREATED:20250218T213024Z
LAST-MODIFIED:20251201T204729Z
UID:10011264-1762260300-1762263000@cvhis.org
SUMMARY:One on One Counselling
DESCRIPTION:Do you need help?  Would you like to talk to someone?  Make an appointment with one of our certified therapists who work in partnership with our Society.  Liz Radermacher BA\, MA\, RCC from Pacific Therapy Counselling has appointments available on Tuesdays at 12:45.  To book an appointment\, please call 250-334-9225 or email:  info.cvhis@gmail.com
URL:https://cvhis.org/event/one-on-one-counselling-2-2/2025-11-04/
END:VEVENT
BEGIN:VEVENT
DTSTART;TZID=America/Vancouver:20251104T133000
DTEND;TZID=America/Vancouver:20251104T143000
DTSTAMP:20260421T072540
CREATED:20250715T190922Z
LAST-MODIFIED:20251201T203242Z
UID:10012959-1762263000-1762266600@cvhis.org
SUMMARY:Headcases Band Open Jam Session
DESCRIPTION:This is an open jam session with our in house band The Headcases.  Everyone welcome to join in.
URL:https://cvhis.org/event/headcases-band-open-jam-session-2/2025-11-04/
END:VEVENT
BEGIN:VEVENT
DTSTART;TZID=America/Vancouver:20251105T103000
DTEND;TZID=America/Vancouver:20251105T120000
DTSTAMP:20260421T072540
CREATED:20240410T205821Z
LAST-MODIFIED:20251201T203134Z
UID:10005416-1762338600-1762344000@cvhis.org
SUMMARY:Peer Led Art Therapy
DESCRIPTION:Come join our peer led Art Therapy classes.  Sarah is a wonderful leader\, and has a lot of first hand knowledge and experience with a variety of mediums that she’s eager to share with you.
URL:https://cvhis.org/event/peer-led-art-therapy/2025-11-05/
END:VEVENT
BEGIN:VEVENT
DTSTART;TZID=America/Vancouver:20251105T130000
DTEND;TZID=America/Vancouver:20251105T130000
DTSTAMP:20260421T072540
CREATED:20240410T210709Z
LAST-MODIFIED:20251201T202924Z
UID:10005938-1762347600-1762347600@cvhis.org
SUMMARY:Survivor Support Group
DESCRIPTION:A safe place for survivors to come together and share what they have in common.  Find support and encouragement from others that understand what it is like to have a brain injury.  A welcoming round table\, led by Linda.
URL:https://cvhis.org/event/survivor-support-group-2/2025-11-05/
END:VEVENT
BEGIN:VEVENT
DTSTART;TZID=America/Vancouver:20251105T130000
DTEND;TZID=America/Vancouver:20251105T140000
DTSTAMP:20260421T072540
CREATED:20250218T212831Z
LAST-MODIFIED:20251201T202805Z
UID:10007808-1762347600-1762351200@cvhis.org
SUMMARY:One on One Counselling
DESCRIPTION:Do you need help?  Would you like to talk to someone?  Make an appointment with one of our certified therapists who work in partnership with our Society.  Liz Radermacher BA\, MA\, RCC from Pacific Therapy Counselling has appointments available on Wednesdays at 1:00.  To book an appointment\, please call 250-334-9225 or email:  info.cvhis@gmail.com
URL:https://cvhis.org/event/one-on-one-counselling-3-2/2025-11-05/
END:VEVENT
BEGIN:VEVENT
DTSTART;TZID=America/Vancouver:20251105T130000
DTEND;TZID=America/Vancouver:20251105T140000
DTSTAMP:20260421T072540
CREATED:20250430T180946Z
LAST-MODIFIED:20251224T175607Z
UID:10013432-1762347600-1762351200@cvhis.org
SUMMARY:Aqua Fit
DESCRIPTION:These classes are being led by a teacher from the Aquatic Center.  AquaFit is great to build your endurance\, strength and flexibility.  This great cardio workout tones muscles while avoiding impact.  Participants have the option of being in the deep water\, floatation belts provided.   Meet at the Aquatic Center at 12:45\, or if you need a ride\, meet at the office at 12:15. \nRegistration appreciated:  info.cvhis@gmail.com or call 250-334-9225
URL:https://cvhis.org/event/aquafit/2025-11-05/
END:VEVENT
BEGIN:VEVENT
DTSTART;TZID=America/Vancouver:20251106T100000
DTEND;TZID=America/Vancouver:20251106T100000
DTSTAMP:20260421T072540
CREATED:20240326T211246Z
LAST-MODIFIED:20250915T205112Z
UID:10006199-1762423200-1762423200@cvhis.org
SUMMARY:Yoga with Allisyn
DESCRIPTION:Location: CVHIS Activity Room or on ZOOM\nStretching can lead to greater range of motion\, improved balance\, and increased flexibility. Movements are adaptable\, you can participate with the use of a chair for balance and support.\nYoga mats are available\, but if you have one\, we strongly encourage you to bring your own to class. \nRegistration required
URL:https://cvhis.org/event/yoga-with-allisyn-2/2025-11-06/
END:VEVENT
BEGIN:VEVENT
DTSTART;TZID=America/Vancouver:20251106T123000
DTEND;TZID=America/Vancouver:20251106T150000
DTSTAMP:20260421T072540
CREATED:20250317T202343Z
LAST-MODIFIED:20251224T180737Z
UID:10013426-1762432200-1762441200@cvhis.org
SUMMARY:Reiki with Brad
DESCRIPTION:We will be booking specific times for each person registered\, each session is 30 minutes in length\, and we’ll contact you with a specific time for your session. \nJoin Reiki Master & teacher\, Brad H.\, in this unique event! \nReiki is a Japanese word which translates to Universal Life Force Energy.  Reiki is an ancient practice that can be experienced by either “hands on” or by “distance” (remote) healing.  A Reiki treatment encourages physical\, emotional\, and spiritual growth and transformation. \nThe unique gift of a Reiki treatment allows the body’s energy centers\, commonly known as Chakras\, to be more fully opened\, allowing a person to connect with greater amounts of healing energy. \nReiki energy flows through the practitioner who acts as a conduit\, thus allowing the recipient to receive healing energy to all the parts of the body that require attention.  This universal life force energy enters through the practitioner’s head (crown Chakra) and then flows through the entire body\, finally including internal organs\, where it is most needed.
URL:https://cvhis.org/event/reiki-with-brad-2/2025-11-06/
END:VEVENT
BEGIN:VEVENT
DTSTART;TZID=America/Vancouver:20251110T103000
DTEND;TZID=America/Vancouver:20251110T113000
DTSTAMP:20260421T072540
CREATED:20240312T185816Z
LAST-MODIFIED:20251201T205956Z
UID:10000088-1762770600-1762774200@cvhis.org
SUMMARY:Mindfulness by ZOOM
DESCRIPTION:This is a one-hour session to learn to use mindfulness meditation to help with stress reduction\, improve relationship satisfaction\, decrease levels of anxiety and emotional reactivity\, and help focus attention. \nThis is a ZOOM-only program.  Please call or email to let us know if you will be joining us so we can send you the ZOOM link.
URL:https://cvhis.org/event/mindfulness-zoom/2025-11-10/
END:VEVENT
BEGIN:VEVENT
DTSTART;VALUE=DATE:20251111
DTEND;VALUE=DATE:20251112
DTSTAMP:20260421T072540
CREATED:20251023T193152Z
LAST-MODIFIED:20251023T200651Z
UID:10013452-1762819200-1762905599@cvhis.org
SUMMARY:Remembrance Day
DESCRIPTION:Office closed.
URL:https://cvhis.org/event/office-closed-for-remembrance-day/
END:VEVENT
BEGIN:VEVENT
DTSTART;TZID=America/Vancouver:20251112T103000
DTEND;TZID=America/Vancouver:20251112T120000
DTSTAMP:20260421T072540
CREATED:20240410T205821Z
LAST-MODIFIED:20251201T203134Z
UID:10005417-1762943400-1762948800@cvhis.org
SUMMARY:Peer Led Art Therapy
DESCRIPTION:Come join our peer led Art Therapy classes.  Sarah is a wonderful leader\, and has a lot of first hand knowledge and experience with a variety of mediums that she’s eager to share with you.
URL:https://cvhis.org/event/peer-led-art-therapy/2025-11-12/
END:VEVENT
BEGIN:VEVENT
DTSTART;TZID=America/Vancouver:20251112T130000
DTEND;TZID=America/Vancouver:20251112T130000
DTSTAMP:20260421T072540
CREATED:20240410T210709Z
LAST-MODIFIED:20251201T202924Z
UID:10005939-1762952400-1762952400@cvhis.org
SUMMARY:Survivor Support Group
DESCRIPTION:A safe place for survivors to come together and share what they have in common.  Find support and encouragement from others that understand what it is like to have a brain injury.  A welcoming round table\, led by Linda.
URL:https://cvhis.org/event/survivor-support-group-2/2025-11-12/
END:VEVENT
BEGIN:VEVENT
DTSTART;TZID=America/Vancouver:20251112T130000
DTEND;TZID=America/Vancouver:20251112T140000
DTSTAMP:20260421T072540
CREATED:20250218T212831Z
LAST-MODIFIED:20251201T202805Z
UID:10007809-1762952400-1762956000@cvhis.org
SUMMARY:One on One Counselling
DESCRIPTION:Do you need help?  Would you like to talk to someone?  Make an appointment with one of our certified therapists who work in partnership with our Society.  Liz Radermacher BA\, MA\, RCC from Pacific Therapy Counselling has appointments available on Wednesdays at 1:00.  To book an appointment\, please call 250-334-9225 or email:  info.cvhis@gmail.com
URL:https://cvhis.org/event/one-on-one-counselling-3-2/2025-11-12/
END:VEVENT
BEGIN:VEVENT
DTSTART;TZID=America/Vancouver:20251113T100000
DTEND;TZID=America/Vancouver:20251113T100000
DTSTAMP:20260421T072540
CREATED:20240326T211246Z
LAST-MODIFIED:20250915T205112Z
UID:10006200-1763028000-1763028000@cvhis.org
SUMMARY:Yoga with Allisyn
DESCRIPTION:Location: CVHIS Activity Room or on ZOOM\nStretching can lead to greater range of motion\, improved balance\, and increased flexibility. Movements are adaptable\, you can participate with the use of a chair for balance and support.\nYoga mats are available\, but if you have one\, we strongly encourage you to bring your own to class. \nRegistration required
URL:https://cvhis.org/event/yoga-with-allisyn-2/2025-11-13/
END:VEVENT
BEGIN:VEVENT
DTSTART;TZID=America/Vancouver:20251113T133000
DTEND;TZID=America/Vancouver:20251113T150000
DTSTAMP:20260421T072540
CREATED:20251014T211400Z
LAST-MODIFIED:20251023T195232Z
UID:10013430-1763040600-1763046000@cvhis.org
SUMMARY:Workshop with Martina
DESCRIPTION:This is a two part workshop hosted by Martina Forster\, Occupational Therapist.  Martina will be covering household management\, budgeting\, time management\, self care and meal planning. \nNovember 13th – part 1 of 2\nNovember 20th – part 2 of 2\nLocation:  CVHIS \nRegistration required.  email:  info.cvhis@gmail.com or call 250-334-9225
URL:https://cvhis.org/event/workshop-with-martina-2/2025-11-13/
END:VEVENT
BEGIN:VEVENT
DTSTART;TZID=America/Vancouver:20251117T103000
DTEND;TZID=America/Vancouver:20251117T113000
DTSTAMP:20260421T072540
CREATED:20240312T185816Z
LAST-MODIFIED:20251201T205956Z
UID:10000089-1763375400-1763379000@cvhis.org
SUMMARY:Mindfulness by ZOOM
DESCRIPTION:This is a one-hour session to learn to use mindfulness meditation to help with stress reduction\, improve relationship satisfaction\, decrease levels of anxiety and emotional reactivity\, and help focus attention. \nThis is a ZOOM-only program.  Please call or email to let us know if you will be joining us so we can send you the ZOOM link.
URL:https://cvhis.org/event/mindfulness-zoom/2025-11-17/
END:VEVENT
BEGIN:VEVENT
DTSTART;TZID=America/Vancouver:20251117T123000
DTEND;TZID=America/Vancouver:20251117T150000
DTSTAMP:20260421T072540
CREATED:20250317T202343Z
LAST-MODIFIED:20251224T180737Z
UID:10013428-1763382600-1763391600@cvhis.org
SUMMARY:Reiki with Brad
DESCRIPTION:We will be booking specific times for each person registered\, each session is 30 minutes in length\, and we’ll contact you with a specific time for your session. \nJoin Reiki Master & teacher\, Brad H.\, in this unique event! \nReiki is a Japanese word which translates to Universal Life Force Energy.  Reiki is an ancient practice that can be experienced by either “hands on” or by “distance” (remote) healing.  A Reiki treatment encourages physical\, emotional\, and spiritual growth and transformation. \nThe unique gift of a Reiki treatment allows the body’s energy centers\, commonly known as Chakras\, to be more fully opened\, allowing a person to connect with greater amounts of healing energy. \nReiki energy flows through the practitioner who acts as a conduit\, thus allowing the recipient to receive healing energy to all the parts of the body that require attention.  This universal life force energy enters through the practitioner’s head (crown Chakra) and then flows through the entire body\, finally including internal organs\, where it is most needed.
URL:https://cvhis.org/event/reiki-with-brad-2/2025-11-17/
END:VEVENT
BEGIN:VEVENT
DTSTART;TZID=America/Vancouver:20251118T113000
DTEND;TZID=America/Vancouver:20251118T123000
DTSTAMP:20260421T072540
CREATED:20240326T192956Z
LAST-MODIFIED:20251201T201229Z
UID:10002168-1763465400-1763469000@cvhis.org
SUMMARY:Lunch at the Legion
DESCRIPTION:367 Cliff Ave. \nDoors open 11:30\, lunch served until 12:30.  Eat in or take out options available. Choice of 2 sandwiches\, salad\, fruit\, coffee/tea or water. \nSurvivors $2.00\, friends & family $5.00
URL:https://cvhis.org/event/lunch-at-the-legion/2025-11-18/
END:VEVENT
BEGIN:VEVENT
DTSTART;TZID=America/Vancouver:20251118T124500
DTEND;TZID=America/Vancouver:20251118T133000
DTSTAMP:20260421T072540
CREATED:20250218T213024Z
LAST-MODIFIED:20251201T204729Z
UID:10011266-1763469900-1763472600@cvhis.org
SUMMARY:One on One Counselling
DESCRIPTION:Do you need help?  Would you like to talk to someone?  Make an appointment with one of our certified therapists who work in partnership with our Society.  Liz Radermacher BA\, MA\, RCC from Pacific Therapy Counselling has appointments available on Tuesdays at 12:45.  To book an appointment\, please call 250-334-9225 or email:  info.cvhis@gmail.com
URL:https://cvhis.org/event/one-on-one-counselling-2-2/2025-11-18/
END:VEVENT
BEGIN:VEVENT
DTSTART;TZID=America/Vancouver:20251118T133000
DTEND;TZID=America/Vancouver:20251118T143000
DTSTAMP:20260421T072540
CREATED:20250715T190922Z
LAST-MODIFIED:20251201T203242Z
UID:10012961-1763472600-1763476200@cvhis.org
SUMMARY:Headcases Band Open Jam Session
DESCRIPTION:This is an open jam session with our in house band The Headcases.  Everyone welcome to join in.
URL:https://cvhis.org/event/headcases-band-open-jam-session-2/2025-11-18/
END:VEVENT
BEGIN:VEVENT
DTSTART;TZID=America/Vancouver:20251119T103000
DTEND;TZID=America/Vancouver:20251119T120000
DTSTAMP:20260421T072540
CREATED:20240410T205821Z
LAST-MODIFIED:20251201T203134Z
UID:10005418-1763548200-1763553600@cvhis.org
SUMMARY:Peer Led Art Therapy
DESCRIPTION:Come join our peer led Art Therapy classes.  Sarah is a wonderful leader\, and has a lot of first hand knowledge and experience with a variety of mediums that she’s eager to share with you.
URL:https://cvhis.org/event/peer-led-art-therapy/2025-11-19/
END:VEVENT
BEGIN:VEVENT
DTSTART;TZID=America/Vancouver:20251119T130000
DTEND;TZID=America/Vancouver:20251119T130000
DTSTAMP:20260421T072540
CREATED:20240410T210709Z
LAST-MODIFIED:20251201T202924Z
UID:10005940-1763557200-1763557200@cvhis.org
SUMMARY:Survivor Support Group
DESCRIPTION:A safe place for survivors to come together and share what they have in common.  Find support and encouragement from others that understand what it is like to have a brain injury.  A welcoming round table\, led by Linda.
URL:https://cvhis.org/event/survivor-support-group-2/2025-11-19/
END:VEVENT
BEGIN:VEVENT
DTSTART;TZID=America/Vancouver:20251119T130000
DTEND;TZID=America/Vancouver:20251119T140000
DTSTAMP:20260421T072540
CREATED:20250218T212831Z
LAST-MODIFIED:20251201T202805Z
UID:10007810-1763557200-1763560800@cvhis.org
SUMMARY:One on One Counselling
DESCRIPTION:Do you need help?  Would you like to talk to someone?  Make an appointment with one of our certified therapists who work in partnership with our Society.  Liz Radermacher BA\, MA\, RCC from Pacific Therapy Counselling has appointments available on Wednesdays at 1:00.  To book an appointment\, please call 250-334-9225 or email:  info.cvhis@gmail.com
URL:https://cvhis.org/event/one-on-one-counselling-3-2/2025-11-19/
END:VEVENT
BEGIN:VEVENT
DTSTART;TZID=America/Vancouver:20251119T130000
DTEND;TZID=America/Vancouver:20251119T140000
DTSTAMP:20260421T072540
CREATED:20250430T180946Z
LAST-MODIFIED:20251224T175607Z
UID:10013433-1763557200-1763560800@cvhis.org
SUMMARY:Aqua Fit
DESCRIPTION:These classes are being led by a teacher from the Aquatic Center.  AquaFit is great to build your endurance\, strength and flexibility.  This great cardio workout tones muscles while avoiding impact.  Participants have the option of being in the deep water\, floatation belts provided.   Meet at the Aquatic Center at 12:45\, or if you need a ride\, meet at the office at 12:15. \nRegistration appreciated:  info.cvhis@gmail.com or call 250-334-9225
URL:https://cvhis.org/event/aquafit/2025-11-19/
END:VEVENT
BEGIN:VEVENT
DTSTART;TZID=America/Vancouver:20251120T100000
DTEND;TZID=America/Vancouver:20251120T100000
DTSTAMP:20260421T072540
CREATED:20240326T211246Z
LAST-MODIFIED:20250915T205112Z
UID:10006201-1763632800-1763632800@cvhis.org
SUMMARY:Yoga with Allisyn
DESCRIPTION:Location: CVHIS Activity Room or on ZOOM\nStretching can lead to greater range of motion\, improved balance\, and increased flexibility. Movements are adaptable\, you can participate with the use of a chair for balance and support.\nYoga mats are available\, but if you have one\, we strongly encourage you to bring your own to class. \nRegistration required
URL:https://cvhis.org/event/yoga-with-allisyn-2/2025-11-20/
END:VEVENT
BEGIN:VEVENT
DTSTART;TZID=America/Vancouver:20251120T133000
DTEND;TZID=America/Vancouver:20251120T150000
DTSTAMP:20260421T072540
CREATED:20251014T211400Z
LAST-MODIFIED:20251023T195232Z
UID:10013431-1763645400-1763650800@cvhis.org
SUMMARY:Workshop with Martina
DESCRIPTION:This is a two part workshop hosted by Martina Forster\, Occupational Therapist.  Martina will be covering household management\, budgeting\, time management\, self care and meal planning. \nNovember 13th – part 1 of 2\nNovember 20th – part 2 of 2\nLocation:  CVHIS \nRegistration required.  email:  info.cvhis@gmail.com or call 250-334-9225
URL:https://cvhis.org/event/workshop-with-martina-2/2025-11-20/
END:VEVENT
BEGIN:VEVENT
DTSTART;TZID=America/Vancouver:20251124T103000
DTEND;TZID=America/Vancouver:20251124T113000
DTSTAMP:20260421T072540
CREATED:20240312T185816Z
LAST-MODIFIED:20251201T205956Z
UID:10000090-1763980200-1763983800@cvhis.org
SUMMARY:Mindfulness by ZOOM
DESCRIPTION:This is a one-hour session to learn to use mindfulness meditation to help with stress reduction\, improve relationship satisfaction\, decrease levels of anxiety and emotional reactivity\, and help focus attention. \nThis is a ZOOM-only program.  Please call or email to let us know if you will be joining us so we can send you the ZOOM link.
URL:https://cvhis.org/event/mindfulness-zoom/2025-11-24/
END:VEVENT
BEGIN:VEVENT
DTSTART;TZID=America/Vancouver:20251124T120000
DTEND;TZID=America/Vancouver:20251124T140000
DTSTAMP:20260421T072540
CREATED:20251023T194531Z
LAST-MODIFIED:20251023T194531Z
UID:10013453-1763985600-1763992800@cvhis.org
SUMMARY:Mad Hatter Tea Party with Jacklyn
DESCRIPTION:“I’m late\, I’m late! For a very important date! No time to say ‘hello\, goodbye\,’ I’m late\, I’m late\, I’m late!” – Alice in Wonderland \nFollow the white the rabbit right to our Mad Hatter tea party! We will have games\, snacks and prizes and tea of course! Don’t worry\, we are all a little mad here! \nJoin Jacklyn at CVHIS for this fun filled tea party. \nMaximum 10 people – survivors only\nRegistration required:  info.cvhis@gmail.com or call 250-334-9225
URL:https://cvhis.org/event/mad-hatter-tea-party-with-jacklyn/
END:VEVENT
END:VCALENDAR