BEGIN:VCALENDAR
VERSION:2.0
PRODID:-//Comox Valley Head Injury Society - ECPv6.15.17.1//NONSGML v1.0//EN
CALSCALE:GREGORIAN
METHOD:PUBLISH
X-WR-CALNAME:Comox Valley Head Injury Society
X-ORIGINAL-URL:https://cvhis.org
X-WR-CALDESC:Events for Comox Valley Head Injury Society
REFRESH-INTERVAL;VALUE=DURATION:PT1H
X-Robots-Tag:noindex
X-PUBLISHED-TTL:PT1H
BEGIN:VTIMEZONE
TZID:America/Vancouver
BEGIN:DAYLIGHT
TZOFFSETFROM:-0800
TZOFFSETTO:-0700
TZNAME:PDT
DTSTART:20270314T100000
END:DAYLIGHT
BEGIN:STANDARD
TZOFFSETFROM:-0700
TZOFFSETTO:-0800
TZNAME:PST
DTSTART:20271107T090000
END:STANDARD
BEGIN:DAYLIGHT
TZOFFSETFROM:-0800
TZOFFSETTO:-0700
TZNAME:PDT
DTSTART:20280312T100000
END:DAYLIGHT
BEGIN:STANDARD
TZOFFSETFROM:-0700
TZOFFSETTO:-0800
TZNAME:PST
DTSTART:20281105T090000
END:STANDARD
BEGIN:DAYLIGHT
TZOFFSETFROM:-0800
TZOFFSETTO:-0700
TZNAME:PDT
DTSTART:20290311T100000
END:DAYLIGHT
BEGIN:STANDARD
TZOFFSETFROM:-0700
TZOFFSETTO:-0800
TZNAME:PST
DTSTART:20291104T090000
END:STANDARD
END:VTIMEZONE
BEGIN:VEVENT
DTSTART;TZID=America/Vancouver:20280501T103000
DTEND;TZID=America/Vancouver:20280501T113000
DTSTAMP:20260424T000142
CREATED:20240312T185816Z
LAST-MODIFIED:20251201T205956Z
UID:10000217-1840789800-1840793400@cvhis.org
SUMMARY:Mindfulness by ZOOM
DESCRIPTION:This is a one-hour session to learn to use mindfulness meditation to help with stress reduction\, improve relationship satisfaction\, decrease levels of anxiety and emotional reactivity\, and help focus attention. \nThis is a ZOOM-only program.  Please call or email to let us know if you will be joining us so we can send you the ZOOM link.
URL:https://cvhis.org/event/mindfulness-zoom/2028-05-01/
END:VEVENT
BEGIN:VEVENT
DTSTART;TZID=America/Vancouver:20280501T120000
DTEND;TZID=America/Vancouver:20280501T130000
DTSTAMP:20260424T000142
CREATED:20251201T182033Z
LAST-MODIFIED:20251201T205512Z
UID:10013579-1840795200-1840798800@cvhis.org
SUMMARY:Yoga
DESCRIPTION:Stretching can lead to greater range of motion\, improved balance\, and increased flexibility. Movements are adaptable\, you can participate with the use of a chair for balance and support.\nYoga mats are available\, but if you have one\, we strongly encourage you to bring your own to class.  By Zoom or in person. \nRegistration required
URL:https://cvhis.org/event/yoga-with-allisyn-2-2/2028-05-01/
END:VEVENT
BEGIN:VEVENT
DTSTART;TZID=America/Vancouver:20280502T113000
DTEND;TZID=America/Vancouver:20280502T123000
DTSTAMP:20260424T000142
CREATED:20240326T192956Z
LAST-MODIFIED:20251201T201229Z
UID:10002296-1840879800-1840883400@cvhis.org
SUMMARY:Lunch at the Legion
DESCRIPTION:367 Cliff Ave. \nDoors open 11:30\, lunch served until 12:30.  Eat in or take out options available. Choice of 2 sandwiches\, salad\, fruit\, coffee/tea or water. \nSurvivors $2.00\, friends & family $5.00
URL:https://cvhis.org/event/lunch-at-the-legion/2028-05-02/
END:VEVENT
BEGIN:VEVENT
DTSTART;TZID=America/Vancouver:20280502T124500
DTEND;TZID=America/Vancouver:20280502T133000
DTSTAMP:20260424T000142
CREATED:20250218T213024Z
LAST-MODIFIED:20251201T204729Z
UID:10011394-1840884300-1840887000@cvhis.org
SUMMARY:One on One Counselling
DESCRIPTION:Do you need help?  Would you like to talk to someone?  Make an appointment with one of our certified therapists who work in partnership with our Society.  Liz Radermacher BA\, MA\, RCC from Pacific Therapy Counselling has appointments available on Tuesdays at 12:45.  To book an appointment\, please call 250-334-9225 or email:  info.cvhis@gmail.com
URL:https://cvhis.org/event/one-on-one-counselling-2-2/2028-05-02/
END:VEVENT
BEGIN:VEVENT
DTSTART;TZID=America/Vancouver:20280502T133000
DTEND;TZID=America/Vancouver:20280502T143000
DTSTAMP:20260424T000142
CREATED:20250715T190922Z
LAST-MODIFIED:20251201T203242Z
UID:10013089-1840887000-1840890600@cvhis.org
SUMMARY:Headcases Band Open Jam Session
DESCRIPTION:This is an open jam session with our in house band The Headcases.  Everyone welcome to join in.
URL:https://cvhis.org/event/headcases-band-open-jam-session-2/2028-05-02/
END:VEVENT
BEGIN:VEVENT
DTSTART;TZID=America/Vancouver:20280503T103000
DTEND;TZID=America/Vancouver:20280503T120000
DTSTAMP:20260424T000142
CREATED:20240410T205821Z
LAST-MODIFIED:20251201T203134Z
UID:10005546-1840962600-1840968000@cvhis.org
SUMMARY:Peer Led Art Therapy
DESCRIPTION:Come join our peer led Art Therapy classes.  Sarah is a wonderful leader\, and has a lot of first hand knowledge and experience with a variety of mediums that she’s eager to share with you.
URL:https://cvhis.org/event/peer-led-art-therapy/2028-05-03/
END:VEVENT
BEGIN:VEVENT
DTSTART;TZID=America/Vancouver:20280503T130000
DTEND;TZID=America/Vancouver:20280503T130000
DTSTAMP:20260424T000142
CREATED:20240410T210709Z
LAST-MODIFIED:20251201T202924Z
UID:10006068-1840971600-1840971600@cvhis.org
SUMMARY:Survivor Support Group
DESCRIPTION:A safe place for survivors to come together and share what they have in common.  Find support and encouragement from others that understand what it is like to have a brain injury.  A welcoming round table\, led by Linda.
URL:https://cvhis.org/event/survivor-support-group-2/2028-05-03/
END:VEVENT
BEGIN:VEVENT
DTSTART;TZID=America/Vancouver:20280503T130000
DTEND;TZID=America/Vancouver:20280503T140000
DTSTAMP:20260424T000142
CREATED:20250218T212831Z
LAST-MODIFIED:20251201T202805Z
UID:10007938-1840971600-1840975200@cvhis.org
SUMMARY:One on One Counselling
DESCRIPTION:Do you need help?  Would you like to talk to someone?  Make an appointment with one of our certified therapists who work in partnership with our Society.  Liz Radermacher BA\, MA\, RCC from Pacific Therapy Counselling has appointments available on Wednesdays at 1:00.  To book an appointment\, please call 250-334-9225 or email:  info.cvhis@gmail.com
URL:https://cvhis.org/event/one-on-one-counselling-3-2/2028-05-03/
END:VEVENT
BEGIN:VEVENT
DTSTART;TZID=America/Vancouver:20280508T103000
DTEND;TZID=America/Vancouver:20280508T113000
DTSTAMP:20260424T000142
CREATED:20240312T185816Z
LAST-MODIFIED:20251201T205956Z
UID:10000218-1841394600-1841398200@cvhis.org
SUMMARY:Mindfulness by ZOOM
DESCRIPTION:This is a one-hour session to learn to use mindfulness meditation to help with stress reduction\, improve relationship satisfaction\, decrease levels of anxiety and emotional reactivity\, and help focus attention. \nThis is a ZOOM-only program.  Please call or email to let us know if you will be joining us so we can send you the ZOOM link.
URL:https://cvhis.org/event/mindfulness-zoom/2028-05-08/
END:VEVENT
BEGIN:VEVENT
DTSTART;TZID=America/Vancouver:20280508T120000
DTEND;TZID=America/Vancouver:20280508T130000
DTSTAMP:20260424T000142
CREATED:20251201T182033Z
LAST-MODIFIED:20251201T205512Z
UID:10013580-1841400000-1841403600@cvhis.org
SUMMARY:Yoga
DESCRIPTION:Stretching can lead to greater range of motion\, improved balance\, and increased flexibility. Movements are adaptable\, you can participate with the use of a chair for balance and support.\nYoga mats are available\, but if you have one\, we strongly encourage you to bring your own to class.  By Zoom or in person. \nRegistration required
URL:https://cvhis.org/event/yoga-with-allisyn-2-2/2028-05-08/
END:VEVENT
BEGIN:VEVENT
DTSTART;TZID=America/Vancouver:20280509T113000
DTEND;TZID=America/Vancouver:20280509T123000
DTSTAMP:20260424T000142
CREATED:20240326T192956Z
LAST-MODIFIED:20251201T201229Z
UID:10002297-1841484600-1841488200@cvhis.org
SUMMARY:Lunch at the Legion
DESCRIPTION:367 Cliff Ave. \nDoors open 11:30\, lunch served until 12:30.  Eat in or take out options available. Choice of 2 sandwiches\, salad\, fruit\, coffee/tea or water. \nSurvivors $2.00\, friends & family $5.00
URL:https://cvhis.org/event/lunch-at-the-legion/2028-05-09/
END:VEVENT
BEGIN:VEVENT
DTSTART;TZID=America/Vancouver:20280509T124500
DTEND;TZID=America/Vancouver:20280509T133000
DTSTAMP:20260424T000142
CREATED:20250218T213024Z
LAST-MODIFIED:20251201T204729Z
UID:10011395-1841489100-1841491800@cvhis.org
SUMMARY:One on One Counselling
DESCRIPTION:Do you need help?  Would you like to talk to someone?  Make an appointment with one of our certified therapists who work in partnership with our Society.  Liz Radermacher BA\, MA\, RCC from Pacific Therapy Counselling has appointments available on Tuesdays at 12:45.  To book an appointment\, please call 250-334-9225 or email:  info.cvhis@gmail.com
URL:https://cvhis.org/event/one-on-one-counselling-2-2/2028-05-09/
END:VEVENT
BEGIN:VEVENT
DTSTART;TZID=America/Vancouver:20280509T133000
DTEND;TZID=America/Vancouver:20280509T143000
DTSTAMP:20260424T000142
CREATED:20250715T190922Z
LAST-MODIFIED:20251201T203242Z
UID:10013090-1841491800-1841495400@cvhis.org
SUMMARY:Headcases Band Open Jam Session
DESCRIPTION:This is an open jam session with our in house band The Headcases.  Everyone welcome to join in.
URL:https://cvhis.org/event/headcases-band-open-jam-session-2/2028-05-09/
END:VEVENT
BEGIN:VEVENT
DTSTART;TZID=America/Vancouver:20280510T103000
DTEND;TZID=America/Vancouver:20280510T120000
DTSTAMP:20260424T000142
CREATED:20240410T205821Z
LAST-MODIFIED:20251201T203134Z
UID:10005547-1841567400-1841572800@cvhis.org
SUMMARY:Peer Led Art Therapy
DESCRIPTION:Come join our peer led Art Therapy classes.  Sarah is a wonderful leader\, and has a lot of first hand knowledge and experience with a variety of mediums that she’s eager to share with you.
URL:https://cvhis.org/event/peer-led-art-therapy/2028-05-10/
END:VEVENT
BEGIN:VEVENT
DTSTART;TZID=America/Vancouver:20280510T130000
DTEND;TZID=America/Vancouver:20280510T130000
DTSTAMP:20260424T000142
CREATED:20240410T210709Z
LAST-MODIFIED:20251201T202924Z
UID:10006069-1841576400-1841576400@cvhis.org
SUMMARY:Survivor Support Group
DESCRIPTION:A safe place for survivors to come together and share what they have in common.  Find support and encouragement from others that understand what it is like to have a brain injury.  A welcoming round table\, led by Linda.
URL:https://cvhis.org/event/survivor-support-group-2/2028-05-10/
END:VEVENT
BEGIN:VEVENT
DTSTART;TZID=America/Vancouver:20280510T130000
DTEND;TZID=America/Vancouver:20280510T140000
DTSTAMP:20260424T000142
CREATED:20250218T212831Z
LAST-MODIFIED:20251201T202805Z
UID:10007939-1841576400-1841580000@cvhis.org
SUMMARY:One on One Counselling
DESCRIPTION:Do you need help?  Would you like to talk to someone?  Make an appointment with one of our certified therapists who work in partnership with our Society.  Liz Radermacher BA\, MA\, RCC from Pacific Therapy Counselling has appointments available on Wednesdays at 1:00.  To book an appointment\, please call 250-334-9225 or email:  info.cvhis@gmail.com
URL:https://cvhis.org/event/one-on-one-counselling-3-2/2028-05-10/
END:VEVENT
BEGIN:VEVENT
DTSTART;TZID=America/Vancouver:20280515T103000
DTEND;TZID=America/Vancouver:20280515T113000
DTSTAMP:20260424T000142
CREATED:20240312T185816Z
LAST-MODIFIED:20251201T205956Z
UID:10000219-1841999400-1842003000@cvhis.org
SUMMARY:Mindfulness by ZOOM
DESCRIPTION:This is a one-hour session to learn to use mindfulness meditation to help with stress reduction\, improve relationship satisfaction\, decrease levels of anxiety and emotional reactivity\, and help focus attention. \nThis is a ZOOM-only program.  Please call or email to let us know if you will be joining us so we can send you the ZOOM link.
URL:https://cvhis.org/event/mindfulness-zoom/2028-05-15/
END:VEVENT
BEGIN:VEVENT
DTSTART;TZID=America/Vancouver:20280515T120000
DTEND;TZID=America/Vancouver:20280515T130000
DTSTAMP:20260424T000142
CREATED:20251201T182033Z
LAST-MODIFIED:20251201T205512Z
UID:10013581-1842004800-1842008400@cvhis.org
SUMMARY:Yoga
DESCRIPTION:Stretching can lead to greater range of motion\, improved balance\, and increased flexibility. Movements are adaptable\, you can participate with the use of a chair for balance and support.\nYoga mats are available\, but if you have one\, we strongly encourage you to bring your own to class.  By Zoom or in person. \nRegistration required
URL:https://cvhis.org/event/yoga-with-allisyn-2-2/2028-05-15/
END:VEVENT
BEGIN:VEVENT
DTSTART;TZID=America/Vancouver:20280516T113000
DTEND;TZID=America/Vancouver:20280516T123000
DTSTAMP:20260424T000142
CREATED:20240326T192956Z
LAST-MODIFIED:20251201T201229Z
UID:10002298-1842089400-1842093000@cvhis.org
SUMMARY:Lunch at the Legion
DESCRIPTION:367 Cliff Ave. \nDoors open 11:30\, lunch served until 12:30.  Eat in or take out options available. Choice of 2 sandwiches\, salad\, fruit\, coffee/tea or water. \nSurvivors $2.00\, friends & family $5.00
URL:https://cvhis.org/event/lunch-at-the-legion/2028-05-16/
END:VEVENT
BEGIN:VEVENT
DTSTART;TZID=America/Vancouver:20280516T124500
DTEND;TZID=America/Vancouver:20280516T133000
DTSTAMP:20260424T000142
CREATED:20250218T213024Z
LAST-MODIFIED:20251201T204729Z
UID:10011396-1842093900-1842096600@cvhis.org
SUMMARY:One on One Counselling
DESCRIPTION:Do you need help?  Would you like to talk to someone?  Make an appointment with one of our certified therapists who work in partnership with our Society.  Liz Radermacher BA\, MA\, RCC from Pacific Therapy Counselling has appointments available on Tuesdays at 12:45.  To book an appointment\, please call 250-334-9225 or email:  info.cvhis@gmail.com
URL:https://cvhis.org/event/one-on-one-counselling-2-2/2028-05-16/
END:VEVENT
BEGIN:VEVENT
DTSTART;TZID=America/Vancouver:20280516T133000
DTEND;TZID=America/Vancouver:20280516T143000
DTSTAMP:20260424T000142
CREATED:20250715T190922Z
LAST-MODIFIED:20251201T203242Z
UID:10013091-1842096600-1842100200@cvhis.org
SUMMARY:Headcases Band Open Jam Session
DESCRIPTION:This is an open jam session with our in house band The Headcases.  Everyone welcome to join in.
URL:https://cvhis.org/event/headcases-band-open-jam-session-2/2028-05-16/
END:VEVENT
BEGIN:VEVENT
DTSTART;TZID=America/Vancouver:20280517T103000
DTEND;TZID=America/Vancouver:20280517T120000
DTSTAMP:20260424T000142
CREATED:20240410T205821Z
LAST-MODIFIED:20251201T203134Z
UID:10005548-1842172200-1842177600@cvhis.org
SUMMARY:Peer Led Art Therapy
DESCRIPTION:Come join our peer led Art Therapy classes.  Sarah is a wonderful leader\, and has a lot of first hand knowledge and experience with a variety of mediums that she’s eager to share with you.
URL:https://cvhis.org/event/peer-led-art-therapy/2028-05-17/
END:VEVENT
BEGIN:VEVENT
DTSTART;TZID=America/Vancouver:20280517T130000
DTEND;TZID=America/Vancouver:20280517T130000
DTSTAMP:20260424T000142
CREATED:20240410T210709Z
LAST-MODIFIED:20251201T202924Z
UID:10006070-1842181200-1842181200@cvhis.org
SUMMARY:Survivor Support Group
DESCRIPTION:A safe place for survivors to come together and share what they have in common.  Find support and encouragement from others that understand what it is like to have a brain injury.  A welcoming round table\, led by Linda.
URL:https://cvhis.org/event/survivor-support-group-2/2028-05-17/
END:VEVENT
BEGIN:VEVENT
DTSTART;TZID=America/Vancouver:20280517T130000
DTEND;TZID=America/Vancouver:20280517T140000
DTSTAMP:20260424T000142
CREATED:20250218T212831Z
LAST-MODIFIED:20251201T202805Z
UID:10007940-1842181200-1842184800@cvhis.org
SUMMARY:One on One Counselling
DESCRIPTION:Do you need help?  Would you like to talk to someone?  Make an appointment with one of our certified therapists who work in partnership with our Society.  Liz Radermacher BA\, MA\, RCC from Pacific Therapy Counselling has appointments available on Wednesdays at 1:00.  To book an appointment\, please call 250-334-9225 or email:  info.cvhis@gmail.com
URL:https://cvhis.org/event/one-on-one-counselling-3-2/2028-05-17/
END:VEVENT
BEGIN:VEVENT
DTSTART;TZID=America/Vancouver:20280522T103000
DTEND;TZID=America/Vancouver:20280522T113000
DTSTAMP:20260424T000142
CREATED:20240312T185816Z
LAST-MODIFIED:20251201T205956Z
UID:10000220-1842604200-1842607800@cvhis.org
SUMMARY:Mindfulness by ZOOM
DESCRIPTION:This is a one-hour session to learn to use mindfulness meditation to help with stress reduction\, improve relationship satisfaction\, decrease levels of anxiety and emotional reactivity\, and help focus attention. \nThis is a ZOOM-only program.  Please call or email to let us know if you will be joining us so we can send you the ZOOM link.
URL:https://cvhis.org/event/mindfulness-zoom/2028-05-22/
END:VEVENT
BEGIN:VEVENT
DTSTART;TZID=America/Vancouver:20280522T120000
DTEND;TZID=America/Vancouver:20280522T130000
DTSTAMP:20260424T000142
CREATED:20251201T182033Z
LAST-MODIFIED:20251201T205512Z
UID:10013582-1842609600-1842613200@cvhis.org
SUMMARY:Yoga
DESCRIPTION:Stretching can lead to greater range of motion\, improved balance\, and increased flexibility. Movements are adaptable\, you can participate with the use of a chair for balance and support.\nYoga mats are available\, but if you have one\, we strongly encourage you to bring your own to class.  By Zoom or in person. \nRegistration required
URL:https://cvhis.org/event/yoga-with-allisyn-2-2/2028-05-22/
END:VEVENT
BEGIN:VEVENT
DTSTART;TZID=America/Vancouver:20280523T113000
DTEND;TZID=America/Vancouver:20280523T123000
DTSTAMP:20260424T000142
CREATED:20240326T192956Z
LAST-MODIFIED:20251201T201229Z
UID:10002299-1842694200-1842697800@cvhis.org
SUMMARY:Lunch at the Legion
DESCRIPTION:367 Cliff Ave. \nDoors open 11:30\, lunch served until 12:30.  Eat in or take out options available. Choice of 2 sandwiches\, salad\, fruit\, coffee/tea or water. \nSurvivors $2.00\, friends & family $5.00
URL:https://cvhis.org/event/lunch-at-the-legion/2028-05-23/
END:VEVENT
BEGIN:VEVENT
DTSTART;TZID=America/Vancouver:20280523T124500
DTEND;TZID=America/Vancouver:20280523T133000
DTSTAMP:20260424T000142
CREATED:20250218T213024Z
LAST-MODIFIED:20251201T204729Z
UID:10011397-1842698700-1842701400@cvhis.org
SUMMARY:One on One Counselling
DESCRIPTION:Do you need help?  Would you like to talk to someone?  Make an appointment with one of our certified therapists who work in partnership with our Society.  Liz Radermacher BA\, MA\, RCC from Pacific Therapy Counselling has appointments available on Tuesdays at 12:45.  To book an appointment\, please call 250-334-9225 or email:  info.cvhis@gmail.com
URL:https://cvhis.org/event/one-on-one-counselling-2-2/2028-05-23/
END:VEVENT
BEGIN:VEVENT
DTSTART;TZID=America/Vancouver:20280523T133000
DTEND;TZID=America/Vancouver:20280523T143000
DTSTAMP:20260424T000142
CREATED:20250715T190922Z
LAST-MODIFIED:20251201T203242Z
UID:10013092-1842701400-1842705000@cvhis.org
SUMMARY:Headcases Band Open Jam Session
DESCRIPTION:This is an open jam session with our in house band The Headcases.  Everyone welcome to join in.
URL:https://cvhis.org/event/headcases-band-open-jam-session-2/2028-05-23/
END:VEVENT
BEGIN:VEVENT
DTSTART;TZID=America/Vancouver:20280524T103000
DTEND;TZID=America/Vancouver:20280524T120000
DTSTAMP:20260424T000142
CREATED:20240410T205821Z
LAST-MODIFIED:20251201T203134Z
UID:10005549-1842777000-1842782400@cvhis.org
SUMMARY:Peer Led Art Therapy
DESCRIPTION:Come join our peer led Art Therapy classes.  Sarah is a wonderful leader\, and has a lot of first hand knowledge and experience with a variety of mediums that she’s eager to share with you.
URL:https://cvhis.org/event/peer-led-art-therapy/2028-05-24/
END:VEVENT
END:VCALENDAR