BEGIN:VCALENDAR
VERSION:2.0
PRODID:-//Comox Valley Head Injury Society - ECPv6.15.17.1//NONSGML v1.0//EN
CALSCALE:GREGORIAN
METHOD:PUBLISH
X-ORIGINAL-URL:https://cvhis.org
X-WR-CALDESC:Events for Comox Valley Head Injury Society
REFRESH-INTERVAL;VALUE=DURATION:PT1H
X-Robots-Tag:noindex
X-PUBLISHED-TTL:PT1H
BEGIN:VTIMEZONE
TZID:America/Vancouver
BEGIN:DAYLIGHT
TZOFFSETFROM:-0800
TZOFFSETTO:-0700
TZNAME:PDT
DTSTART:20280312T100000
END:DAYLIGHT
BEGIN:STANDARD
TZOFFSETFROM:-0700
TZOFFSETTO:-0800
TZNAME:PST
DTSTART:20281105T090000
END:STANDARD
BEGIN:DAYLIGHT
TZOFFSETFROM:-0800
TZOFFSETTO:-0700
TZNAME:PDT
DTSTART:20290311T100000
END:DAYLIGHT
BEGIN:STANDARD
TZOFFSETFROM:-0700
TZOFFSETTO:-0800
TZNAME:PST
DTSTART:20291104T090000
END:STANDARD
BEGIN:DAYLIGHT
TZOFFSETFROM:-0800
TZOFFSETTO:-0700
TZNAME:PDT
DTSTART:20300310T100000
END:DAYLIGHT
BEGIN:STANDARD
TZOFFSETFROM:-0700
TZOFFSETTO:-0800
TZNAME:PST
DTSTART:20301103T090000
END:STANDARD
END:VTIMEZONE
BEGIN:VEVENT
DTSTART;TZID=America/Vancouver:20290305T103000
DTEND;TZID=America/Vancouver:20290305T113000
DTSTAMP:20260424T152629
CREATED:20240312T185816Z
LAST-MODIFIED:20251201T205956Z
UID:10000261-1867401000-1867404600@cvhis.org
SUMMARY:Mindfulness by ZOOM
DESCRIPTION:This is a one-hour session to learn to use mindfulness meditation to help with stress reduction\, improve relationship satisfaction\, decrease levels of anxiety and emotional reactivity\, and help focus attention. \nThis is a ZOOM-only program.  Please call or email to let us know if you will be joining us so we can send you the ZOOM link.
URL:https://cvhis.org/event/mindfulness-zoom/2029-03-05/
END:VEVENT
BEGIN:VEVENT
DTSTART;TZID=America/Vancouver:20290305T120000
DTEND;TZID=America/Vancouver:20290305T130000
DTSTAMP:20260424T152629
CREATED:20251201T182033Z
LAST-MODIFIED:20251201T205512Z
UID:10013623-1867406400-1867410000@cvhis.org
SUMMARY:Yoga
DESCRIPTION:Stretching can lead to greater range of motion\, improved balance\, and increased flexibility. Movements are adaptable\, you can participate with the use of a chair for balance and support.\nYoga mats are available\, but if you have one\, we strongly encourage you to bring your own to class.  By Zoom or in person. \nRegistration required
URL:https://cvhis.org/event/yoga-with-allisyn-2-2/2029-03-05/
END:VEVENT
BEGIN:VEVENT
DTSTART;TZID=America/Vancouver:20290306T113000
DTEND;TZID=America/Vancouver:20290306T123000
DTSTAMP:20260424T152629
CREATED:20240326T192956Z
LAST-MODIFIED:20251201T201229Z
UID:10002340-1867491000-1867494600@cvhis.org
SUMMARY:Lunch at the Legion
DESCRIPTION:367 Cliff Ave. \nDoors open 11:30\, lunch served until 12:30.  Eat in or take out options available. Choice of 2 sandwiches\, salad\, fruit\, coffee/tea or water. \nSurvivors $2.00\, friends & family $5.00
URL:https://cvhis.org/event/lunch-at-the-legion/2029-03-06/
END:VEVENT
BEGIN:VEVENT
DTSTART;TZID=America/Vancouver:20290306T124500
DTEND;TZID=America/Vancouver:20290306T133000
DTSTAMP:20260424T152629
CREATED:20250218T213024Z
LAST-MODIFIED:20251201T204729Z
UID:10011438-1867495500-1867498200@cvhis.org
SUMMARY:One on One Counselling
DESCRIPTION:Do you need help?  Would you like to talk to someone?  Make an appointment with one of our certified therapists who work in partnership with our Society.  Liz Radermacher BA\, MA\, RCC from Pacific Therapy Counselling has appointments available on Tuesdays at 12:45.  To book an appointment\, please call 250-334-9225 or email:  info.cvhis@gmail.com
URL:https://cvhis.org/event/one-on-one-counselling-2-2/2029-03-06/
END:VEVENT
BEGIN:VEVENT
DTSTART;TZID=America/Vancouver:20290306T133000
DTEND;TZID=America/Vancouver:20290306T143000
DTSTAMP:20260424T152629
CREATED:20250715T190922Z
LAST-MODIFIED:20251201T203242Z
UID:10013133-1867498200-1867501800@cvhis.org
SUMMARY:Headcases Band Open Jam Session
DESCRIPTION:This is an open jam session with our in house band The Headcases.  Everyone welcome to join in.
URL:https://cvhis.org/event/headcases-band-open-jam-session-2/2029-03-06/
END:VEVENT
BEGIN:VEVENT
DTSTART;TZID=America/Vancouver:20290307T103000
DTEND;TZID=America/Vancouver:20290307T120000
DTSTAMP:20260424T152629
CREATED:20240410T205821Z
LAST-MODIFIED:20251201T203134Z
UID:10005590-1867573800-1867579200@cvhis.org
SUMMARY:Peer Led Art Therapy
DESCRIPTION:Come join our peer led Art Therapy classes.  Sarah is a wonderful leader\, and has a lot of first hand knowledge and experience with a variety of mediums that she’s eager to share with you.
URL:https://cvhis.org/event/peer-led-art-therapy/2029-03-07/
END:VEVENT
BEGIN:VEVENT
DTSTART;TZID=America/Vancouver:20290307T130000
DTEND;TZID=America/Vancouver:20290307T130000
DTSTAMP:20260424T152629
CREATED:20240410T210709Z
LAST-MODIFIED:20251201T202924Z
UID:10006112-1867582800-1867582800@cvhis.org
SUMMARY:Survivor Support Group
DESCRIPTION:A safe place for survivors to come together and share what they have in common.  Find support and encouragement from others that understand what it is like to have a brain injury.  A welcoming round table\, led by Linda.
URL:https://cvhis.org/event/survivor-support-group-2/2029-03-07/
END:VEVENT
BEGIN:VEVENT
DTSTART;TZID=America/Vancouver:20290307T130000
DTEND;TZID=America/Vancouver:20290307T140000
DTSTAMP:20260424T152629
CREATED:20250218T212831Z
LAST-MODIFIED:20251201T202805Z
UID:10007982-1867582800-1867586400@cvhis.org
SUMMARY:One on One Counselling
DESCRIPTION:Do you need help?  Would you like to talk to someone?  Make an appointment with one of our certified therapists who work in partnership with our Society.  Liz Radermacher BA\, MA\, RCC from Pacific Therapy Counselling has appointments available on Wednesdays at 1:00.  To book an appointment\, please call 250-334-9225 or email:  info.cvhis@gmail.com
URL:https://cvhis.org/event/one-on-one-counselling-3-2/2029-03-07/
END:VEVENT
BEGIN:VEVENT
DTSTART;TZID=America/Vancouver:20290312T103000
DTEND;TZID=America/Vancouver:20290312T113000
DTSTAMP:20260424T152629
CREATED:20240312T185816Z
LAST-MODIFIED:20251201T205956Z
UID:10000262-1868005800-1868009400@cvhis.org
SUMMARY:Mindfulness by ZOOM
DESCRIPTION:This is a one-hour session to learn to use mindfulness meditation to help with stress reduction\, improve relationship satisfaction\, decrease levels of anxiety and emotional reactivity\, and help focus attention. \nThis is a ZOOM-only program.  Please call or email to let us know if you will be joining us so we can send you the ZOOM link.
URL:https://cvhis.org/event/mindfulness-zoom/2029-03-12/
END:VEVENT
BEGIN:VEVENT
DTSTART;TZID=America/Vancouver:20290312T120000
DTEND;TZID=America/Vancouver:20290312T130000
DTSTAMP:20260424T152629
CREATED:20251201T182033Z
LAST-MODIFIED:20251201T205512Z
UID:10013624-1868011200-1868014800@cvhis.org
SUMMARY:Yoga
DESCRIPTION:Stretching can lead to greater range of motion\, improved balance\, and increased flexibility. Movements are adaptable\, you can participate with the use of a chair for balance and support.\nYoga mats are available\, but if you have one\, we strongly encourage you to bring your own to class.  By Zoom or in person. \nRegistration required
URL:https://cvhis.org/event/yoga-with-allisyn-2-2/2029-03-12/
END:VEVENT
BEGIN:VEVENT
DTSTART;TZID=America/Vancouver:20290313T113000
DTEND;TZID=America/Vancouver:20290313T123000
DTSTAMP:20260424T152629
CREATED:20240326T192956Z
LAST-MODIFIED:20251201T201229Z
UID:10002341-1868095800-1868099400@cvhis.org
SUMMARY:Lunch at the Legion
DESCRIPTION:367 Cliff Ave. \nDoors open 11:30\, lunch served until 12:30.  Eat in or take out options available. Choice of 2 sandwiches\, salad\, fruit\, coffee/tea or water. \nSurvivors $2.00\, friends & family $5.00
URL:https://cvhis.org/event/lunch-at-the-legion/2029-03-13/
END:VEVENT
BEGIN:VEVENT
DTSTART;TZID=America/Vancouver:20290313T124500
DTEND;TZID=America/Vancouver:20290313T133000
DTSTAMP:20260424T152629
CREATED:20250218T213024Z
LAST-MODIFIED:20251201T204729Z
UID:10011439-1868100300-1868103000@cvhis.org
SUMMARY:One on One Counselling
DESCRIPTION:Do you need help?  Would you like to talk to someone?  Make an appointment with one of our certified therapists who work in partnership with our Society.  Liz Radermacher BA\, MA\, RCC from Pacific Therapy Counselling has appointments available on Tuesdays at 12:45.  To book an appointment\, please call 250-334-9225 or email:  info.cvhis@gmail.com
URL:https://cvhis.org/event/one-on-one-counselling-2-2/2029-03-13/
END:VEVENT
BEGIN:VEVENT
DTSTART;TZID=America/Vancouver:20290313T133000
DTEND;TZID=America/Vancouver:20290313T143000
DTSTAMP:20260424T152629
CREATED:20250715T190922Z
LAST-MODIFIED:20251201T203242Z
UID:10013134-1868103000-1868106600@cvhis.org
SUMMARY:Headcases Band Open Jam Session
DESCRIPTION:This is an open jam session with our in house band The Headcases.  Everyone welcome to join in.
URL:https://cvhis.org/event/headcases-band-open-jam-session-2/2029-03-13/
END:VEVENT
BEGIN:VEVENT
DTSTART;TZID=America/Vancouver:20290314T103000
DTEND;TZID=America/Vancouver:20290314T120000
DTSTAMP:20260424T152629
CREATED:20240410T205821Z
LAST-MODIFIED:20251201T203134Z
UID:10005591-1868178600-1868184000@cvhis.org
SUMMARY:Peer Led Art Therapy
DESCRIPTION:Come join our peer led Art Therapy classes.  Sarah is a wonderful leader\, and has a lot of first hand knowledge and experience with a variety of mediums that she’s eager to share with you.
URL:https://cvhis.org/event/peer-led-art-therapy/2029-03-14/
END:VEVENT
BEGIN:VEVENT
DTSTART;TZID=America/Vancouver:20290314T130000
DTEND;TZID=America/Vancouver:20290314T130000
DTSTAMP:20260424T152629
CREATED:20240410T210709Z
LAST-MODIFIED:20251201T202924Z
UID:10006113-1868187600-1868187600@cvhis.org
SUMMARY:Survivor Support Group
DESCRIPTION:A safe place for survivors to come together and share what they have in common.  Find support and encouragement from others that understand what it is like to have a brain injury.  A welcoming round table\, led by Linda.
URL:https://cvhis.org/event/survivor-support-group-2/2029-03-14/
END:VEVENT
BEGIN:VEVENT
DTSTART;TZID=America/Vancouver:20290314T130000
DTEND;TZID=America/Vancouver:20290314T140000
DTSTAMP:20260424T152629
CREATED:20250218T212831Z
LAST-MODIFIED:20251201T202805Z
UID:10007983-1868187600-1868191200@cvhis.org
SUMMARY:One on One Counselling
DESCRIPTION:Do you need help?  Would you like to talk to someone?  Make an appointment with one of our certified therapists who work in partnership with our Society.  Liz Radermacher BA\, MA\, RCC from Pacific Therapy Counselling has appointments available on Wednesdays at 1:00.  To book an appointment\, please call 250-334-9225 or email:  info.cvhis@gmail.com
URL:https://cvhis.org/event/one-on-one-counselling-3-2/2029-03-14/
END:VEVENT
BEGIN:VEVENT
DTSTART;TZID=America/Vancouver:20290319T103000
DTEND;TZID=America/Vancouver:20290319T113000
DTSTAMP:20260424T152629
CREATED:20240312T185816Z
LAST-MODIFIED:20251201T205956Z
UID:10006380-1868610600-1868614200@cvhis.org
SUMMARY:Mindfulness by ZOOM
DESCRIPTION:This is a one-hour session to learn to use mindfulness meditation to help with stress reduction\, improve relationship satisfaction\, decrease levels of anxiety and emotional reactivity\, and help focus attention. \nThis is a ZOOM-only program.  Please call or email to let us know if you will be joining us so we can send you the ZOOM link.
URL:https://cvhis.org/event/mindfulness-zoom/2029-03-19/
END:VEVENT
BEGIN:VEVENT
DTSTART;TZID=America/Vancouver:20290319T120000
DTEND;TZID=America/Vancouver:20290319T130000
DTSTAMP:20260424T152629
CREATED:20251201T182033Z
LAST-MODIFIED:20251201T205512Z
UID:10013625-1868616000-1868619600@cvhis.org
SUMMARY:Yoga
DESCRIPTION:Stretching can lead to greater range of motion\, improved balance\, and increased flexibility. Movements are adaptable\, you can participate with the use of a chair for balance and support.\nYoga mats are available\, but if you have one\, we strongly encourage you to bring your own to class.  By Zoom or in person. \nRegistration required
URL:https://cvhis.org/event/yoga-with-allisyn-2-2/2029-03-19/
END:VEVENT
BEGIN:VEVENT
DTSTART;TZID=America/Vancouver:20290320T113000
DTEND;TZID=America/Vancouver:20290320T123000
DTSTAMP:20260424T152629
CREATED:20240326T192956Z
LAST-MODIFIED:20251201T201229Z
UID:10002342-1868700600-1868704200@cvhis.org
SUMMARY:Lunch at the Legion
DESCRIPTION:367 Cliff Ave. \nDoors open 11:30\, lunch served until 12:30.  Eat in or take out options available. Choice of 2 sandwiches\, salad\, fruit\, coffee/tea or water. \nSurvivors $2.00\, friends & family $5.00
URL:https://cvhis.org/event/lunch-at-the-legion/2029-03-20/
END:VEVENT
BEGIN:VEVENT
DTSTART;TZID=America/Vancouver:20290320T124500
DTEND;TZID=America/Vancouver:20290320T133000
DTSTAMP:20260424T152629
CREATED:20250218T213024Z
LAST-MODIFIED:20251201T204729Z
UID:10011440-1868705100-1868707800@cvhis.org
SUMMARY:One on One Counselling
DESCRIPTION:Do you need help?  Would you like to talk to someone?  Make an appointment with one of our certified therapists who work in partnership with our Society.  Liz Radermacher BA\, MA\, RCC from Pacific Therapy Counselling has appointments available on Tuesdays at 12:45.  To book an appointment\, please call 250-334-9225 or email:  info.cvhis@gmail.com
URL:https://cvhis.org/event/one-on-one-counselling-2-2/2029-03-20/
END:VEVENT
BEGIN:VEVENT
DTSTART;TZID=America/Vancouver:20290320T133000
DTEND;TZID=America/Vancouver:20290320T143000
DTSTAMP:20260424T152629
CREATED:20250715T190922Z
LAST-MODIFIED:20251201T203242Z
UID:10013135-1868707800-1868711400@cvhis.org
SUMMARY:Headcases Band Open Jam Session
DESCRIPTION:This is an open jam session with our in house band The Headcases.  Everyone welcome to join in.
URL:https://cvhis.org/event/headcases-band-open-jam-session-2/2029-03-20/
END:VEVENT
BEGIN:VEVENT
DTSTART;TZID=America/Vancouver:20290321T103000
DTEND;TZID=America/Vancouver:20290321T120000
DTSTAMP:20260424T152629
CREATED:20240410T205821Z
LAST-MODIFIED:20251201T203134Z
UID:10005592-1868783400-1868788800@cvhis.org
SUMMARY:Peer Led Art Therapy
DESCRIPTION:Come join our peer led Art Therapy classes.  Sarah is a wonderful leader\, and has a lot of first hand knowledge and experience with a variety of mediums that she’s eager to share with you.
URL:https://cvhis.org/event/peer-led-art-therapy/2029-03-21/
END:VEVENT
BEGIN:VEVENT
DTSTART;TZID=America/Vancouver:20290321T130000
DTEND;TZID=America/Vancouver:20290321T130000
DTSTAMP:20260424T152629
CREATED:20240410T210709Z
LAST-MODIFIED:20251201T202924Z
UID:10006114-1868792400-1868792400@cvhis.org
SUMMARY:Survivor Support Group
DESCRIPTION:A safe place for survivors to come together and share what they have in common.  Find support and encouragement from others that understand what it is like to have a brain injury.  A welcoming round table\, led by Linda.
URL:https://cvhis.org/event/survivor-support-group-2/2029-03-21/
END:VEVENT
BEGIN:VEVENT
DTSTART;TZID=America/Vancouver:20290321T130000
DTEND;TZID=America/Vancouver:20290321T140000
DTSTAMP:20260424T152629
CREATED:20250218T212831Z
LAST-MODIFIED:20251201T202805Z
UID:10007984-1868792400-1868796000@cvhis.org
SUMMARY:One on One Counselling
DESCRIPTION:Do you need help?  Would you like to talk to someone?  Make an appointment with one of our certified therapists who work in partnership with our Society.  Liz Radermacher BA\, MA\, RCC from Pacific Therapy Counselling has appointments available on Wednesdays at 1:00.  To book an appointment\, please call 250-334-9225 or email:  info.cvhis@gmail.com
URL:https://cvhis.org/event/one-on-one-counselling-3-2/2029-03-21/
END:VEVENT
BEGIN:VEVENT
DTSTART;TZID=America/Vancouver:20290326T103000
DTEND;TZID=America/Vancouver:20290326T113000
DTSTAMP:20260424T152629
CREATED:20240312T185816Z
LAST-MODIFIED:20251201T205956Z
UID:10006381-1869215400-1869219000@cvhis.org
SUMMARY:Mindfulness by ZOOM
DESCRIPTION:This is a one-hour session to learn to use mindfulness meditation to help with stress reduction\, improve relationship satisfaction\, decrease levels of anxiety and emotional reactivity\, and help focus attention. \nThis is a ZOOM-only program.  Please call or email to let us know if you will be joining us so we can send you the ZOOM link.
URL:https://cvhis.org/event/mindfulness-zoom/2029-03-26/
END:VEVENT
BEGIN:VEVENT
DTSTART;TZID=America/Vancouver:20290326T120000
DTEND;TZID=America/Vancouver:20290326T130000
DTSTAMP:20260424T152629
CREATED:20251201T182033Z
LAST-MODIFIED:20251201T205512Z
UID:10013626-1869220800-1869224400@cvhis.org
SUMMARY:Yoga
DESCRIPTION:Stretching can lead to greater range of motion\, improved balance\, and increased flexibility. Movements are adaptable\, you can participate with the use of a chair for balance and support.\nYoga mats are available\, but if you have one\, we strongly encourage you to bring your own to class.  By Zoom or in person. \nRegistration required
URL:https://cvhis.org/event/yoga-with-allisyn-2-2/2029-03-26/
END:VEVENT
BEGIN:VEVENT
DTSTART;TZID=America/Vancouver:20290327T113000
DTEND;TZID=America/Vancouver:20290327T123000
DTSTAMP:20260424T152629
CREATED:20240326T192956Z
LAST-MODIFIED:20251201T201229Z
UID:10008362-1869305400-1869309000@cvhis.org
SUMMARY:Lunch at the Legion
DESCRIPTION:367 Cliff Ave. \nDoors open 11:30\, lunch served until 12:30.  Eat in or take out options available. Choice of 2 sandwiches\, salad\, fruit\, coffee/tea or water. \nSurvivors $2.00\, friends & family $5.00
URL:https://cvhis.org/event/lunch-at-the-legion/2029-03-27/
END:VEVENT
BEGIN:VEVENT
DTSTART;TZID=America/Vancouver:20290327T124500
DTEND;TZID=America/Vancouver:20290327T133000
DTSTAMP:20260424T152629
CREATED:20250218T213024Z
LAST-MODIFIED:20251201T204729Z
UID:10011441-1869309900-1869312600@cvhis.org
SUMMARY:One on One Counselling
DESCRIPTION:Do you need help?  Would you like to talk to someone?  Make an appointment with one of our certified therapists who work in partnership with our Society.  Liz Radermacher BA\, MA\, RCC from Pacific Therapy Counselling has appointments available on Tuesdays at 12:45.  To book an appointment\, please call 250-334-9225 or email:  info.cvhis@gmail.com
URL:https://cvhis.org/event/one-on-one-counselling-2-2/2029-03-27/
END:VEVENT
BEGIN:VEVENT
DTSTART;TZID=America/Vancouver:20290327T133000
DTEND;TZID=America/Vancouver:20290327T143000
DTSTAMP:20260424T152629
CREATED:20250715T190922Z
LAST-MODIFIED:20251201T203242Z
UID:10013136-1869312600-1869316200@cvhis.org
SUMMARY:Headcases Band Open Jam Session
DESCRIPTION:This is an open jam session with our in house band The Headcases.  Everyone welcome to join in.
URL:https://cvhis.org/event/headcases-band-open-jam-session-2/2029-03-27/
END:VEVENT
BEGIN:VEVENT
DTSTART;TZID=America/Vancouver:20290328T103000
DTEND;TZID=America/Vancouver:20290328T120000
DTSTAMP:20260424T152629
CREATED:20240410T205821Z
LAST-MODIFIED:20251201T203134Z
UID:10005593-1869388200-1869393600@cvhis.org
SUMMARY:Peer Led Art Therapy
DESCRIPTION:Come join our peer led Art Therapy classes.  Sarah is a wonderful leader\, and has a lot of first hand knowledge and experience with a variety of mediums that she’s eager to share with you.
URL:https://cvhis.org/event/peer-led-art-therapy/2029-03-28/
END:VEVENT
END:VCALENDAR