BEGIN:VCALENDAR
VERSION:2.0
PRODID:-//Comox Valley Head Injury Society - ECPv6.15.17.1//NONSGML v1.0//EN
CALSCALE:GREGORIAN
METHOD:PUBLISH
X-ORIGINAL-URL:https://cvhis.org
X-WR-CALDESC:Events for Comox Valley Head Injury Society
REFRESH-INTERVAL;VALUE=DURATION:PT1H
X-Robots-Tag:noindex
X-PUBLISHED-TTL:PT1H
BEGIN:VTIMEZONE
TZID:America/Vancouver
BEGIN:DAYLIGHT
TZOFFSETFROM:-0800
TZOFFSETTO:-0700
TZNAME:PDT
DTSTART:20280312T100000
END:DAYLIGHT
BEGIN:STANDARD
TZOFFSETFROM:-0700
TZOFFSETTO:-0800
TZNAME:PST
DTSTART:20281105T090000
END:STANDARD
BEGIN:DAYLIGHT
TZOFFSETFROM:-0800
TZOFFSETTO:-0700
TZNAME:PDT
DTSTART:20290311T100000
END:DAYLIGHT
BEGIN:STANDARD
TZOFFSETFROM:-0700
TZOFFSETTO:-0800
TZNAME:PST
DTSTART:20291104T090000
END:STANDARD
BEGIN:DAYLIGHT
TZOFFSETFROM:-0800
TZOFFSETTO:-0700
TZNAME:PDT
DTSTART:20300310T100000
END:DAYLIGHT
BEGIN:STANDARD
TZOFFSETFROM:-0700
TZOFFSETTO:-0800
TZNAME:PST
DTSTART:20301103T090000
END:STANDARD
END:VTIMEZONE
BEGIN:VEVENT
DTSTART;TZID=America/Vancouver:20290903T103000
DTEND;TZID=America/Vancouver:20290903T113000
DTSTAMP:20260425T032911
CREATED:20240312T185816Z
LAST-MODIFIED:20251201T205956Z
UID:10011046-1883125800-1883129400@cvhis.org
SUMMARY:Mindfulness by ZOOM
DESCRIPTION:This is a one-hour session to learn to use mindfulness meditation to help with stress reduction\, improve relationship satisfaction\, decrease levels of anxiety and emotional reactivity\, and help focus attention. \nThis is a ZOOM-only program.  Please call or email to let us know if you will be joining us so we can send you the ZOOM link.
URL:https://cvhis.org/event/mindfulness-zoom/2029-09-03/
END:VEVENT
BEGIN:VEVENT
DTSTART;TZID=America/Vancouver:20290903T120000
DTEND;TZID=America/Vancouver:20290903T130000
DTSTAMP:20260425T032911
CREATED:20251201T182033Z
LAST-MODIFIED:20251201T205512Z
UID:10013649-1883131200-1883134800@cvhis.org
SUMMARY:Yoga
DESCRIPTION:Stretching can lead to greater range of motion\, improved balance\, and increased flexibility. Movements are adaptable\, you can participate with the use of a chair for balance and support.\nYoga mats are available\, but if you have one\, we strongly encourage you to bring your own to class.  By Zoom or in person. \nRegistration required
URL:https://cvhis.org/event/yoga-with-allisyn-2-2/2029-09-03/
END:VEVENT
BEGIN:VEVENT
DTSTART;TZID=America/Vancouver:20290904T113000
DTEND;TZID=America/Vancouver:20290904T123000
DTSTAMP:20260425T032911
CREATED:20240326T192956Z
LAST-MODIFIED:20251201T201229Z
UID:10011102-1883215800-1883219400@cvhis.org
SUMMARY:Lunch at the Legion
DESCRIPTION:367 Cliff Ave. \nDoors open 11:30\, lunch served until 12:30.  Eat in or take out options available. Choice of 2 sandwiches\, salad\, fruit\, coffee/tea or water. \nSurvivors $2.00\, friends & family $5.00
URL:https://cvhis.org/event/lunch-at-the-legion/2029-09-04/
END:VEVENT
BEGIN:VEVENT
DTSTART;TZID=America/Vancouver:20290904T124500
DTEND;TZID=America/Vancouver:20290904T133000
DTSTAMP:20260425T032911
CREATED:20250218T213024Z
LAST-MODIFIED:20251201T204729Z
UID:10011464-1883220300-1883223000@cvhis.org
SUMMARY:One on One Counselling
DESCRIPTION:Do you need help?  Would you like to talk to someone?  Make an appointment with one of our certified therapists who work in partnership with our Society.  Liz Radermacher BA\, MA\, RCC from Pacific Therapy Counselling has appointments available on Tuesdays at 12:45.  To book an appointment\, please call 250-334-9225 or email:  info.cvhis@gmail.com
URL:https://cvhis.org/event/one-on-one-counselling-2-2/2029-09-04/
END:VEVENT
BEGIN:VEVENT
DTSTART;TZID=America/Vancouver:20290904T133000
DTEND;TZID=America/Vancouver:20290904T143000
DTSTAMP:20260425T032911
CREATED:20250715T190922Z
LAST-MODIFIED:20251201T203242Z
UID:10013159-1883223000-1883226600@cvhis.org
SUMMARY:Headcases Band Open Jam Session
DESCRIPTION:This is an open jam session with our in house band The Headcases.  Everyone welcome to join in.
URL:https://cvhis.org/event/headcases-band-open-jam-session-2/2029-09-04/
END:VEVENT
BEGIN:VEVENT
DTSTART;TZID=America/Vancouver:20290905T103000
DTEND;TZID=America/Vancouver:20290905T120000
DTSTAMP:20260425T032911
CREATED:20240410T205821Z
LAST-MODIFIED:20251201T203134Z
UID:10009218-1883298600-1883304000@cvhis.org
SUMMARY:Peer Led Art Therapy
DESCRIPTION:Come join our peer led Art Therapy classes.  Sarah is a wonderful leader\, and has a lot of first hand knowledge and experience with a variety of mediums that she’s eager to share with you.
URL:https://cvhis.org/event/peer-led-art-therapy/2029-09-05/
END:VEVENT
BEGIN:VEVENT
DTSTART;TZID=America/Vancouver:20290905T130000
DTEND;TZID=America/Vancouver:20290905T130000
DTSTAMP:20260425T032911
CREATED:20240410T210709Z
LAST-MODIFIED:20251201T202924Z
UID:10008743-1883307600-1883307600@cvhis.org
SUMMARY:Survivor Support Group
DESCRIPTION:A safe place for survivors to come together and share what they have in common.  Find support and encouragement from others that understand what it is like to have a brain injury.  A welcoming round table\, led by Linda.
URL:https://cvhis.org/event/survivor-support-group-2/2029-09-05/
END:VEVENT
BEGIN:VEVENT
DTSTART;TZID=America/Vancouver:20290905T130000
DTEND;TZID=America/Vancouver:20290905T140000
DTSTAMP:20260425T032911
CREATED:20250218T212831Z
LAST-MODIFIED:20251201T202805Z
UID:10011005-1883307600-1883311200@cvhis.org
SUMMARY:One on One Counselling
DESCRIPTION:Do you need help?  Would you like to talk to someone?  Make an appointment with one of our certified therapists who work in partnership with our Society.  Liz Radermacher BA\, MA\, RCC from Pacific Therapy Counselling has appointments available on Wednesdays at 1:00.  To book an appointment\, please call 250-334-9225 or email:  info.cvhis@gmail.com
URL:https://cvhis.org/event/one-on-one-counselling-3-2/2029-09-05/
END:VEVENT
BEGIN:VEVENT
DTSTART;TZID=America/Vancouver:20290910T103000
DTEND;TZID=America/Vancouver:20290910T113000
DTSTAMP:20260425T032911
CREATED:20240312T185816Z
LAST-MODIFIED:20251201T205956Z
UID:10011047-1883730600-1883734200@cvhis.org
SUMMARY:Mindfulness by ZOOM
DESCRIPTION:This is a one-hour session to learn to use mindfulness meditation to help with stress reduction\, improve relationship satisfaction\, decrease levels of anxiety and emotional reactivity\, and help focus attention. \nThis is a ZOOM-only program.  Please call or email to let us know if you will be joining us so we can send you the ZOOM link.
URL:https://cvhis.org/event/mindfulness-zoom/2029-09-10/
END:VEVENT
BEGIN:VEVENT
DTSTART;TZID=America/Vancouver:20290910T120000
DTEND;TZID=America/Vancouver:20290910T130000
DTSTAMP:20260425T032911
CREATED:20251201T182033Z
LAST-MODIFIED:20251201T205512Z
UID:10013650-1883736000-1883739600@cvhis.org
SUMMARY:Yoga
DESCRIPTION:Stretching can lead to greater range of motion\, improved balance\, and increased flexibility. Movements are adaptable\, you can participate with the use of a chair for balance and support.\nYoga mats are available\, but if you have one\, we strongly encourage you to bring your own to class.  By Zoom or in person. \nRegistration required
URL:https://cvhis.org/event/yoga-with-allisyn-2-2/2029-09-10/
END:VEVENT
BEGIN:VEVENT
DTSTART;TZID=America/Vancouver:20290911T113000
DTEND;TZID=America/Vancouver:20290911T123000
DTSTAMP:20260425T032911
CREATED:20240326T192956Z
LAST-MODIFIED:20251201T201229Z
UID:10011103-1883820600-1883824200@cvhis.org
SUMMARY:Lunch at the Legion
DESCRIPTION:367 Cliff Ave. \nDoors open 11:30\, lunch served until 12:30.  Eat in or take out options available. Choice of 2 sandwiches\, salad\, fruit\, coffee/tea or water. \nSurvivors $2.00\, friends & family $5.00
URL:https://cvhis.org/event/lunch-at-the-legion/2029-09-11/
END:VEVENT
BEGIN:VEVENT
DTSTART;TZID=America/Vancouver:20290911T124500
DTEND;TZID=America/Vancouver:20290911T133000
DTSTAMP:20260425T032911
CREATED:20250218T213024Z
LAST-MODIFIED:20251201T204729Z
UID:10011465-1883825100-1883827800@cvhis.org
SUMMARY:One on One Counselling
DESCRIPTION:Do you need help?  Would you like to talk to someone?  Make an appointment with one of our certified therapists who work in partnership with our Society.  Liz Radermacher BA\, MA\, RCC from Pacific Therapy Counselling has appointments available on Tuesdays at 12:45.  To book an appointment\, please call 250-334-9225 or email:  info.cvhis@gmail.com
URL:https://cvhis.org/event/one-on-one-counselling-2-2/2029-09-11/
END:VEVENT
BEGIN:VEVENT
DTSTART;TZID=America/Vancouver:20290911T133000
DTEND;TZID=America/Vancouver:20290911T143000
DTSTAMP:20260425T032911
CREATED:20250715T190922Z
LAST-MODIFIED:20251201T203242Z
UID:10013160-1883827800-1883831400@cvhis.org
SUMMARY:Headcases Band Open Jam Session
DESCRIPTION:This is an open jam session with our in house band The Headcases.  Everyone welcome to join in.
URL:https://cvhis.org/event/headcases-band-open-jam-session-2/2029-09-11/
END:VEVENT
BEGIN:VEVENT
DTSTART;TZID=America/Vancouver:20290912T103000
DTEND;TZID=America/Vancouver:20290912T120000
DTSTAMP:20260425T032911
CREATED:20240410T205821Z
LAST-MODIFIED:20251201T203134Z
UID:10009219-1883903400-1883908800@cvhis.org
SUMMARY:Peer Led Art Therapy
DESCRIPTION:Come join our peer led Art Therapy classes.  Sarah is a wonderful leader\, and has a lot of first hand knowledge and experience with a variety of mediums that she’s eager to share with you.
URL:https://cvhis.org/event/peer-led-art-therapy/2029-09-12/
END:VEVENT
BEGIN:VEVENT
DTSTART;TZID=America/Vancouver:20290912T130000
DTEND;TZID=America/Vancouver:20290912T130000
DTSTAMP:20260425T032911
CREATED:20240410T210709Z
LAST-MODIFIED:20251201T202924Z
UID:10008744-1883912400-1883912400@cvhis.org
SUMMARY:Survivor Support Group
DESCRIPTION:A safe place for survivors to come together and share what they have in common.  Find support and encouragement from others that understand what it is like to have a brain injury.  A welcoming round table\, led by Linda.
URL:https://cvhis.org/event/survivor-support-group-2/2029-09-12/
END:VEVENT
BEGIN:VEVENT
DTSTART;TZID=America/Vancouver:20290912T130000
DTEND;TZID=America/Vancouver:20290912T140000
DTSTAMP:20260425T032911
CREATED:20250218T212831Z
LAST-MODIFIED:20251201T202805Z
UID:10011006-1883912400-1883916000@cvhis.org
SUMMARY:One on One Counselling
DESCRIPTION:Do you need help?  Would you like to talk to someone?  Make an appointment with one of our certified therapists who work in partnership with our Society.  Liz Radermacher BA\, MA\, RCC from Pacific Therapy Counselling has appointments available on Wednesdays at 1:00.  To book an appointment\, please call 250-334-9225 or email:  info.cvhis@gmail.com
URL:https://cvhis.org/event/one-on-one-counselling-3-2/2029-09-12/
END:VEVENT
BEGIN:VEVENT
DTSTART;TZID=America/Vancouver:20290917T103000
DTEND;TZID=America/Vancouver:20290917T113000
DTSTAMP:20260425T032911
CREATED:20240312T185816Z
LAST-MODIFIED:20251201T205956Z
UID:10011048-1884335400-1884339000@cvhis.org
SUMMARY:Mindfulness by ZOOM
DESCRIPTION:This is a one-hour session to learn to use mindfulness meditation to help with stress reduction\, improve relationship satisfaction\, decrease levels of anxiety and emotional reactivity\, and help focus attention. \nThis is a ZOOM-only program.  Please call or email to let us know if you will be joining us so we can send you the ZOOM link.
URL:https://cvhis.org/event/mindfulness-zoom/2029-09-17/
END:VEVENT
BEGIN:VEVENT
DTSTART;TZID=America/Vancouver:20290917T120000
DTEND;TZID=America/Vancouver:20290917T130000
DTSTAMP:20260425T032911
CREATED:20251201T182033Z
LAST-MODIFIED:20251201T205512Z
UID:10013651-1884340800-1884344400@cvhis.org
SUMMARY:Yoga
DESCRIPTION:Stretching can lead to greater range of motion\, improved balance\, and increased flexibility. Movements are adaptable\, you can participate with the use of a chair for balance and support.\nYoga mats are available\, but if you have one\, we strongly encourage you to bring your own to class.  By Zoom or in person. \nRegistration required
URL:https://cvhis.org/event/yoga-with-allisyn-2-2/2029-09-17/
END:VEVENT
BEGIN:VEVENT
DTSTART;TZID=America/Vancouver:20290918T113000
DTEND;TZID=America/Vancouver:20290918T123000
DTSTAMP:20260425T032911
CREATED:20240326T192956Z
LAST-MODIFIED:20251201T201229Z
UID:10011104-1884425400-1884429000@cvhis.org
SUMMARY:Lunch at the Legion
DESCRIPTION:367 Cliff Ave. \nDoors open 11:30\, lunch served until 12:30.  Eat in or take out options available. Choice of 2 sandwiches\, salad\, fruit\, coffee/tea or water. \nSurvivors $2.00\, friends & family $5.00
URL:https://cvhis.org/event/lunch-at-the-legion/2029-09-18/
END:VEVENT
BEGIN:VEVENT
DTSTART;TZID=America/Vancouver:20290918T124500
DTEND;TZID=America/Vancouver:20290918T133000
DTSTAMP:20260425T032911
CREATED:20250218T213024Z
LAST-MODIFIED:20251201T204729Z
UID:10011466-1884429900-1884432600@cvhis.org
SUMMARY:One on One Counselling
DESCRIPTION:Do you need help?  Would you like to talk to someone?  Make an appointment with one of our certified therapists who work in partnership with our Society.  Liz Radermacher BA\, MA\, RCC from Pacific Therapy Counselling has appointments available on Tuesdays at 12:45.  To book an appointment\, please call 250-334-9225 or email:  info.cvhis@gmail.com
URL:https://cvhis.org/event/one-on-one-counselling-2-2/2029-09-18/
END:VEVENT
BEGIN:VEVENT
DTSTART;TZID=America/Vancouver:20290918T133000
DTEND;TZID=America/Vancouver:20290918T143000
DTSTAMP:20260425T032911
CREATED:20250715T190922Z
LAST-MODIFIED:20251201T203242Z
UID:10013161-1884432600-1884436200@cvhis.org
SUMMARY:Headcases Band Open Jam Session
DESCRIPTION:This is an open jam session with our in house band The Headcases.  Everyone welcome to join in.
URL:https://cvhis.org/event/headcases-band-open-jam-session-2/2029-09-18/
END:VEVENT
BEGIN:VEVENT
DTSTART;TZID=America/Vancouver:20290919T103000
DTEND;TZID=America/Vancouver:20290919T120000
DTSTAMP:20260425T032911
CREATED:20240410T205821Z
LAST-MODIFIED:20251201T203134Z
UID:10009220-1884508200-1884513600@cvhis.org
SUMMARY:Peer Led Art Therapy
DESCRIPTION:Come join our peer led Art Therapy classes.  Sarah is a wonderful leader\, and has a lot of first hand knowledge and experience with a variety of mediums that she’s eager to share with you.
URL:https://cvhis.org/event/peer-led-art-therapy/2029-09-19/
END:VEVENT
BEGIN:VEVENT
DTSTART;TZID=America/Vancouver:20290919T130000
DTEND;TZID=America/Vancouver:20290919T130000
DTSTAMP:20260425T032911
CREATED:20240410T210709Z
LAST-MODIFIED:20251201T202924Z
UID:10008745-1884517200-1884517200@cvhis.org
SUMMARY:Survivor Support Group
DESCRIPTION:A safe place for survivors to come together and share what they have in common.  Find support and encouragement from others that understand what it is like to have a brain injury.  A welcoming round table\, led by Linda.
URL:https://cvhis.org/event/survivor-support-group-2/2029-09-19/
END:VEVENT
BEGIN:VEVENT
DTSTART;TZID=America/Vancouver:20290919T130000
DTEND;TZID=America/Vancouver:20290919T140000
DTSTAMP:20260425T032911
CREATED:20250218T212831Z
LAST-MODIFIED:20251201T202805Z
UID:10011007-1884517200-1884520800@cvhis.org
SUMMARY:One on One Counselling
DESCRIPTION:Do you need help?  Would you like to talk to someone?  Make an appointment with one of our certified therapists who work in partnership with our Society.  Liz Radermacher BA\, MA\, RCC from Pacific Therapy Counselling has appointments available on Wednesdays at 1:00.  To book an appointment\, please call 250-334-9225 or email:  info.cvhis@gmail.com
URL:https://cvhis.org/event/one-on-one-counselling-3-2/2029-09-19/
END:VEVENT
BEGIN:VEVENT
DTSTART;TZID=America/Vancouver:20290924T103000
DTEND;TZID=America/Vancouver:20290924T113000
DTSTAMP:20260425T032911
CREATED:20240312T185816Z
LAST-MODIFIED:20251201T205956Z
UID:10011049-1884940200-1884943800@cvhis.org
SUMMARY:Mindfulness by ZOOM
DESCRIPTION:This is a one-hour session to learn to use mindfulness meditation to help with stress reduction\, improve relationship satisfaction\, decrease levels of anxiety and emotional reactivity\, and help focus attention. \nThis is a ZOOM-only program.  Please call or email to let us know if you will be joining us so we can send you the ZOOM link.
URL:https://cvhis.org/event/mindfulness-zoom/2029-09-24/
END:VEVENT
BEGIN:VEVENT
DTSTART;TZID=America/Vancouver:20290924T120000
DTEND;TZID=America/Vancouver:20290924T130000
DTSTAMP:20260425T032911
CREATED:20251201T182033Z
LAST-MODIFIED:20251201T205512Z
UID:10013652-1884945600-1884949200@cvhis.org
SUMMARY:Yoga
DESCRIPTION:Stretching can lead to greater range of motion\, improved balance\, and increased flexibility. Movements are adaptable\, you can participate with the use of a chair for balance and support.\nYoga mats are available\, but if you have one\, we strongly encourage you to bring your own to class.  By Zoom or in person. \nRegistration required
URL:https://cvhis.org/event/yoga-with-allisyn-2-2/2029-09-24/
END:VEVENT
BEGIN:VEVENT
DTSTART;TZID=America/Vancouver:20290925T113000
DTEND;TZID=America/Vancouver:20290925T123000
DTSTAMP:20260425T032911
CREATED:20240326T192956Z
LAST-MODIFIED:20251201T201229Z
UID:10011105-1885030200-1885033800@cvhis.org
SUMMARY:Lunch at the Legion
DESCRIPTION:367 Cliff Ave. \nDoors open 11:30\, lunch served until 12:30.  Eat in or take out options available. Choice of 2 sandwiches\, salad\, fruit\, coffee/tea or water. \nSurvivors $2.00\, friends & family $5.00
URL:https://cvhis.org/event/lunch-at-the-legion/2029-09-25/
END:VEVENT
BEGIN:VEVENT
DTSTART;TZID=America/Vancouver:20290925T124500
DTEND;TZID=America/Vancouver:20290925T133000
DTSTAMP:20260425T032911
CREATED:20250218T213024Z
LAST-MODIFIED:20251201T204729Z
UID:10011467-1885034700-1885037400@cvhis.org
SUMMARY:One on One Counselling
DESCRIPTION:Do you need help?  Would you like to talk to someone?  Make an appointment with one of our certified therapists who work in partnership with our Society.  Liz Radermacher BA\, MA\, RCC from Pacific Therapy Counselling has appointments available on Tuesdays at 12:45.  To book an appointment\, please call 250-334-9225 or email:  info.cvhis@gmail.com
URL:https://cvhis.org/event/one-on-one-counselling-2-2/2029-09-25/
END:VEVENT
BEGIN:VEVENT
DTSTART;TZID=America/Vancouver:20290925T133000
DTEND;TZID=America/Vancouver:20290925T143000
DTSTAMP:20260425T032911
CREATED:20250715T190922Z
LAST-MODIFIED:20251201T203242Z
UID:10013162-1885037400-1885041000@cvhis.org
SUMMARY:Headcases Band Open Jam Session
DESCRIPTION:This is an open jam session with our in house band The Headcases.  Everyone welcome to join in.
URL:https://cvhis.org/event/headcases-band-open-jam-session-2/2029-09-25/
END:VEVENT
BEGIN:VEVENT
DTSTART;TZID=America/Vancouver:20290926T103000
DTEND;TZID=America/Vancouver:20290926T120000
DTSTAMP:20260425T032911
CREATED:20240410T205821Z
LAST-MODIFIED:20251201T203134Z
UID:10009221-1885113000-1885118400@cvhis.org
SUMMARY:Peer Led Art Therapy
DESCRIPTION:Come join our peer led Art Therapy classes.  Sarah is a wonderful leader\, and has a lot of first hand knowledge and experience with a variety of mediums that she’s eager to share with you.
URL:https://cvhis.org/event/peer-led-art-therapy/2029-09-26/
END:VEVENT
END:VCALENDAR