BEGIN:VCALENDAR
VERSION:2.0
PRODID:-//Comox Valley Head Injury Society - ECPv6.15.17.1//NONSGML v1.0//EN
CALSCALE:GREGORIAN
METHOD:PUBLISH
X-ORIGINAL-URL:https://cvhis.org
X-WR-CALDESC:Events for Comox Valley Head Injury Society
REFRESH-INTERVAL;VALUE=DURATION:PT1H
X-Robots-Tag:noindex
X-PUBLISHED-TTL:PT1H
BEGIN:VTIMEZONE
TZID:America/Vancouver
BEGIN:DAYLIGHT
TZOFFSETFROM:-0800
TZOFFSETTO:-0700
TZNAME:PDT
DTSTART:57990310T100000
END:DAYLIGHT
BEGIN:STANDARD
TZOFFSETFROM:-0700
TZOFFSETTO:-0800
TZNAME:PST
DTSTART:57991103T090000
END:STANDARD
BEGIN:DAYLIGHT
TZOFFSETFROM:-0800
TZOFFSETTO:-0700
TZNAME:PDT
DTSTART:58000309T100000
END:DAYLIGHT
BEGIN:STANDARD
TZOFFSETFROM:-0700
TZOFFSETTO:-0800
TZNAME:PST
DTSTART:58001102T090000
END:STANDARD
BEGIN:DAYLIGHT
TZOFFSETFROM:-0800
TZOFFSETTO:-0700
TZNAME:PDT
DTSTART:58010308T100000
END:DAYLIGHT
BEGIN:STANDARD
TZOFFSETFROM:-0700
TZOFFSETTO:-0800
TZNAME:PST
DTSTART:58011101T090000
END:STANDARD
BEGIN:DAYLIGHT
TZOFFSETFROM:-0800
TZOFFSETTO:-0700
TZNAME:PDT
DTSTART:58020314T100000
END:DAYLIGHT
BEGIN:STANDARD
TZOFFSETFROM:-0700
TZOFFSETTO:-0800
TZNAME:PST
DTSTART:58021107T090000
END:STANDARD
END:VTIMEZONE
BEGIN:VEVENT
DTSTART;TZID=America/Vancouver:58000922T130000
DTEND;TZID=America/Vancouver:58010305T150000
DTSTAMP:20260422T181754
CREATED:20250317T202343Z
LAST-MODIFIED:20251224T180737Z
UID:10013880-120886002000-120900178800@cvhis.org
SUMMARY:Reiki with Brad
DESCRIPTION:We will be booking specific times for each person registered\, each session is 30 minutes in length\, and we’ll contact you with a specific time for your session. \nJoin Reiki Master & teacher\, Brad H.\, in this unique event! \nReiki is a Japanese word which translates to Universal Life Force Energy.  Reiki is an ancient practice that can be experienced by either “hands on” or by “distance” (remote) healing.  A Reiki treatment encourages physical\, emotional\, and spiritual growth and transformation. \nThe unique gift of a Reiki treatment allows the body’s energy centers\, commonly known as Chakras\, to be more fully opened\, allowing a person to connect with greater amounts of healing energy. \nReiki energy flows through the practitioner who acts as a conduit\, thus allowing the recipient to receive healing energy to all the parts of the body that require attention.  This universal life force energy enters through the practitioner’s head (crown Chakra) and then flows through the entire body\, finally including internal organs\, where it is most needed.
URL:https://cvhis.org/event/reiki-with-brad-2/5800-09-22/
END:VEVENT
END:VCALENDAR