BEGIN:VCALENDAR
VERSION:2.0
PRODID:-//Comox Valley Head Injury Society - ECPv6.15.17.1//NONSGML v1.0//EN
CALSCALE:GREGORIAN
METHOD:PUBLISH
X-WR-CALNAME:Comox Valley Head Injury Society
X-ORIGINAL-URL:https://cvhis.org
X-WR-CALDESC:Events for Comox Valley Head Injury Society
REFRESH-INTERVAL;VALUE=DURATION:PT1H
X-Robots-Tag:noindex
X-PUBLISHED-TTL:PT1H
BEGIN:VTIMEZONE
TZID:America/Vancouver
BEGIN:DAYLIGHT
TZOFFSETFROM:-0800
TZOFFSETTO:-0700
TZNAME:PDT
DTSTART:20250309T100000
END:DAYLIGHT
BEGIN:STANDARD
TZOFFSETFROM:-0700
TZOFFSETTO:-0800
TZNAME:PST
DTSTART:20251102T090000
END:STANDARD
BEGIN:DAYLIGHT
TZOFFSETFROM:-0800
TZOFFSETTO:-0700
TZNAME:PDT
DTSTART:20260308T100000
END:DAYLIGHT
BEGIN:STANDARD
TZOFFSETFROM:-0700
TZOFFSETTO:-0800
TZNAME:PST
DTSTART:20261101T090000
END:STANDARD
BEGIN:DAYLIGHT
TZOFFSETFROM:-0800
TZOFFSETTO:-0700
TZNAME:PDT
DTSTART:20270314T100000
END:DAYLIGHT
BEGIN:STANDARD
TZOFFSETFROM:-0700
TZOFFSETTO:-0800
TZNAME:PST
DTSTART:20271107T090000
END:STANDARD
END:VTIMEZONE
BEGIN:VEVENT
DTSTART;TZID=America/Vancouver:20260421T133000
DTEND;TZID=America/Vancouver:20260421T143000
DTSTAMP:20260421T014115
CREATED:20250715T190922Z
LAST-MODIFIED:20251201T203242Z
UID:10012983-1776778200-1776781800@cvhis.org
SUMMARY:Headcases Band Open Jam Session
DESCRIPTION:This is an open jam session with our in house band The Headcases.  Everyone welcome to join in.
URL:https://cvhis.org/event/headcases-band-open-jam-session-2/2026-04-21/
END:VEVENT
BEGIN:VEVENT
DTSTART;TZID=America/Vancouver:20260428T133000
DTEND;TZID=America/Vancouver:20260428T143000
DTSTAMP:20260421T014115
CREATED:20250715T190922Z
LAST-MODIFIED:20251201T203242Z
UID:10012984-1777383000-1777386600@cvhis.org
SUMMARY:Headcases Band Open Jam Session
DESCRIPTION:This is an open jam session with our in house band The Headcases.  Everyone welcome to join in.
URL:https://cvhis.org/event/headcases-band-open-jam-session-2/2026-04-28/
END:VEVENT
BEGIN:VEVENT
DTSTART;TZID=America/Vancouver:20260505T133000
DTEND;TZID=America/Vancouver:20260505T143000
DTSTAMP:20260421T014115
CREATED:20250715T190922Z
LAST-MODIFIED:20251201T203242Z
UID:10012985-1777987800-1777991400@cvhis.org
SUMMARY:Headcases Band Open Jam Session
DESCRIPTION:This is an open jam session with our in house band The Headcases.  Everyone welcome to join in.
URL:https://cvhis.org/event/headcases-band-open-jam-session-2/2026-05-05/
END:VEVENT
BEGIN:VEVENT
DTSTART;TZID=America/Vancouver:20260512T133000
DTEND;TZID=America/Vancouver:20260512T143000
DTSTAMP:20260421T014115
CREATED:20250715T190922Z
LAST-MODIFIED:20251201T203242Z
UID:10012986-1778592600-1778596200@cvhis.org
SUMMARY:Headcases Band Open Jam Session
DESCRIPTION:This is an open jam session with our in house band The Headcases.  Everyone welcome to join in.
URL:https://cvhis.org/event/headcases-band-open-jam-session-2/2026-05-12/
END:VEVENT
BEGIN:VEVENT
DTSTART;TZID=America/Vancouver:20260519T133000
DTEND;TZID=America/Vancouver:20260519T143000
DTSTAMP:20260421T014115
CREATED:20250715T190922Z
LAST-MODIFIED:20251201T203242Z
UID:10012987-1779197400-1779201000@cvhis.org
SUMMARY:Headcases Band Open Jam Session
DESCRIPTION:This is an open jam session with our in house band The Headcases.  Everyone welcome to join in.
URL:https://cvhis.org/event/headcases-band-open-jam-session-2/2026-05-19/
END:VEVENT
BEGIN:VEVENT
DTSTART;TZID=America/Vancouver:20260526T133000
DTEND;TZID=America/Vancouver:20260526T143000
DTSTAMP:20260421T014115
CREATED:20250715T190922Z
LAST-MODIFIED:20251201T203242Z
UID:10012988-1779802200-1779805800@cvhis.org
SUMMARY:Headcases Band Open Jam Session
DESCRIPTION:This is an open jam session with our in house band The Headcases.  Everyone welcome to join in.
URL:https://cvhis.org/event/headcases-band-open-jam-session-2/2026-05-26/
END:VEVENT
BEGIN:VEVENT
DTSTART;TZID=America/Vancouver:20260602T133000
DTEND;TZID=America/Vancouver:20260602T143000
DTSTAMP:20260421T014115
CREATED:20250715T190922Z
LAST-MODIFIED:20251201T203242Z
UID:10012989-1780407000-1780410600@cvhis.org
SUMMARY:Headcases Band Open Jam Session
DESCRIPTION:This is an open jam session with our in house band The Headcases.  Everyone welcome to join in.
URL:https://cvhis.org/event/headcases-band-open-jam-session-2/2026-06-02/
END:VEVENT
BEGIN:VEVENT
DTSTART;TZID=America/Vancouver:20260609T133000
DTEND;TZID=America/Vancouver:20260609T143000
DTSTAMP:20260421T014115
CREATED:20250715T190922Z
LAST-MODIFIED:20251201T203242Z
UID:10012990-1781011800-1781015400@cvhis.org
SUMMARY:Headcases Band Open Jam Session
DESCRIPTION:This is an open jam session with our in house band The Headcases.  Everyone welcome to join in.
URL:https://cvhis.org/event/headcases-band-open-jam-session-2/2026-06-09/
END:VEVENT
BEGIN:VEVENT
DTSTART;TZID=America/Vancouver:20260616T133000
DTEND;TZID=America/Vancouver:20260616T143000
DTSTAMP:20260421T014115
CREATED:20250715T190922Z
LAST-MODIFIED:20251201T203242Z
UID:10012991-1781616600-1781620200@cvhis.org
SUMMARY:Headcases Band Open Jam Session
DESCRIPTION:This is an open jam session with our in house band The Headcases.  Everyone welcome to join in.
URL:https://cvhis.org/event/headcases-band-open-jam-session-2/2026-06-16/
END:VEVENT
BEGIN:VEVENT
DTSTART;TZID=America/Vancouver:20260623T133000
DTEND;TZID=America/Vancouver:20260623T143000
DTSTAMP:20260421T014115
CREATED:20250715T190922Z
LAST-MODIFIED:20251201T203242Z
UID:10012992-1782221400-1782225000@cvhis.org
SUMMARY:Headcases Band Open Jam Session
DESCRIPTION:This is an open jam session with our in house band The Headcases.  Everyone welcome to join in.
URL:https://cvhis.org/event/headcases-band-open-jam-session-2/2026-06-23/
END:VEVENT
BEGIN:VEVENT
DTSTART;TZID=America/Vancouver:20260630T133000
DTEND;TZID=America/Vancouver:20260630T143000
DTSTAMP:20260421T014115
CREATED:20250715T190922Z
LAST-MODIFIED:20251201T203242Z
UID:10012993-1782826200-1782829800@cvhis.org
SUMMARY:Headcases Band Open Jam Session
DESCRIPTION:This is an open jam session with our in house band The Headcases.  Everyone welcome to join in.
URL:https://cvhis.org/event/headcases-band-open-jam-session-2/2026-06-30/
END:VEVENT
BEGIN:VEVENT
DTSTART;TZID=America/Vancouver:20260707T133000
DTEND;TZID=America/Vancouver:20260707T143000
DTSTAMP:20260421T014115
CREATED:20250715T190922Z
LAST-MODIFIED:20251201T203242Z
UID:10012994-1783431000-1783434600@cvhis.org
SUMMARY:Headcases Band Open Jam Session
DESCRIPTION:This is an open jam session with our in house band The Headcases.  Everyone welcome to join in.
URL:https://cvhis.org/event/headcases-band-open-jam-session-2/2026-07-07/
END:VEVENT
BEGIN:VEVENT
DTSTART;TZID=America/Vancouver:20260714T133000
DTEND;TZID=America/Vancouver:20260714T143000
DTSTAMP:20260421T014115
CREATED:20250715T190922Z
LAST-MODIFIED:20251201T203242Z
UID:10012995-1784035800-1784039400@cvhis.org
SUMMARY:Headcases Band Open Jam Session
DESCRIPTION:This is an open jam session with our in house band The Headcases.  Everyone welcome to join in.
URL:https://cvhis.org/event/headcases-band-open-jam-session-2/2026-07-14/
END:VEVENT
BEGIN:VEVENT
DTSTART;TZID=America/Vancouver:20260721T133000
DTEND;TZID=America/Vancouver:20260721T143000
DTSTAMP:20260421T014115
CREATED:20250715T190922Z
LAST-MODIFIED:20251201T203242Z
UID:10012996-1784640600-1784644200@cvhis.org
SUMMARY:Headcases Band Open Jam Session
DESCRIPTION:This is an open jam session with our in house band The Headcases.  Everyone welcome to join in.
URL:https://cvhis.org/event/headcases-band-open-jam-session-2/2026-07-21/
END:VEVENT
BEGIN:VEVENT
DTSTART;TZID=America/Vancouver:20260728T133000
DTEND;TZID=America/Vancouver:20260728T143000
DTSTAMP:20260421T014115
CREATED:20250715T190922Z
LAST-MODIFIED:20251201T203242Z
UID:10012997-1785245400-1785249000@cvhis.org
SUMMARY:Headcases Band Open Jam Session
DESCRIPTION:This is an open jam session with our in house band The Headcases.  Everyone welcome to join in.
URL:https://cvhis.org/event/headcases-band-open-jam-session-2/2026-07-28/
END:VEVENT
BEGIN:VEVENT
DTSTART;TZID=America/Vancouver:20260804T133000
DTEND;TZID=America/Vancouver:20260804T143000
DTSTAMP:20260421T014115
CREATED:20250715T190922Z
LAST-MODIFIED:20251201T203242Z
UID:10012998-1785850200-1785853800@cvhis.org
SUMMARY:Headcases Band Open Jam Session
DESCRIPTION:This is an open jam session with our in house band The Headcases.  Everyone welcome to join in.
URL:https://cvhis.org/event/headcases-band-open-jam-session-2/2026-08-04/
END:VEVENT
BEGIN:VEVENT
DTSTART;TZID=America/Vancouver:20260811T133000
DTEND;TZID=America/Vancouver:20260811T143000
DTSTAMP:20260421T014115
CREATED:20250715T190922Z
LAST-MODIFIED:20251201T203242Z
UID:10012999-1786455000-1786458600@cvhis.org
SUMMARY:Headcases Band Open Jam Session
DESCRIPTION:This is an open jam session with our in house band The Headcases.  Everyone welcome to join in.
URL:https://cvhis.org/event/headcases-band-open-jam-session-2/2026-08-11/
END:VEVENT
BEGIN:VEVENT
DTSTART;TZID=America/Vancouver:20260818T133000
DTEND;TZID=America/Vancouver:20260818T143000
DTSTAMP:20260421T014115
CREATED:20250715T190922Z
LAST-MODIFIED:20251201T203242Z
UID:10013000-1787059800-1787063400@cvhis.org
SUMMARY:Headcases Band Open Jam Session
DESCRIPTION:This is an open jam session with our in house band The Headcases.  Everyone welcome to join in.
URL:https://cvhis.org/event/headcases-band-open-jam-session-2/2026-08-18/
END:VEVENT
BEGIN:VEVENT
DTSTART;TZID=America/Vancouver:20260825T133000
DTEND;TZID=America/Vancouver:20260825T143000
DTSTAMP:20260421T014115
CREATED:20250715T190922Z
LAST-MODIFIED:20251201T203242Z
UID:10013001-1787664600-1787668200@cvhis.org
SUMMARY:Headcases Band Open Jam Session
DESCRIPTION:This is an open jam session with our in house band The Headcases.  Everyone welcome to join in.
URL:https://cvhis.org/event/headcases-band-open-jam-session-2/2026-08-25/
END:VEVENT
BEGIN:VEVENT
DTSTART;TZID=America/Vancouver:20260901T133000
DTEND;TZID=America/Vancouver:20260901T143000
DTSTAMP:20260421T014115
CREATED:20250715T190922Z
LAST-MODIFIED:20251201T203242Z
UID:10013002-1788269400-1788273000@cvhis.org
SUMMARY:Headcases Band Open Jam Session
DESCRIPTION:This is an open jam session with our in house band The Headcases.  Everyone welcome to join in.
URL:https://cvhis.org/event/headcases-band-open-jam-session-2/2026-09-01/
END:VEVENT
BEGIN:VEVENT
DTSTART;TZID=America/Vancouver:20260908T133000
DTEND;TZID=America/Vancouver:20260908T143000
DTSTAMP:20260421T014115
CREATED:20250715T190922Z
LAST-MODIFIED:20251201T203242Z
UID:10013003-1788874200-1788877800@cvhis.org
SUMMARY:Headcases Band Open Jam Session
DESCRIPTION:This is an open jam session with our in house band The Headcases.  Everyone welcome to join in.
URL:https://cvhis.org/event/headcases-band-open-jam-session-2/2026-09-08/
END:VEVENT
BEGIN:VEVENT
DTSTART;TZID=America/Vancouver:20260915T133000
DTEND;TZID=America/Vancouver:20260915T143000
DTSTAMP:20260421T014115
CREATED:20250715T190922Z
LAST-MODIFIED:20251201T203242Z
UID:10013004-1789479000-1789482600@cvhis.org
SUMMARY:Headcases Band Open Jam Session
DESCRIPTION:This is an open jam session with our in house band The Headcases.  Everyone welcome to join in.
URL:https://cvhis.org/event/headcases-band-open-jam-session-2/2026-09-15/
END:VEVENT
BEGIN:VEVENT
DTSTART;TZID=America/Vancouver:20260922T133000
DTEND;TZID=America/Vancouver:20260922T143000
DTSTAMP:20260421T014115
CREATED:20250715T190922Z
LAST-MODIFIED:20251201T203242Z
UID:10013005-1790083800-1790087400@cvhis.org
SUMMARY:Headcases Band Open Jam Session
DESCRIPTION:This is an open jam session with our in house band The Headcases.  Everyone welcome to join in.
URL:https://cvhis.org/event/headcases-band-open-jam-session-2/2026-09-22/
END:VEVENT
BEGIN:VEVENT
DTSTART;TZID=America/Vancouver:20260929T133000
DTEND;TZID=America/Vancouver:20260929T143000
DTSTAMP:20260421T014115
CREATED:20250715T190922Z
LAST-MODIFIED:20251201T203242Z
UID:10013006-1790688600-1790692200@cvhis.org
SUMMARY:Headcases Band Open Jam Session
DESCRIPTION:This is an open jam session with our in house band The Headcases.  Everyone welcome to join in.
URL:https://cvhis.org/event/headcases-band-open-jam-session-2/2026-09-29/
END:VEVENT
BEGIN:VEVENT
DTSTART;TZID=America/Vancouver:20261006T133000
DTEND;TZID=America/Vancouver:20261006T143000
DTSTAMP:20260421T014115
CREATED:20250715T190922Z
LAST-MODIFIED:20251201T203242Z
UID:10013007-1791293400-1791297000@cvhis.org
SUMMARY:Headcases Band Open Jam Session
DESCRIPTION:This is an open jam session with our in house band The Headcases.  Everyone welcome to join in.
URL:https://cvhis.org/event/headcases-band-open-jam-session-2/2026-10-06/
END:VEVENT
BEGIN:VEVENT
DTSTART;TZID=America/Vancouver:20261013T133000
DTEND;TZID=America/Vancouver:20261013T143000
DTSTAMP:20260421T014115
CREATED:20250715T190922Z
LAST-MODIFIED:20251201T203242Z
UID:10013008-1791898200-1791901800@cvhis.org
SUMMARY:Headcases Band Open Jam Session
DESCRIPTION:This is an open jam session with our in house band The Headcases.  Everyone welcome to join in.
URL:https://cvhis.org/event/headcases-band-open-jam-session-2/2026-10-13/
END:VEVENT
BEGIN:VEVENT
DTSTART;TZID=America/Vancouver:20261020T133000
DTEND;TZID=America/Vancouver:20261020T143000
DTSTAMP:20260421T014115
CREATED:20250715T190922Z
LAST-MODIFIED:20251201T203242Z
UID:10013009-1792503000-1792506600@cvhis.org
SUMMARY:Headcases Band Open Jam Session
DESCRIPTION:This is an open jam session with our in house band The Headcases.  Everyone welcome to join in.
URL:https://cvhis.org/event/headcases-band-open-jam-session-2/2026-10-20/
END:VEVENT
BEGIN:VEVENT
DTSTART;TZID=America/Vancouver:20261027T133000
DTEND;TZID=America/Vancouver:20261027T143000
DTSTAMP:20260421T014115
CREATED:20250715T190922Z
LAST-MODIFIED:20251201T203242Z
UID:10013010-1793107800-1793111400@cvhis.org
SUMMARY:Headcases Band Open Jam Session
DESCRIPTION:This is an open jam session with our in house band The Headcases.  Everyone welcome to join in.
URL:https://cvhis.org/event/headcases-band-open-jam-session-2/2026-10-27/
END:VEVENT
BEGIN:VEVENT
DTSTART;TZID=America/Vancouver:20261103T133000
DTEND;TZID=America/Vancouver:20261103T143000
DTSTAMP:20260421T014115
CREATED:20250715T190922Z
LAST-MODIFIED:20251201T203242Z
UID:10013011-1793712600-1793716200@cvhis.org
SUMMARY:Headcases Band Open Jam Session
DESCRIPTION:This is an open jam session with our in house band The Headcases.  Everyone welcome to join in.
URL:https://cvhis.org/event/headcases-band-open-jam-session-2/2026-11-03/
END:VEVENT
BEGIN:VEVENT
DTSTART;TZID=America/Vancouver:20261110T133000
DTEND;TZID=America/Vancouver:20261110T143000
DTSTAMP:20260421T014115
CREATED:20250715T190922Z
LAST-MODIFIED:20251201T203242Z
UID:10013012-1794317400-1794321000@cvhis.org
SUMMARY:Headcases Band Open Jam Session
DESCRIPTION:This is an open jam session with our in house band The Headcases.  Everyone welcome to join in.
URL:https://cvhis.org/event/headcases-band-open-jam-session-2/2026-11-10/
END:VEVENT
END:VCALENDAR